BEGIN:VCALENDAR
VERSION:2.0
PRODID:-//Sri Sathya Sai Community Centre of British Columbia - ECPv6.15.20//NONSGML v1.0//EN
CALSCALE:GREGORIAN
METHOD:PUBLISH
X-ORIGINAL-URL:https://www.vancouversaicentre.org
X-WR-CALDESC:Events for Sri Sathya Sai Community Centre of British Columbia
REFRESH-INTERVAL;VALUE=DURATION:PT1H
X-Robots-Tag:noindex
X-PUBLISHED-TTL:PT1H
BEGIN:VTIMEZONE
TZID:America/Vancouver
BEGIN:DAYLIGHT
TZOFFSETFROM:-0800
TZOFFSETTO:-0700
TZNAME:PDT
DTSTART:20240310T100000
END:DAYLIGHT
BEGIN:STANDARD
TZOFFSETFROM:-0700
TZOFFSETTO:-0800
TZNAME:PST
DTSTART:20241103T090000
END:STANDARD
BEGIN:DAYLIGHT
TZOFFSETFROM:-0800
TZOFFSETTO:-0700
TZNAME:PDT
DTSTART:20250309T100000
END:DAYLIGHT
BEGIN:STANDARD
TZOFFSETFROM:-0700
TZOFFSETTO:-0800
TZNAME:PST
DTSTART:20251102T090000
END:STANDARD
BEGIN:DAYLIGHT
TZOFFSETFROM:-0800
TZOFFSETTO:-0700
TZNAME:PDT
DTSTART:20260308T100000
END:DAYLIGHT
BEGIN:STANDARD
TZOFFSETFROM:-0700
TZOFFSETTO:-0800
TZNAME:PST
DTSTART:20261101T090000
END:STANDARD
END:VTIMEZONE
BEGIN:VEVENT
DTSTART;TZID=America/Vancouver:20250201T090000
DTEND;TZID=America/Vancouver:20250201T100000
DTSTAMP:20260424T041636
CREATED:20250103T181815Z
LAST-MODIFIED:20250103T181815Z
UID:10001951-1738400400-1738404000@www.vancouversaicentre.org
SUMMARY:Study Circle (Zoom)
DESCRIPTION:
URL:https://www.vancouversaicentre.org/event/study-circle-zoom-3/2025-02-01/
LOCATION:BC
END:VEVENT
BEGIN:VEVENT
DTSTART;TZID=America/Vancouver:20250201T110000
DTEND;TZID=America/Vancouver:20250201T120000
DTSTAMP:20260424T041636
CREATED:20241101T190143Z
LAST-MODIFIED:20241101T193902Z
UID:10000579-1738407600-1738411200@www.vancouversaicentre.org
SUMMARY:Open House
DESCRIPTION:
URL:https://www.vancouversaicentre.org/event/open-house-2/2025-02-01/
LOCATION:Sri Sathya Sai Centre of BC\, 2215\, E Pender St\, Vancouver\, BC\, V5L1X5\, Canada
END:VEVENT
BEGIN:VEVENT
DTSTART;TZID=America/Vancouver:20250201T203000
DTEND;TZID=America/Vancouver:20250201T211500
DTSTAMP:20260424T041636
CREATED:20250103T183727Z
LAST-MODIFIED:20250103T183800Z
UID:10002041-1738441800-1738444500@www.vancouversaicentre.org
SUMMARY:Vedam with Br. Srinivas (Zoom)
DESCRIPTION:
URL:https://www.vancouversaicentre.org/event/vedam-with-br-srinivas-zoom-3/2025-02-01/
LOCATION:BC
END:VEVENT
BEGIN:VEVENT
DTSTART;TZID=America/Vancouver:20250202T110000
DTEND;TZID=America/Vancouver:20250202T123000
DTSTAMP:20260424T041636
CREATED:20241101T192102Z
LAST-MODIFIED:20241101T192243Z
UID:10000849-1738494000-1738499400@www.vancouversaicentre.org
SUMMARY:SSE Class
DESCRIPTION:
URL:https://www.vancouversaicentre.org/event/sse-class/2025-02-02/
LOCATION:BC
END:VEVENT
BEGIN:VEVENT
DTSTART;TZID=America/Vancouver:20250204T200000
DTEND;TZID=America/Vancouver:20250204T210000
DTSTAMP:20260424T041636
CREATED:20250103T184334Z
LAST-MODIFIED:20250103T184334Z
UID:10002064-1738699200-1738702800@www.vancouversaicentre.org
SUMMARY:Collective Reading of Spiritual Literature (Zoom)
DESCRIPTION:
URL:https://www.vancouversaicentre.org/event/collective-reading-of-spiritual-literature-zoom-2/2025-02-04/
LOCATION:BC
END:VEVENT
BEGIN:VEVENT
DTSTART;TZID=America/Vancouver:20250205T190000
DTEND;TZID=America/Vancouver:20250205T200000
DTSTAMP:20260424T041636
CREATED:20241101T193346Z
LAST-MODIFIED:20241101T193346Z
UID:10001116-1738782000-1738785600@www.vancouversaicentre.org
SUMMARY:Self Study Hub (Zoom)
DESCRIPTION:
URL:https://www.vancouversaicentre.org/event/self-study-hub-zoom/2025-02-05/
LOCATION:BC
END:VEVENT
BEGIN:VEVENT
DTSTART;TZID=America/Vancouver:20250206T193000
DTEND;TZID=America/Vancouver:20250206T203000
DTSTAMP:20260424T041636
CREATED:20241101T193517Z
LAST-MODIFIED:20251224T050956Z
UID:10001377-1738870200-1738873800@www.vancouversaicentre.org
SUMMARY:Thursday Bhajan
DESCRIPTION:
URL:https://www.vancouversaicentre.org/event/thursday-bhajan-2/2025-02-06/
LOCATION:BC
END:VEVENT
BEGIN:VEVENT
DTSTART;TZID=America/Vancouver:20250207T190000
DTEND;TZID=America/Vancouver:20250207T200000
DTSTAMP:20260424T041636
CREATED:20250103T070816Z
LAST-MODIFIED:20250103T172707Z
UID:10001904-1738954800-1738958400@www.vancouversaicentre.org
SUMMARY:Rudram with Br. Sudhaker (Zoom)
DESCRIPTION:
URL:https://www.vancouversaicentre.org/event/rudram-with-br-sudhaker/2025-02-07/
LOCATION:BC
END:VEVENT
BEGIN:VEVENT
DTSTART;TZID=America/Vancouver:20250208T090000
DTEND;TZID=America/Vancouver:20250208T100000
DTSTAMP:20260424T041636
CREATED:20250103T181815Z
LAST-MODIFIED:20250103T181815Z
UID:10001952-1739005200-1739008800@www.vancouversaicentre.org
SUMMARY:Study Circle (Zoom)
DESCRIPTION:
URL:https://www.vancouversaicentre.org/event/study-circle-zoom-3/2025-02-08/
LOCATION:BC
END:VEVENT
BEGIN:VEVENT
DTSTART;TZID=America/Vancouver:20250208T110000
DTEND;TZID=America/Vancouver:20250208T120000
DTSTAMP:20260424T041636
CREATED:20241101T190143Z
LAST-MODIFIED:20241101T193902Z
UID:10000580-1739012400-1739016000@www.vancouversaicentre.org
SUMMARY:Open House
DESCRIPTION:
URL:https://www.vancouversaicentre.org/event/open-house-2/2025-02-08/
LOCATION:Sri Sathya Sai Centre of BC\, 2215\, E Pender St\, Vancouver\, BC\, V5L1X5\, Canada
END:VEVENT
BEGIN:VEVENT
DTSTART;TZID=America/Vancouver:20250208T203000
DTEND;TZID=America/Vancouver:20250208T211500
DTSTAMP:20260424T041636
CREATED:20250103T183727Z
LAST-MODIFIED:20250103T183800Z
UID:10002042-1739046600-1739049300@www.vancouversaicentre.org
SUMMARY:Vedam with Br. Srinivas (Zoom)
DESCRIPTION:
URL:https://www.vancouversaicentre.org/event/vedam-with-br-srinivas-zoom-3/2025-02-08/
LOCATION:BC
END:VEVENT
BEGIN:VEVENT
DTSTART;TZID=America/Vancouver:20250209T110000
DTEND;TZID=America/Vancouver:20250209T123000
DTSTAMP:20260424T041636
CREATED:20241101T192102Z
LAST-MODIFIED:20241101T192243Z
UID:10000850-1739098800-1739104200@www.vancouversaicentre.org
SUMMARY:SSE Class
DESCRIPTION:
URL:https://www.vancouversaicentre.org/event/sse-class/2025-02-09/
LOCATION:BC
END:VEVENT
BEGIN:VEVENT
DTSTART;TZID=America/Vancouver:20250211T200000
DTEND;TZID=America/Vancouver:20250211T210000
DTSTAMP:20260424T041636
CREATED:20250103T184334Z
LAST-MODIFIED:20250103T184334Z
UID:10002065-1739304000-1739307600@www.vancouversaicentre.org
SUMMARY:Collective Reading of Spiritual Literature (Zoom)
DESCRIPTION:
URL:https://www.vancouversaicentre.org/event/collective-reading-of-spiritual-literature-zoom-2/2025-02-11/
LOCATION:BC
END:VEVENT
BEGIN:VEVENT
DTSTART;TZID=America/Vancouver:20250212T190000
DTEND;TZID=America/Vancouver:20250212T200000
DTSTAMP:20260424T041636
CREATED:20241101T193346Z
LAST-MODIFIED:20241101T193346Z
UID:10001117-1739386800-1739390400@www.vancouversaicentre.org
SUMMARY:Self Study Hub (Zoom)
DESCRIPTION:
URL:https://www.vancouversaicentre.org/event/self-study-hub-zoom/2025-02-12/
LOCATION:BC
END:VEVENT
BEGIN:VEVENT
DTSTART;TZID=America/Vancouver:20250213T193000
DTEND;TZID=America/Vancouver:20250213T203000
DTSTAMP:20260424T041636
CREATED:20241101T193517Z
LAST-MODIFIED:20251224T050956Z
UID:10001378-1739475000-1739478600@www.vancouversaicentre.org
SUMMARY:Thursday Bhajan
DESCRIPTION:
URL:https://www.vancouversaicentre.org/event/thursday-bhajan-2/2025-02-13/
LOCATION:BC
END:VEVENT
BEGIN:VEVENT
DTSTART;TZID=America/Vancouver:20250214T190000
DTEND;TZID=America/Vancouver:20250214T200000
DTSTAMP:20260424T041636
CREATED:20250103T070816Z
LAST-MODIFIED:20250103T172707Z
UID:10001905-1739559600-1739563200@www.vancouversaicentre.org
SUMMARY:Rudram with Br. Sudhaker (Zoom)
DESCRIPTION:
URL:https://www.vancouversaicentre.org/event/rudram-with-br-sudhaker/2025-02-14/
LOCATION:BC
END:VEVENT
BEGIN:VEVENT
DTSTART;TZID=America/Vancouver:20250215T090000
DTEND;TZID=America/Vancouver:20250215T100000
DTSTAMP:20260424T041636
CREATED:20250103T181815Z
LAST-MODIFIED:20250103T181815Z
UID:10001953-1739610000-1739613600@www.vancouversaicentre.org
SUMMARY:Study Circle (Zoom)
DESCRIPTION:
URL:https://www.vancouversaicentre.org/event/study-circle-zoom-3/2025-02-15/
LOCATION:BC
END:VEVENT
BEGIN:VEVENT
DTSTART;TZID=America/Vancouver:20250215T110000
DTEND;TZID=America/Vancouver:20250215T120000
DTSTAMP:20260424T041636
CREATED:20241101T190143Z
LAST-MODIFIED:20241101T193902Z
UID:10000581-1739617200-1739620800@www.vancouversaicentre.org
SUMMARY:Open House
DESCRIPTION:
URL:https://www.vancouversaicentre.org/event/open-house-2/2025-02-15/
LOCATION:Sri Sathya Sai Centre of BC\, 2215\, E Pender St\, Vancouver\, BC\, V5L1X5\, Canada
END:VEVENT
BEGIN:VEVENT
DTSTART;TZID=America/Vancouver:20250215T203000
DTEND;TZID=America/Vancouver:20250215T211500
DTSTAMP:20260424T041636
CREATED:20250103T183727Z
LAST-MODIFIED:20250103T183800Z
UID:10002043-1739651400-1739654100@www.vancouversaicentre.org
SUMMARY:Vedam with Br. Srinivas (Zoom)
DESCRIPTION:
URL:https://www.vancouversaicentre.org/event/vedam-with-br-srinivas-zoom-3/2025-02-15/
LOCATION:BC
END:VEVENT
BEGIN:VEVENT
DTSTART;TZID=America/Vancouver:20250216T110000
DTEND;TZID=America/Vancouver:20250216T123000
DTSTAMP:20260424T041636
CREATED:20241101T192102Z
LAST-MODIFIED:20241101T192243Z
UID:10000851-1739703600-1739709000@www.vancouversaicentre.org
SUMMARY:SSE Class
DESCRIPTION:
URL:https://www.vancouversaicentre.org/event/sse-class/2025-02-16/
LOCATION:BC
END:VEVENT
BEGIN:VEVENT
DTSTART;TZID=America/Vancouver:20250218T200000
DTEND;TZID=America/Vancouver:20250218T210000
DTSTAMP:20260424T041636
CREATED:20250103T184334Z
LAST-MODIFIED:20250103T184334Z
UID:10002066-1739908800-1739912400@www.vancouversaicentre.org
SUMMARY:Collective Reading of Spiritual Literature (Zoom)
DESCRIPTION:
URL:https://www.vancouversaicentre.org/event/collective-reading-of-spiritual-literature-zoom-2/2025-02-18/
LOCATION:BC
END:VEVENT
BEGIN:VEVENT
DTSTART;TZID=America/Vancouver:20250219T190000
DTEND;TZID=America/Vancouver:20250219T200000
DTSTAMP:20260424T041636
CREATED:20241101T193346Z
LAST-MODIFIED:20241101T193346Z
UID:10001118-1739991600-1739995200@www.vancouversaicentre.org
SUMMARY:Self Study Hub (Zoom)
DESCRIPTION:
URL:https://www.vancouversaicentre.org/event/self-study-hub-zoom/2025-02-19/
LOCATION:BC
END:VEVENT
BEGIN:VEVENT
DTSTART;TZID=America/Vancouver:20250220T193000
DTEND;TZID=America/Vancouver:20250220T203000
DTSTAMP:20260424T041636
CREATED:20241101T193517Z
LAST-MODIFIED:20251224T050956Z
UID:10001379-1740079800-1740083400@www.vancouversaicentre.org
SUMMARY:Thursday Bhajan
DESCRIPTION:
URL:https://www.vancouversaicentre.org/event/thursday-bhajan-2/2025-02-20/
LOCATION:BC
END:VEVENT
BEGIN:VEVENT
DTSTART;TZID=America/Vancouver:20250221T190000
DTEND;TZID=America/Vancouver:20250221T200000
DTSTAMP:20260424T041636
CREATED:20250103T070816Z
LAST-MODIFIED:20250103T172707Z
UID:10001906-1740164400-1740168000@www.vancouversaicentre.org
SUMMARY:Rudram with Br. Sudhaker (Zoom)
DESCRIPTION:
URL:https://www.vancouversaicentre.org/event/rudram-with-br-sudhaker/2025-02-21/
LOCATION:BC
END:VEVENT
BEGIN:VEVENT
DTSTART;TZID=America/Vancouver:20250222T090000
DTEND;TZID=America/Vancouver:20250222T100000
DTSTAMP:20260424T041636
CREATED:20250103T181815Z
LAST-MODIFIED:20250103T181815Z
UID:10001954-1740214800-1740218400@www.vancouversaicentre.org
SUMMARY:Study Circle (Zoom)
DESCRIPTION:
URL:https://www.vancouversaicentre.org/event/study-circle-zoom-3/2025-02-22/
LOCATION:BC
END:VEVENT
BEGIN:VEVENT
DTSTART;TZID=America/Vancouver:20250222T110000
DTEND;TZID=America/Vancouver:20250222T120000
DTSTAMP:20260424T041636
CREATED:20241101T190143Z
LAST-MODIFIED:20241101T193902Z
UID:10000582-1740222000-1740225600@www.vancouversaicentre.org
SUMMARY:Open House
DESCRIPTION:
URL:https://www.vancouversaicentre.org/event/open-house-2/2025-02-22/
LOCATION:Sri Sathya Sai Centre of BC\, 2215\, E Pender St\, Vancouver\, BC\, V5L1X5\, Canada
END:VEVENT
BEGIN:VEVENT
DTSTART;TZID=America/Vancouver:20250222T203000
DTEND;TZID=America/Vancouver:20250222T211500
DTSTAMP:20260424T041636
CREATED:20250103T183727Z
LAST-MODIFIED:20250103T183800Z
UID:10002044-1740256200-1740258900@www.vancouversaicentre.org
SUMMARY:Vedam with Br. Srinivas (Zoom)
DESCRIPTION:
URL:https://www.vancouversaicentre.org/event/vedam-with-br-srinivas-zoom-3/2025-02-22/
LOCATION:BC
END:VEVENT
BEGIN:VEVENT
DTSTART;TZID=America/Vancouver:20250223T110000
DTEND;TZID=America/Vancouver:20250223T123000
DTSTAMP:20260424T041636
CREATED:20241101T192102Z
LAST-MODIFIED:20241101T192243Z
UID:10000852-1740308400-1740313800@www.vancouversaicentre.org
SUMMARY:SSE Class
DESCRIPTION:
URL:https://www.vancouversaicentre.org/event/sse-class/2025-02-23/
LOCATION:BC
END:VEVENT
BEGIN:VEVENT
DTSTART;TZID=America/Vancouver:20250225T200000
DTEND;TZID=America/Vancouver:20250225T210000
DTSTAMP:20260424T041636
CREATED:20250103T184334Z
LAST-MODIFIED:20250103T184334Z
UID:10002067-1740513600-1740517200@www.vancouversaicentre.org
SUMMARY:Collective Reading of Spiritual Literature (Zoom)
DESCRIPTION:
URL:https://www.vancouversaicentre.org/event/collective-reading-of-spiritual-literature-zoom-2/2025-02-25/
LOCATION:BC
END:VEVENT
BEGIN:VEVENT
DTSTART;TZID=America/Vancouver:20250226T190000
DTEND;TZID=America/Vancouver:20250226T200000
DTSTAMP:20260424T041636
CREATED:20241101T193346Z
LAST-MODIFIED:20241101T193346Z
UID:10001119-1740596400-1740600000@www.vancouversaicentre.org
SUMMARY:Self Study Hub (Zoom)
DESCRIPTION:
URL:https://www.vancouversaicentre.org/event/self-study-hub-zoom/2025-02-26/
LOCATION:BC
END:VEVENT
END:VCALENDAR