BEGIN:VCALENDAR
VERSION:2.0
PRODID:-//Sri Sathya Sai Community Centre of British Columbia - ECPv6.15.20//NONSGML v1.0//EN
CALSCALE:GREGORIAN
METHOD:PUBLISH
X-ORIGINAL-URL:https://www.vancouversaicentre.org
X-WR-CALDESC:Events for Sri Sathya Sai Community Centre of British Columbia
REFRESH-INTERVAL;VALUE=DURATION:PT1H
X-Robots-Tag:noindex
X-PUBLISHED-TTL:PT1H
BEGIN:VTIMEZONE
TZID:America/Vancouver
BEGIN:DAYLIGHT
TZOFFSETFROM:-0800
TZOFFSETTO:-0700
TZNAME:PDT
DTSTART:20240310T100000
END:DAYLIGHT
BEGIN:STANDARD
TZOFFSETFROM:-0700
TZOFFSETTO:-0800
TZNAME:PST
DTSTART:20241103T090000
END:STANDARD
BEGIN:DAYLIGHT
TZOFFSETFROM:-0800
TZOFFSETTO:-0700
TZNAME:PDT
DTSTART:20250309T100000
END:DAYLIGHT
BEGIN:STANDARD
TZOFFSETFROM:-0700
TZOFFSETTO:-0800
TZNAME:PST
DTSTART:20251102T090000
END:STANDARD
BEGIN:DAYLIGHT
TZOFFSETFROM:-0800
TZOFFSETTO:-0700
TZNAME:PDT
DTSTART:20260308T100000
END:DAYLIGHT
BEGIN:STANDARD
TZOFFSETFROM:-0700
TZOFFSETTO:-0800
TZNAME:PST
DTSTART:20261101T090000
END:STANDARD
END:VTIMEZONE
BEGIN:VEVENT
DTSTART;TZID=America/Vancouver:20250301T090000
DTEND;TZID=America/Vancouver:20250301T100000
DTSTAMP:20260424T023743
CREATED:20250103T181815Z
LAST-MODIFIED:20250103T181815Z
UID:10001955-1740819600-1740823200@www.vancouversaicentre.org
SUMMARY:Study Circle (Zoom)
DESCRIPTION:
URL:https://www.vancouversaicentre.org/event/study-circle-zoom-3/2025-03-01/
LOCATION:BC
END:VEVENT
BEGIN:VEVENT
DTSTART;TZID=America/Vancouver:20250301T110000
DTEND;TZID=America/Vancouver:20250301T120000
DTSTAMP:20260424T023743
CREATED:20241101T190143Z
LAST-MODIFIED:20241101T193902Z
UID:10000583-1740826800-1740830400@www.vancouversaicentre.org
SUMMARY:Open House
DESCRIPTION:
URL:https://www.vancouversaicentre.org/event/open-house-2/2025-03-01/
LOCATION:Sri Sathya Sai Centre of BC\, 2215\, E Pender St\, Vancouver\, BC\, V5L1X5\, Canada
END:VEVENT
BEGIN:VEVENT
DTSTART;TZID=America/Vancouver:20250301T203000
DTEND;TZID=America/Vancouver:20250301T211500
DTSTAMP:20260424T023743
CREATED:20250103T183727Z
LAST-MODIFIED:20250103T183800Z
UID:10002045-1740861000-1740863700@www.vancouversaicentre.org
SUMMARY:Vedam with Br. Srinivas (Zoom)
DESCRIPTION:
URL:https://www.vancouversaicentre.org/event/vedam-with-br-srinivas-zoom-3/2025-03-01/
LOCATION:BC
END:VEVENT
BEGIN:VEVENT
DTSTART;TZID=America/Vancouver:20250302T110000
DTEND;TZID=America/Vancouver:20250302T123000
DTSTAMP:20260424T023743
CREATED:20241101T192102Z
LAST-MODIFIED:20241101T192243Z
UID:10000853-1740913200-1740918600@www.vancouversaicentre.org
SUMMARY:SSE Class
DESCRIPTION:
URL:https://www.vancouversaicentre.org/event/sse-class/2025-03-02/
LOCATION:BC
END:VEVENT
BEGIN:VEVENT
DTSTART;TZID=America/Vancouver:20250304T200000
DTEND;TZID=America/Vancouver:20250304T210000
DTSTAMP:20260424T023743
CREATED:20250103T184334Z
LAST-MODIFIED:20250103T184334Z
UID:10002068-1741118400-1741122000@www.vancouversaicentre.org
SUMMARY:Collective Reading of Spiritual Literature (Zoom)
DESCRIPTION:
URL:https://www.vancouversaicentre.org/event/collective-reading-of-spiritual-literature-zoom-2/2025-03-04/
LOCATION:BC
END:VEVENT
BEGIN:VEVENT
DTSTART;TZID=America/Vancouver:20250305T190000
DTEND;TZID=America/Vancouver:20250305T200000
DTSTAMP:20260424T023743
CREATED:20241101T193346Z
LAST-MODIFIED:20241101T193346Z
UID:10001120-1741201200-1741204800@www.vancouversaicentre.org
SUMMARY:Self Study Hub (Zoom)
DESCRIPTION:
URL:https://www.vancouversaicentre.org/event/self-study-hub-zoom/2025-03-05/
LOCATION:BC
END:VEVENT
BEGIN:VEVENT
DTSTART;TZID=America/Vancouver:20250306T193000
DTEND;TZID=America/Vancouver:20250306T203000
DTSTAMP:20260424T023743
CREATED:20241101T193517Z
LAST-MODIFIED:20251224T050956Z
UID:10001381-1741289400-1741293000@www.vancouversaicentre.org
SUMMARY:Thursday Bhajan
DESCRIPTION:
URL:https://www.vancouversaicentre.org/event/thursday-bhajan-2/2025-03-06/
LOCATION:BC
END:VEVENT
BEGIN:VEVENT
DTSTART;TZID=America/Vancouver:20250307T190000
DTEND;TZID=America/Vancouver:20250307T200000
DTSTAMP:20260424T023743
CREATED:20250103T070816Z
LAST-MODIFIED:20250103T172707Z
UID:10001908-1741374000-1741377600@www.vancouversaicentre.org
SUMMARY:Rudram with Br. Sudhaker (Zoom)
DESCRIPTION:
URL:https://www.vancouversaicentre.org/event/rudram-with-br-sudhaker/2025-03-07/
LOCATION:BC
END:VEVENT
BEGIN:VEVENT
DTSTART;TZID=America/Vancouver:20250308T090000
DTEND;TZID=America/Vancouver:20250308T100000
DTSTAMP:20260424T023743
CREATED:20250103T181815Z
LAST-MODIFIED:20250103T181815Z
UID:10001956-1741424400-1741428000@www.vancouversaicentre.org
SUMMARY:Study Circle (Zoom)
DESCRIPTION:
URL:https://www.vancouversaicentre.org/event/study-circle-zoom-3/2025-03-08/
LOCATION:BC
END:VEVENT
BEGIN:VEVENT
DTSTART;TZID=America/Vancouver:20250308T110000
DTEND;TZID=America/Vancouver:20250308T120000
DTSTAMP:20260424T023743
CREATED:20241101T190143Z
LAST-MODIFIED:20241101T193902Z
UID:10000584-1741431600-1741435200@www.vancouversaicentre.org
SUMMARY:Open House
DESCRIPTION:
URL:https://www.vancouversaicentre.org/event/open-house-2/2025-03-08/
LOCATION:Sri Sathya Sai Centre of BC\, 2215\, E Pender St\, Vancouver\, BC\, V5L1X5\, Canada
END:VEVENT
BEGIN:VEVENT
DTSTART;TZID=America/Vancouver:20250308T203000
DTEND;TZID=America/Vancouver:20250308T211500
DTSTAMP:20260424T023743
CREATED:20250103T183727Z
LAST-MODIFIED:20250103T183800Z
UID:10002046-1741465800-1741468500@www.vancouversaicentre.org
SUMMARY:Vedam with Br. Srinivas (Zoom)
DESCRIPTION:
URL:https://www.vancouversaicentre.org/event/vedam-with-br-srinivas-zoom-3/2025-03-08/
LOCATION:BC
END:VEVENT
BEGIN:VEVENT
DTSTART;TZID=America/Vancouver:20250309T110000
DTEND;TZID=America/Vancouver:20250309T123000
DTSTAMP:20260424T023743
CREATED:20241101T192102Z
LAST-MODIFIED:20241101T192243Z
UID:10000854-1741518000-1741523400@www.vancouversaicentre.org
SUMMARY:SSE Class
DESCRIPTION:
URL:https://www.vancouversaicentre.org/event/sse-class/2025-03-09/
LOCATION:BC
END:VEVENT
BEGIN:VEVENT
DTSTART;TZID=America/Vancouver:20250311T200000
DTEND;TZID=America/Vancouver:20250311T210000
DTSTAMP:20260424T023743
CREATED:20250103T184334Z
LAST-MODIFIED:20250103T184334Z
UID:10002069-1741723200-1741726800@www.vancouversaicentre.org
SUMMARY:Collective Reading of Spiritual Literature (Zoom)
DESCRIPTION:
URL:https://www.vancouversaicentre.org/event/collective-reading-of-spiritual-literature-zoom-2/2025-03-11/
LOCATION:BC
END:VEVENT
BEGIN:VEVENT
DTSTART;TZID=America/Vancouver:20250312T190000
DTEND;TZID=America/Vancouver:20250312T200000
DTSTAMP:20260424T023743
CREATED:20241101T193346Z
LAST-MODIFIED:20241101T193346Z
UID:10001121-1741806000-1741809600@www.vancouversaicentre.org
SUMMARY:Self Study Hub (Zoom)
DESCRIPTION:
URL:https://www.vancouversaicentre.org/event/self-study-hub-zoom/2025-03-12/
LOCATION:BC
END:VEVENT
BEGIN:VEVENT
DTSTART;TZID=America/Vancouver:20250313T193000
DTEND;TZID=America/Vancouver:20250313T203000
DTSTAMP:20260424T023743
CREATED:20241101T193517Z
LAST-MODIFIED:20251224T050956Z
UID:10001382-1741894200-1741897800@www.vancouversaicentre.org
SUMMARY:Thursday Bhajan
DESCRIPTION:
URL:https://www.vancouversaicentre.org/event/thursday-bhajan-2/2025-03-13/
LOCATION:BC
END:VEVENT
BEGIN:VEVENT
DTSTART;TZID=America/Vancouver:20250314T190000
DTEND;TZID=America/Vancouver:20250314T200000
DTSTAMP:20260424T023743
CREATED:20250103T070816Z
LAST-MODIFIED:20250103T172707Z
UID:10001909-1741978800-1741982400@www.vancouversaicentre.org
SUMMARY:Rudram with Br. Sudhaker (Zoom)
DESCRIPTION:
URL:https://www.vancouversaicentre.org/event/rudram-with-br-sudhaker/2025-03-14/
LOCATION:BC
END:VEVENT
BEGIN:VEVENT
DTSTART;TZID=America/Vancouver:20250315T090000
DTEND;TZID=America/Vancouver:20250315T100000
DTSTAMP:20260424T023743
CREATED:20250103T181815Z
LAST-MODIFIED:20250103T181815Z
UID:10001957-1742029200-1742032800@www.vancouversaicentre.org
SUMMARY:Study Circle (Zoom)
DESCRIPTION:
URL:https://www.vancouversaicentre.org/event/study-circle-zoom-3/2025-03-15/
LOCATION:BC
END:VEVENT
BEGIN:VEVENT
DTSTART;TZID=America/Vancouver:20250315T110000
DTEND;TZID=America/Vancouver:20250315T120000
DTSTAMP:20260424T023743
CREATED:20241101T190143Z
LAST-MODIFIED:20241101T193902Z
UID:10000585-1742036400-1742040000@www.vancouversaicentre.org
SUMMARY:Open House
DESCRIPTION:
URL:https://www.vancouversaicentre.org/event/open-house-2/2025-03-15/
LOCATION:Sri Sathya Sai Centre of BC\, 2215\, E Pender St\, Vancouver\, BC\, V5L1X5\, Canada
END:VEVENT
BEGIN:VEVENT
DTSTART;TZID=America/Vancouver:20250315T203000
DTEND;TZID=America/Vancouver:20250315T211500
DTSTAMP:20260424T023743
CREATED:20250103T183727Z
LAST-MODIFIED:20250103T183800Z
UID:10002047-1742070600-1742073300@www.vancouversaicentre.org
SUMMARY:Vedam with Br. Srinivas (Zoom)
DESCRIPTION:
URL:https://www.vancouversaicentre.org/event/vedam-with-br-srinivas-zoom-3/2025-03-15/
LOCATION:BC
END:VEVENT
BEGIN:VEVENT
DTSTART;TZID=America/Vancouver:20250316T110000
DTEND;TZID=America/Vancouver:20250316T123000
DTSTAMP:20260424T023743
CREATED:20241101T192102Z
LAST-MODIFIED:20241101T192243Z
UID:10000855-1742122800-1742128200@www.vancouversaicentre.org
SUMMARY:SSE Class
DESCRIPTION:
URL:https://www.vancouversaicentre.org/event/sse-class/2025-03-16/
LOCATION:BC
END:VEVENT
BEGIN:VEVENT
DTSTART;TZID=America/Vancouver:20250318T200000
DTEND;TZID=America/Vancouver:20250318T210000
DTSTAMP:20260424T023743
CREATED:20250103T184334Z
LAST-MODIFIED:20250103T184334Z
UID:10002070-1742328000-1742331600@www.vancouversaicentre.org
SUMMARY:Collective Reading of Spiritual Literature (Zoom)
DESCRIPTION:
URL:https://www.vancouversaicentre.org/event/collective-reading-of-spiritual-literature-zoom-2/2025-03-18/
LOCATION:BC
END:VEVENT
BEGIN:VEVENT
DTSTART;TZID=America/Vancouver:20250319T190000
DTEND;TZID=America/Vancouver:20250319T200000
DTSTAMP:20260424T023743
CREATED:20241101T193346Z
LAST-MODIFIED:20241101T193346Z
UID:10001122-1742410800-1742414400@www.vancouversaicentre.org
SUMMARY:Self Study Hub (Zoom)
DESCRIPTION:
URL:https://www.vancouversaicentre.org/event/self-study-hub-zoom/2025-03-19/
LOCATION:BC
END:VEVENT
BEGIN:VEVENT
DTSTART;TZID=America/Vancouver:20250320T193000
DTEND;TZID=America/Vancouver:20250320T203000
DTSTAMP:20260424T023743
CREATED:20241101T193517Z
LAST-MODIFIED:20251224T050956Z
UID:10001383-1742499000-1742502600@www.vancouversaicentre.org
SUMMARY:Thursday Bhajan
DESCRIPTION:
URL:https://www.vancouversaicentre.org/event/thursday-bhajan-2/2025-03-20/
LOCATION:BC
END:VEVENT
BEGIN:VEVENT
DTSTART;TZID=America/Vancouver:20250321T190000
DTEND;TZID=America/Vancouver:20250321T200000
DTSTAMP:20260424T023743
CREATED:20250103T070816Z
LAST-MODIFIED:20250103T172707Z
UID:10001910-1742583600-1742587200@www.vancouversaicentre.org
SUMMARY:Rudram with Br. Sudhaker (Zoom)
DESCRIPTION:
URL:https://www.vancouversaicentre.org/event/rudram-with-br-sudhaker/2025-03-21/
LOCATION:BC
END:VEVENT
BEGIN:VEVENT
DTSTART;TZID=America/Vancouver:20250322T090000
DTEND;TZID=America/Vancouver:20250322T100000
DTSTAMP:20260424T023743
CREATED:20250103T181815Z
LAST-MODIFIED:20250103T181815Z
UID:10001958-1742634000-1742637600@www.vancouversaicentre.org
SUMMARY:Study Circle (Zoom)
DESCRIPTION:
URL:https://www.vancouversaicentre.org/event/study-circle-zoom-3/2025-03-22/
LOCATION:BC
END:VEVENT
BEGIN:VEVENT
DTSTART;TZID=America/Vancouver:20250322T110000
DTEND;TZID=America/Vancouver:20250322T120000
DTSTAMP:20260424T023743
CREATED:20241101T190143Z
LAST-MODIFIED:20241101T193902Z
UID:10000586-1742641200-1742644800@www.vancouversaicentre.org
SUMMARY:Open House
DESCRIPTION:
URL:https://www.vancouversaicentre.org/event/open-house-2/2025-03-22/
LOCATION:Sri Sathya Sai Centre of BC\, 2215\, E Pender St\, Vancouver\, BC\, V5L1X5\, Canada
END:VEVENT
BEGIN:VEVENT
DTSTART;TZID=America/Vancouver:20250322T203000
DTEND;TZID=America/Vancouver:20250322T211500
DTSTAMP:20260424T023743
CREATED:20250103T183727Z
LAST-MODIFIED:20250103T183800Z
UID:10002048-1742675400-1742678100@www.vancouversaicentre.org
SUMMARY:Vedam with Br. Srinivas (Zoom)
DESCRIPTION:
URL:https://www.vancouversaicentre.org/event/vedam-with-br-srinivas-zoom-3/2025-03-22/
LOCATION:BC
END:VEVENT
BEGIN:VEVENT
DTSTART;TZID=America/Vancouver:20250323T110000
DTEND;TZID=America/Vancouver:20250323T123000
DTSTAMP:20260424T023743
CREATED:20241101T192102Z
LAST-MODIFIED:20241101T192243Z
UID:10000856-1742727600-1742733000@www.vancouversaicentre.org
SUMMARY:SSE Class
DESCRIPTION:
URL:https://www.vancouversaicentre.org/event/sse-class/2025-03-23/
LOCATION:BC
END:VEVENT
BEGIN:VEVENT
DTSTART;TZID=America/Vancouver:20250325T200000
DTEND;TZID=America/Vancouver:20250325T210000
DTSTAMP:20260424T023743
CREATED:20250103T184334Z
LAST-MODIFIED:20250103T184334Z
UID:10002071-1742932800-1742936400@www.vancouversaicentre.org
SUMMARY:Collective Reading of Spiritual Literature (Zoom)
DESCRIPTION:
URL:https://www.vancouversaicentre.org/event/collective-reading-of-spiritual-literature-zoom-2/2025-03-25/
LOCATION:BC
END:VEVENT
BEGIN:VEVENT
DTSTART;TZID=America/Vancouver:20250326T190000
DTEND;TZID=America/Vancouver:20250326T200000
DTSTAMP:20260424T023743
CREATED:20241101T193346Z
LAST-MODIFIED:20241101T193346Z
UID:10001123-1743015600-1743019200@www.vancouversaicentre.org
SUMMARY:Self Study Hub (Zoom)
DESCRIPTION:
URL:https://www.vancouversaicentre.org/event/self-study-hub-zoom/2025-03-26/
LOCATION:BC
END:VEVENT
END:VCALENDAR