BEGIN:VCALENDAR
VERSION:2.0
PRODID:-//Sri Sathya Sai Community Centre of British Columbia - ECPv6.15.20//NONSGML v1.0//EN
CALSCALE:GREGORIAN
METHOD:PUBLISH
X-ORIGINAL-URL:https://www.vancouversaicentre.org
X-WR-CALDESC:Events for Sri Sathya Sai Community Centre of British Columbia
REFRESH-INTERVAL;VALUE=DURATION:PT1H
X-Robots-Tag:noindex
X-PUBLISHED-TTL:PT1H
BEGIN:VTIMEZONE
TZID:America/Vancouver
BEGIN:DAYLIGHT
TZOFFSETFROM:-0800
TZOFFSETTO:-0700
TZNAME:PDT
DTSTART:20240310T100000
END:DAYLIGHT
BEGIN:STANDARD
TZOFFSETFROM:-0700
TZOFFSETTO:-0800
TZNAME:PST
DTSTART:20241103T090000
END:STANDARD
BEGIN:DAYLIGHT
TZOFFSETFROM:-0800
TZOFFSETTO:-0700
TZNAME:PDT
DTSTART:20250309T100000
END:DAYLIGHT
BEGIN:STANDARD
TZOFFSETFROM:-0700
TZOFFSETTO:-0800
TZNAME:PST
DTSTART:20251102T090000
END:STANDARD
BEGIN:DAYLIGHT
TZOFFSETFROM:-0800
TZOFFSETTO:-0700
TZNAME:PDT
DTSTART:20260308T100000
END:DAYLIGHT
BEGIN:STANDARD
TZOFFSETFROM:-0700
TZOFFSETTO:-0800
TZNAME:PST
DTSTART:20261101T090000
END:STANDARD
END:VTIMEZONE
BEGIN:VEVENT
DTSTART;TZID=America/Vancouver:20250401T200000
DTEND;TZID=America/Vancouver:20250401T210000
DTSTAMP:20260424T011525
CREATED:20250103T184334Z
LAST-MODIFIED:20250103T184334Z
UID:10002072-1743537600-1743541200@www.vancouversaicentre.org
SUMMARY:Collective Reading of Spiritual Literature (Zoom)
DESCRIPTION:
URL:https://www.vancouversaicentre.org/event/collective-reading-of-spiritual-literature-zoom-2/2025-04-01/
LOCATION:BC
END:VEVENT
BEGIN:VEVENT
DTSTART;TZID=America/Vancouver:20250402T190000
DTEND;TZID=America/Vancouver:20250402T200000
DTSTAMP:20260424T011525
CREATED:20241101T193346Z
LAST-MODIFIED:20241101T193346Z
UID:10001124-1743620400-1743624000@www.vancouversaicentre.org
SUMMARY:Self Study Hub (Zoom)
DESCRIPTION:
URL:https://www.vancouversaicentre.org/event/self-study-hub-zoom/2025-04-02/
LOCATION:BC
END:VEVENT
BEGIN:VEVENT
DTSTART;TZID=America/Vancouver:20250403T193000
DTEND;TZID=America/Vancouver:20250403T203000
DTSTAMP:20260424T011525
CREATED:20241101T193517Z
LAST-MODIFIED:20251224T050956Z
UID:10001385-1743708600-1743712200@www.vancouversaicentre.org
SUMMARY:Thursday Bhajan
DESCRIPTION:
URL:https://www.vancouversaicentre.org/event/thursday-bhajan-2/2025-04-03/
LOCATION:BC
END:VEVENT
BEGIN:VEVENT
DTSTART;TZID=America/Vancouver:20250404T190000
DTEND;TZID=America/Vancouver:20250404T200000
DTSTAMP:20260424T011525
CREATED:20250103T070816Z
LAST-MODIFIED:20250103T172707Z
UID:10001912-1743793200-1743796800@www.vancouversaicentre.org
SUMMARY:Rudram with Br. Sudhaker (Zoom)
DESCRIPTION:
URL:https://www.vancouversaicentre.org/event/rudram-with-br-sudhaker/2025-04-04/
LOCATION:BC
END:VEVENT
BEGIN:VEVENT
DTSTART;TZID=America/Vancouver:20250405T090000
DTEND;TZID=America/Vancouver:20250405T100000
DTSTAMP:20260424T011525
CREATED:20250103T181815Z
LAST-MODIFIED:20250103T181815Z
UID:10001960-1743843600-1743847200@www.vancouversaicentre.org
SUMMARY:Study Circle (Zoom)
DESCRIPTION:
URL:https://www.vancouversaicentre.org/event/study-circle-zoom-3/2025-04-05/
LOCATION:BC
END:VEVENT
BEGIN:VEVENT
DTSTART;TZID=America/Vancouver:20250405T110000
DTEND;TZID=America/Vancouver:20250405T120000
DTSTAMP:20260424T011525
CREATED:20241101T190143Z
LAST-MODIFIED:20241101T193902Z
UID:10000588-1743850800-1743854400@www.vancouversaicentre.org
SUMMARY:Open House
DESCRIPTION:
URL:https://www.vancouversaicentre.org/event/open-house-2/2025-04-05/
LOCATION:Sri Sathya Sai Centre of BC\, 2215\, E Pender St\, Vancouver\, BC\, V5L1X5\, Canada
END:VEVENT
BEGIN:VEVENT
DTSTART;TZID=America/Vancouver:20250405T203000
DTEND;TZID=America/Vancouver:20250405T211500
DTSTAMP:20260424T011525
CREATED:20250103T183727Z
LAST-MODIFIED:20250103T183800Z
UID:10002050-1743885000-1743887700@www.vancouversaicentre.org
SUMMARY:Vedam with Br. Srinivas (Zoom)
DESCRIPTION:
URL:https://www.vancouversaicentre.org/event/vedam-with-br-srinivas-zoom-3/2025-04-05/
LOCATION:BC
END:VEVENT
BEGIN:VEVENT
DTSTART;TZID=America/Vancouver:20250406T110000
DTEND;TZID=America/Vancouver:20250406T123000
DTSTAMP:20260424T011525
CREATED:20241101T192102Z
LAST-MODIFIED:20241101T192243Z
UID:10000858-1743937200-1743942600@www.vancouversaicentre.org
SUMMARY:SSE Class
DESCRIPTION:
URL:https://www.vancouversaicentre.org/event/sse-class/2025-04-06/
LOCATION:BC
END:VEVENT
BEGIN:VEVENT
DTSTART;TZID=America/Vancouver:20250408T200000
DTEND;TZID=America/Vancouver:20250408T210000
DTSTAMP:20260424T011525
CREATED:20250103T184334Z
LAST-MODIFIED:20250103T184334Z
UID:10002073-1744142400-1744146000@www.vancouversaicentre.org
SUMMARY:Collective Reading of Spiritual Literature (Zoom)
DESCRIPTION:
URL:https://www.vancouversaicentre.org/event/collective-reading-of-spiritual-literature-zoom-2/2025-04-08/
LOCATION:BC
END:VEVENT
BEGIN:VEVENT
DTSTART;TZID=America/Vancouver:20250409T190000
DTEND;TZID=America/Vancouver:20250409T200000
DTSTAMP:20260424T011525
CREATED:20241101T193346Z
LAST-MODIFIED:20241101T193346Z
UID:10001125-1744225200-1744228800@www.vancouversaicentre.org
SUMMARY:Self Study Hub (Zoom)
DESCRIPTION:
URL:https://www.vancouversaicentre.org/event/self-study-hub-zoom/2025-04-09/
LOCATION:BC
END:VEVENT
BEGIN:VEVENT
DTSTART;TZID=America/Vancouver:20250410T193000
DTEND;TZID=America/Vancouver:20250410T203000
DTSTAMP:20260424T011525
CREATED:20241101T193517Z
LAST-MODIFIED:20251224T050956Z
UID:10001386-1744313400-1744317000@www.vancouversaicentre.org
SUMMARY:Thursday Bhajan
DESCRIPTION:
URL:https://www.vancouversaicentre.org/event/thursday-bhajan-2/2025-04-10/
LOCATION:BC
END:VEVENT
BEGIN:VEVENT
DTSTART;TZID=America/Vancouver:20250411T190000
DTEND;TZID=America/Vancouver:20250411T200000
DTSTAMP:20260424T011525
CREATED:20250103T070816Z
LAST-MODIFIED:20250103T172707Z
UID:10001913-1744398000-1744401600@www.vancouversaicentre.org
SUMMARY:Rudram with Br. Sudhaker (Zoom)
DESCRIPTION:
URL:https://www.vancouversaicentre.org/event/rudram-with-br-sudhaker/2025-04-11/
LOCATION:BC
END:VEVENT
BEGIN:VEVENT
DTSTART;TZID=America/Vancouver:20250412T090000
DTEND;TZID=America/Vancouver:20250412T100000
DTSTAMP:20260424T011525
CREATED:20250103T181815Z
LAST-MODIFIED:20250103T181815Z
UID:10001961-1744448400-1744452000@www.vancouversaicentre.org
SUMMARY:Study Circle (Zoom)
DESCRIPTION:
URL:https://www.vancouversaicentre.org/event/study-circle-zoom-3/2025-04-12/
LOCATION:BC
END:VEVENT
BEGIN:VEVENT
DTSTART;TZID=America/Vancouver:20250412T110000
DTEND;TZID=America/Vancouver:20250412T120000
DTSTAMP:20260424T011525
CREATED:20241101T190143Z
LAST-MODIFIED:20241101T193902Z
UID:10000589-1744455600-1744459200@www.vancouversaicentre.org
SUMMARY:Open House
DESCRIPTION:
URL:https://www.vancouversaicentre.org/event/open-house-2/2025-04-12/
LOCATION:Sri Sathya Sai Centre of BC\, 2215\, E Pender St\, Vancouver\, BC\, V5L1X5\, Canada
END:VEVENT
BEGIN:VEVENT
DTSTART;TZID=America/Vancouver:20250412T203000
DTEND;TZID=America/Vancouver:20250412T211500
DTSTAMP:20260424T011525
CREATED:20250103T183727Z
LAST-MODIFIED:20250103T183800Z
UID:10002051-1744489800-1744492500@www.vancouversaicentre.org
SUMMARY:Vedam with Br. Srinivas (Zoom)
DESCRIPTION:
URL:https://www.vancouversaicentre.org/event/vedam-with-br-srinivas-zoom-3/2025-04-12/
LOCATION:BC
END:VEVENT
BEGIN:VEVENT
DTSTART;TZID=America/Vancouver:20250413T110000
DTEND;TZID=America/Vancouver:20250413T123000
DTSTAMP:20260424T011525
CREATED:20241101T192102Z
LAST-MODIFIED:20241101T192243Z
UID:10000859-1744542000-1744547400@www.vancouversaicentre.org
SUMMARY:SSE Class
DESCRIPTION:
URL:https://www.vancouversaicentre.org/event/sse-class/2025-04-13/
LOCATION:BC
END:VEVENT
BEGIN:VEVENT
DTSTART;TZID=America/Vancouver:20250415T200000
DTEND;TZID=America/Vancouver:20250415T210000
DTSTAMP:20260424T011525
CREATED:20250103T184334Z
LAST-MODIFIED:20250103T184334Z
UID:10002074-1744747200-1744750800@www.vancouversaicentre.org
SUMMARY:Collective Reading of Spiritual Literature (Zoom)
DESCRIPTION:
URL:https://www.vancouversaicentre.org/event/collective-reading-of-spiritual-literature-zoom-2/2025-04-15/
LOCATION:BC
END:VEVENT
BEGIN:VEVENT
DTSTART;TZID=America/Vancouver:20250416T190000
DTEND;TZID=America/Vancouver:20250416T200000
DTSTAMP:20260424T011525
CREATED:20241101T193346Z
LAST-MODIFIED:20241101T193346Z
UID:10001126-1744830000-1744833600@www.vancouversaicentre.org
SUMMARY:Self Study Hub (Zoom)
DESCRIPTION:
URL:https://www.vancouversaicentre.org/event/self-study-hub-zoom/2025-04-16/
LOCATION:BC
END:VEVENT
BEGIN:VEVENT
DTSTART;TZID=America/Vancouver:20250417T193000
DTEND;TZID=America/Vancouver:20250417T203000
DTSTAMP:20260424T011525
CREATED:20241101T193517Z
LAST-MODIFIED:20251224T050956Z
UID:10001387-1744918200-1744921800@www.vancouversaicentre.org
SUMMARY:Thursday Bhajan
DESCRIPTION:
URL:https://www.vancouversaicentre.org/event/thursday-bhajan-2/2025-04-17/
LOCATION:BC
END:VEVENT
BEGIN:VEVENT
DTSTART;TZID=America/Vancouver:20250418T190000
DTEND;TZID=America/Vancouver:20250418T200000
DTSTAMP:20260424T011525
CREATED:20250103T070816Z
LAST-MODIFIED:20250103T172707Z
UID:10001914-1745002800-1745006400@www.vancouversaicentre.org
SUMMARY:Rudram with Br. Sudhaker (Zoom)
DESCRIPTION:
URL:https://www.vancouversaicentre.org/event/rudram-with-br-sudhaker/2025-04-18/
LOCATION:BC
END:VEVENT
BEGIN:VEVENT
DTSTART;TZID=America/Vancouver:20250419T090000
DTEND;TZID=America/Vancouver:20250419T100000
DTSTAMP:20260424T011525
CREATED:20250103T181815Z
LAST-MODIFIED:20250103T181815Z
UID:10001962-1745053200-1745056800@www.vancouversaicentre.org
SUMMARY:Study Circle (Zoom)
DESCRIPTION:
URL:https://www.vancouversaicentre.org/event/study-circle-zoom-3/2025-04-19/
LOCATION:BC
END:VEVENT
BEGIN:VEVENT
DTSTART;TZID=America/Vancouver:20250419T110000
DTEND;TZID=America/Vancouver:20250419T120000
DTSTAMP:20260424T011525
CREATED:20241101T190143Z
LAST-MODIFIED:20241101T193902Z
UID:10000590-1745060400-1745064000@www.vancouversaicentre.org
SUMMARY:Open House
DESCRIPTION:
URL:https://www.vancouversaicentre.org/event/open-house-2/2025-04-19/
LOCATION:Sri Sathya Sai Centre of BC\, 2215\, E Pender St\, Vancouver\, BC\, V5L1X5\, Canada
END:VEVENT
BEGIN:VEVENT
DTSTART;TZID=America/Vancouver:20250420T110000
DTEND;TZID=America/Vancouver:20250420T123000
DTSTAMP:20260424T011525
CREATED:20241101T192102Z
LAST-MODIFIED:20241101T192243Z
UID:10000860-1745146800-1745152200@www.vancouversaicentre.org
SUMMARY:SSE Class
DESCRIPTION:
URL:https://www.vancouversaicentre.org/event/sse-class/2025-04-20/
LOCATION:BC
END:VEVENT
BEGIN:VEVENT
DTSTART;TZID=America/Vancouver:20250422T200000
DTEND;TZID=America/Vancouver:20250422T210000
DTSTAMP:20260424T011525
CREATED:20250103T184334Z
LAST-MODIFIED:20250103T184334Z
UID:10002075-1745352000-1745355600@www.vancouversaicentre.org
SUMMARY:Collective Reading of Spiritual Literature (Zoom)
DESCRIPTION:
URL:https://www.vancouversaicentre.org/event/collective-reading-of-spiritual-literature-zoom-2/2025-04-22/
LOCATION:BC
END:VEVENT
BEGIN:VEVENT
DTSTART;TZID=America/Vancouver:20250423T190000
DTEND;TZID=America/Vancouver:20250423T200000
DTSTAMP:20260424T011525
CREATED:20241101T193346Z
LAST-MODIFIED:20241101T193346Z
UID:10001127-1745434800-1745438400@www.vancouversaicentre.org
SUMMARY:Self Study Hub (Zoom)
DESCRIPTION:
URL:https://www.vancouversaicentre.org/event/self-study-hub-zoom/2025-04-23/
LOCATION:BC
END:VEVENT
BEGIN:VEVENT
DTSTART;TZID=America/Vancouver:20250424T193000
DTEND;TZID=America/Vancouver:20250424T203000
DTSTAMP:20260424T011525
CREATED:20241101T193517Z
LAST-MODIFIED:20251224T050956Z
UID:10001388-1745523000-1745526600@www.vancouversaicentre.org
SUMMARY:Thursday Bhajan
DESCRIPTION:
URL:https://www.vancouversaicentre.org/event/thursday-bhajan-2/2025-04-24/
LOCATION:BC
END:VEVENT
BEGIN:VEVENT
DTSTART;TZID=America/Vancouver:20250426T090000
DTEND;TZID=America/Vancouver:20250426T100000
DTSTAMP:20260424T011525
CREATED:20250103T181815Z
LAST-MODIFIED:20250103T181815Z
UID:10001963-1745658000-1745661600@www.vancouversaicentre.org
SUMMARY:Study Circle (Zoom)
DESCRIPTION:
URL:https://www.vancouversaicentre.org/event/study-circle-zoom-3/2025-04-26/
LOCATION:BC
END:VEVENT
BEGIN:VEVENT
DTSTART;TZID=America/Vancouver:20250426T110000
DTEND;TZID=America/Vancouver:20250426T120000
DTSTAMP:20260424T011525
CREATED:20241101T190143Z
LAST-MODIFIED:20241101T193902Z
UID:10000591-1745665200-1745668800@www.vancouversaicentre.org
SUMMARY:Open House
DESCRIPTION:
URL:https://www.vancouversaicentre.org/event/open-house-2/2025-04-26/
LOCATION:Sri Sathya Sai Centre of BC\, 2215\, E Pender St\, Vancouver\, BC\, V5L1X5\, Canada
END:VEVENT
BEGIN:VEVENT
DTSTART;TZID=America/Vancouver:20250427T110000
DTEND;TZID=America/Vancouver:20250427T123000
DTSTAMP:20260424T011525
CREATED:20241101T192102Z
LAST-MODIFIED:20241101T192243Z
UID:10000861-1745751600-1745757000@www.vancouversaicentre.org
SUMMARY:SSE Class
DESCRIPTION:
URL:https://www.vancouversaicentre.org/event/sse-class/2025-04-27/
LOCATION:BC
END:VEVENT
BEGIN:VEVENT
DTSTART;TZID=America/Vancouver:20250429T200000
DTEND;TZID=America/Vancouver:20250429T210000
DTSTAMP:20260424T011525
CREATED:20250103T184334Z
LAST-MODIFIED:20250103T184334Z
UID:10002076-1745956800-1745960400@www.vancouversaicentre.org
SUMMARY:Collective Reading of Spiritual Literature (Zoom)
DESCRIPTION:
URL:https://www.vancouversaicentre.org/event/collective-reading-of-spiritual-literature-zoom-2/2025-04-29/
LOCATION:BC
END:VEVENT
END:VCALENDAR