BEGIN:VCALENDAR
VERSION:2.0
PRODID:-//Sri Sathya Sai Community Centre of British Columbia - ECPv6.15.20//NONSGML v1.0//EN
CALSCALE:GREGORIAN
METHOD:PUBLISH
X-WR-CALNAME:Sri Sathya Sai Community Centre of British Columbia
X-ORIGINAL-URL:https://www.vancouversaicentre.org
X-WR-CALDESC:Events for Sri Sathya Sai Community Centre of British Columbia
REFRESH-INTERVAL;VALUE=DURATION:PT1H
X-Robots-Tag:noindex
X-PUBLISHED-TTL:PT1H
BEGIN:VTIMEZONE
TZID:America/Vancouver
BEGIN:DAYLIGHT
TZOFFSETFROM:-0800
TZOFFSETTO:-0700
TZNAME:PDT
DTSTART:20240310T100000
END:DAYLIGHT
BEGIN:STANDARD
TZOFFSETFROM:-0700
TZOFFSETTO:-0800
TZNAME:PST
DTSTART:20241103T090000
END:STANDARD
BEGIN:DAYLIGHT
TZOFFSETFROM:-0800
TZOFFSETTO:-0700
TZNAME:PDT
DTSTART:20250309T100000
END:DAYLIGHT
BEGIN:STANDARD
TZOFFSETFROM:-0700
TZOFFSETTO:-0800
TZNAME:PST
DTSTART:20251102T090000
END:STANDARD
BEGIN:DAYLIGHT
TZOFFSETFROM:-0800
TZOFFSETTO:-0700
TZNAME:PDT
DTSTART:20260308T100000
END:DAYLIGHT
BEGIN:STANDARD
TZOFFSETFROM:-0700
TZOFFSETTO:-0800
TZNAME:PST
DTSTART:20261101T090000
END:STANDARD
END:VTIMEZONE
BEGIN:VEVENT
DTSTART;TZID=America/Vancouver:20250501T193000
DTEND;TZID=America/Vancouver:20250501T203000
DTSTAMP:20260423T234542
CREATED:20241101T193517Z
LAST-MODIFIED:20251224T050956Z
UID:10001389-1746127800-1746131400@www.vancouversaicentre.org
SUMMARY:Thursday Bhajan
DESCRIPTION:
URL:https://www.vancouversaicentre.org/event/thursday-bhajan-2/2025-05-01/
LOCATION:BC
END:VEVENT
BEGIN:VEVENT
DTSTART;TZID=America/Vancouver:20250502T190000
DTEND;TZID=America/Vancouver:20250502T200000
DTSTAMP:20260423T234542
CREATED:20250103T070816Z
LAST-MODIFIED:20250103T172707Z
UID:10001916-1746212400-1746216000@www.vancouversaicentre.org
SUMMARY:Rudram with Br. Sudhaker (Zoom)
DESCRIPTION:
URL:https://www.vancouversaicentre.org/event/rudram-with-br-sudhaker/2025-05-02/
LOCATION:BC
END:VEVENT
BEGIN:VEVENT
DTSTART;TZID=America/Vancouver:20250503T090000
DTEND;TZID=America/Vancouver:20250503T100000
DTSTAMP:20260423T234542
CREATED:20250103T181815Z
LAST-MODIFIED:20250103T181815Z
UID:10001964-1746262800-1746266400@www.vancouversaicentre.org
SUMMARY:Study Circle (Zoom)
DESCRIPTION:
URL:https://www.vancouversaicentre.org/event/study-circle-zoom-3/2025-05-03/
LOCATION:BC
END:VEVENT
BEGIN:VEVENT
DTSTART;TZID=America/Vancouver:20250503T110000
DTEND;TZID=America/Vancouver:20250503T120000
DTSTAMP:20260423T234542
CREATED:20241101T190143Z
LAST-MODIFIED:20241101T193902Z
UID:10000592-1746270000-1746273600@www.vancouversaicentre.org
SUMMARY:Open House
DESCRIPTION:
URL:https://www.vancouversaicentre.org/event/open-house-2/2025-05-03/
LOCATION:Sri Sathya Sai Centre of BC\, 2215\, E Pender St\, Vancouver\, BC\, V5L1X5\, Canada
END:VEVENT
BEGIN:VEVENT
DTSTART;TZID=America/Vancouver:20250504T110000
DTEND;TZID=America/Vancouver:20250504T123000
DTSTAMP:20260423T234542
CREATED:20241101T192102Z
LAST-MODIFIED:20241101T192243Z
UID:10000862-1746356400-1746361800@www.vancouversaicentre.org
SUMMARY:SSE Class
DESCRIPTION:
URL:https://www.vancouversaicentre.org/event/sse-class/2025-05-04/
LOCATION:BC
END:VEVENT
BEGIN:VEVENT
DTSTART;TZID=America/Vancouver:20250506T200000
DTEND;TZID=America/Vancouver:20250506T210000
DTSTAMP:20260423T234542
CREATED:20250103T184334Z
LAST-MODIFIED:20250103T184334Z
UID:10002077-1746561600-1746565200@www.vancouversaicentre.org
SUMMARY:Collective Reading of Spiritual Literature (Zoom)
DESCRIPTION:
URL:https://www.vancouversaicentre.org/event/collective-reading-of-spiritual-literature-zoom-2/2025-05-06/
LOCATION:BC
END:VEVENT
BEGIN:VEVENT
DTSTART;TZID=America/Vancouver:20250507T190000
DTEND;TZID=America/Vancouver:20250507T200000
DTSTAMP:20260423T234542
CREATED:20241101T193346Z
LAST-MODIFIED:20241101T193346Z
UID:10001129-1746644400-1746648000@www.vancouversaicentre.org
SUMMARY:Self Study Hub (Zoom)
DESCRIPTION:
URL:https://www.vancouversaicentre.org/event/self-study-hub-zoom/2025-05-07/
LOCATION:BC
END:VEVENT
BEGIN:VEVENT
DTSTART;TZID=America/Vancouver:20250508T193000
DTEND;TZID=America/Vancouver:20250508T203000
DTSTAMP:20260423T234542
CREATED:20241101T193517Z
LAST-MODIFIED:20251224T050956Z
UID:10001390-1746732600-1746736200@www.vancouversaicentre.org
SUMMARY:Thursday Bhajan
DESCRIPTION:
URL:https://www.vancouversaicentre.org/event/thursday-bhajan-2/2025-05-08/
LOCATION:BC
END:VEVENT
BEGIN:VEVENT
DTSTART;TZID=America/Vancouver:20250509T190000
DTEND;TZID=America/Vancouver:20250509T200000
DTSTAMP:20260423T234542
CREATED:20250103T070816Z
LAST-MODIFIED:20250103T172707Z
UID:10001917-1746817200-1746820800@www.vancouversaicentre.org
SUMMARY:Rudram with Br. Sudhaker (Zoom)
DESCRIPTION:
URL:https://www.vancouversaicentre.org/event/rudram-with-br-sudhaker/2025-05-09/
LOCATION:BC
END:VEVENT
BEGIN:VEVENT
DTSTART;TZID=America/Vancouver:20250510T090000
DTEND;TZID=America/Vancouver:20250510T100000
DTSTAMP:20260423T234542
CREATED:20250103T181815Z
LAST-MODIFIED:20250103T181815Z
UID:10001965-1746867600-1746871200@www.vancouversaicentre.org
SUMMARY:Study Circle (Zoom)
DESCRIPTION:
URL:https://www.vancouversaicentre.org/event/study-circle-zoom-3/2025-05-10/
LOCATION:BC
END:VEVENT
BEGIN:VEVENT
DTSTART;TZID=America/Vancouver:20250510T110000
DTEND;TZID=America/Vancouver:20250510T120000
DTSTAMP:20260423T234542
CREATED:20241101T190143Z
LAST-MODIFIED:20241101T193902Z
UID:10000593-1746874800-1746878400@www.vancouversaicentre.org
SUMMARY:Open House
DESCRIPTION:
URL:https://www.vancouversaicentre.org/event/open-house-2/2025-05-10/
LOCATION:Sri Sathya Sai Centre of BC\, 2215\, E Pender St\, Vancouver\, BC\, V5L1X5\, Canada
END:VEVENT
BEGIN:VEVENT
DTSTART;TZID=America/Vancouver:20250510T203000
DTEND;TZID=America/Vancouver:20250510T211500
DTSTAMP:20260423T234542
CREATED:20250103T183727Z
LAST-MODIFIED:20250103T183800Z
UID:10002052-1746909000-1746911700@www.vancouversaicentre.org
SUMMARY:Vedam with Br. Srinivas (Zoom)
DESCRIPTION:
URL:https://www.vancouversaicentre.org/event/vedam-with-br-srinivas-zoom-3/2025-05-10/
LOCATION:BC
END:VEVENT
BEGIN:VEVENT
DTSTART;TZID=America/Vancouver:20250511T110000
DTEND;TZID=America/Vancouver:20250511T123000
DTSTAMP:20260423T234542
CREATED:20241101T192102Z
LAST-MODIFIED:20241101T192243Z
UID:10000863-1746961200-1746966600@www.vancouversaicentre.org
SUMMARY:SSE Class
DESCRIPTION:
URL:https://www.vancouversaicentre.org/event/sse-class/2025-05-11/
LOCATION:BC
END:VEVENT
BEGIN:VEVENT
DTSTART;TZID=America/Vancouver:20250513T200000
DTEND;TZID=America/Vancouver:20250513T210000
DTSTAMP:20260423T234542
CREATED:20250103T184334Z
LAST-MODIFIED:20250103T184334Z
UID:10002078-1747166400-1747170000@www.vancouversaicentre.org
SUMMARY:Collective Reading of Spiritual Literature (Zoom)
DESCRIPTION:
URL:https://www.vancouversaicentre.org/event/collective-reading-of-spiritual-literature-zoom-2/2025-05-13/
LOCATION:BC
END:VEVENT
BEGIN:VEVENT
DTSTART;TZID=America/Vancouver:20250514T190000
DTEND;TZID=America/Vancouver:20250514T200000
DTSTAMP:20260423T234542
CREATED:20241101T193346Z
LAST-MODIFIED:20241101T193346Z
UID:10001130-1747249200-1747252800@www.vancouversaicentre.org
SUMMARY:Self Study Hub (Zoom)
DESCRIPTION:
URL:https://www.vancouversaicentre.org/event/self-study-hub-zoom/2025-05-14/
LOCATION:BC
END:VEVENT
BEGIN:VEVENT
DTSTART;TZID=America/Vancouver:20250515T193000
DTEND;TZID=America/Vancouver:20250515T203000
DTSTAMP:20260423T234542
CREATED:20241101T193517Z
LAST-MODIFIED:20251224T050956Z
UID:10001391-1747337400-1747341000@www.vancouversaicentre.org
SUMMARY:Thursday Bhajan
DESCRIPTION:
URL:https://www.vancouversaicentre.org/event/thursday-bhajan-2/2025-05-15/
LOCATION:BC
END:VEVENT
BEGIN:VEVENT
DTSTART;TZID=America/Vancouver:20250516T190000
DTEND;TZID=America/Vancouver:20250516T200000
DTSTAMP:20260423T234542
CREATED:20250103T070816Z
LAST-MODIFIED:20250103T172707Z
UID:10001918-1747422000-1747425600@www.vancouversaicentre.org
SUMMARY:Rudram with Br. Sudhaker (Zoom)
DESCRIPTION:
URL:https://www.vancouversaicentre.org/event/rudram-with-br-sudhaker/2025-05-16/
LOCATION:BC
END:VEVENT
BEGIN:VEVENT
DTSTART;TZID=America/Vancouver:20250517T090000
DTEND;TZID=America/Vancouver:20250517T100000
DTSTAMP:20260423T234542
CREATED:20250103T181815Z
LAST-MODIFIED:20250103T181815Z
UID:10001966-1747472400-1747476000@www.vancouversaicentre.org
SUMMARY:Study Circle (Zoom)
DESCRIPTION:
URL:https://www.vancouversaicentre.org/event/study-circle-zoom-3/2025-05-17/
LOCATION:BC
END:VEVENT
BEGIN:VEVENT
DTSTART;TZID=America/Vancouver:20250517T110000
DTEND;TZID=America/Vancouver:20250517T120000
DTSTAMP:20260423T234542
CREATED:20241101T190143Z
LAST-MODIFIED:20241101T193902Z
UID:10000594-1747479600-1747483200@www.vancouversaicentre.org
SUMMARY:Open House
DESCRIPTION:
URL:https://www.vancouversaicentre.org/event/open-house-2/2025-05-17/
LOCATION:Sri Sathya Sai Centre of BC\, 2215\, E Pender St\, Vancouver\, BC\, V5L1X5\, Canada
END:VEVENT
BEGIN:VEVENT
DTSTART;TZID=America/Vancouver:20250517T203000
DTEND;TZID=America/Vancouver:20250517T211500
DTSTAMP:20260423T234542
CREATED:20250103T183727Z
LAST-MODIFIED:20250103T183800Z
UID:10002053-1747513800-1747516500@www.vancouversaicentre.org
SUMMARY:Vedam with Br. Srinivas (Zoom)
DESCRIPTION:
URL:https://www.vancouversaicentre.org/event/vedam-with-br-srinivas-zoom-3/2025-05-17/
LOCATION:BC
END:VEVENT
BEGIN:VEVENT
DTSTART;TZID=America/Vancouver:20250518T110000
DTEND;TZID=America/Vancouver:20250518T123000
DTSTAMP:20260423T234542
CREATED:20241101T192102Z
LAST-MODIFIED:20241101T192243Z
UID:10000864-1747566000-1747571400@www.vancouversaicentre.org
SUMMARY:SSE Class
DESCRIPTION:
URL:https://www.vancouversaicentre.org/event/sse-class/2025-05-18/
LOCATION:BC
END:VEVENT
BEGIN:VEVENT
DTSTART;TZID=America/Vancouver:20250520T200000
DTEND;TZID=America/Vancouver:20250520T210000
DTSTAMP:20260423T234542
CREATED:20250103T184334Z
LAST-MODIFIED:20250103T184334Z
UID:10002079-1747771200-1747774800@www.vancouversaicentre.org
SUMMARY:Collective Reading of Spiritual Literature (Zoom)
DESCRIPTION:
URL:https://www.vancouversaicentre.org/event/collective-reading-of-spiritual-literature-zoom-2/2025-05-20/
LOCATION:BC
END:VEVENT
BEGIN:VEVENT
DTSTART;TZID=America/Vancouver:20250521T190000
DTEND;TZID=America/Vancouver:20250521T200000
DTSTAMP:20260423T234542
CREATED:20241101T193346Z
LAST-MODIFIED:20241101T193346Z
UID:10001131-1747854000-1747857600@www.vancouversaicentre.org
SUMMARY:Self Study Hub (Zoom)
DESCRIPTION:
URL:https://www.vancouversaicentre.org/event/self-study-hub-zoom/2025-05-21/
LOCATION:BC
END:VEVENT
BEGIN:VEVENT
DTSTART;TZID=America/Vancouver:20250522T193000
DTEND;TZID=America/Vancouver:20250522T203000
DTSTAMP:20260423T234542
CREATED:20241101T193517Z
LAST-MODIFIED:20251224T050956Z
UID:10001392-1747942200-1747945800@www.vancouversaicentre.org
SUMMARY:Thursday Bhajan
DESCRIPTION:
URL:https://www.vancouversaicentre.org/event/thursday-bhajan-2/2025-05-22/
LOCATION:BC
END:VEVENT
BEGIN:VEVENT
DTSTART;TZID=America/Vancouver:20250523T190000
DTEND;TZID=America/Vancouver:20250523T200000
DTSTAMP:20260423T234542
CREATED:20250103T070816Z
LAST-MODIFIED:20250103T172707Z
UID:10001919-1748026800-1748030400@www.vancouversaicentre.org
SUMMARY:Rudram with Br. Sudhaker (Zoom)
DESCRIPTION:
URL:https://www.vancouversaicentre.org/event/rudram-with-br-sudhaker/2025-05-23/
LOCATION:BC
END:VEVENT
BEGIN:VEVENT
DTSTART;TZID=America/Vancouver:20250524T090000
DTEND;TZID=America/Vancouver:20250524T100000
DTSTAMP:20260423T234542
CREATED:20250103T181815Z
LAST-MODIFIED:20250103T181815Z
UID:10001967-1748077200-1748080800@www.vancouversaicentre.org
SUMMARY:Study Circle (Zoom)
DESCRIPTION:
URL:https://www.vancouversaicentre.org/event/study-circle-zoom-3/2025-05-24/
LOCATION:BC
END:VEVENT
BEGIN:VEVENT
DTSTART;TZID=America/Vancouver:20250524T110000
DTEND;TZID=America/Vancouver:20250524T120000
DTSTAMP:20260423T234542
CREATED:20241101T190143Z
LAST-MODIFIED:20241101T193902Z
UID:10000595-1748084400-1748088000@www.vancouversaicentre.org
SUMMARY:Open House
DESCRIPTION:
URL:https://www.vancouversaicentre.org/event/open-house-2/2025-05-24/
LOCATION:Sri Sathya Sai Centre of BC\, 2215\, E Pender St\, Vancouver\, BC\, V5L1X5\, Canada
END:VEVENT
BEGIN:VEVENT
DTSTART;TZID=America/Vancouver:20250524T203000
DTEND;TZID=America/Vancouver:20250524T211500
DTSTAMP:20260423T234542
CREATED:20250103T183727Z
LAST-MODIFIED:20250103T183800Z
UID:10002054-1748118600-1748121300@www.vancouversaicentre.org
SUMMARY:Vedam with Br. Srinivas (Zoom)
DESCRIPTION:
URL:https://www.vancouversaicentre.org/event/vedam-with-br-srinivas-zoom-3/2025-05-24/
LOCATION:BC
END:VEVENT
BEGIN:VEVENT
DTSTART;TZID=America/Vancouver:20250525T110000
DTEND;TZID=America/Vancouver:20250525T123000
DTSTAMP:20260423T234542
CREATED:20241101T192102Z
LAST-MODIFIED:20241101T192243Z
UID:10000865-1748170800-1748176200@www.vancouversaicentre.org
SUMMARY:SSE Class
DESCRIPTION:
URL:https://www.vancouversaicentre.org/event/sse-class/2025-05-25/
LOCATION:BC
END:VEVENT
BEGIN:VEVENT
DTSTART;TZID=America/Vancouver:20250527T200000
DTEND;TZID=America/Vancouver:20250527T210000
DTSTAMP:20260423T234542
CREATED:20250103T184334Z
LAST-MODIFIED:20250103T184334Z
UID:10002080-1748376000-1748379600@www.vancouversaicentre.org
SUMMARY:Collective Reading of Spiritual Literature (Zoom)
DESCRIPTION:
URL:https://www.vancouversaicentre.org/event/collective-reading-of-spiritual-literature-zoom-2/2025-05-27/
LOCATION:BC
END:VEVENT
END:VCALENDAR