BEGIN:VCALENDAR
VERSION:2.0
PRODID:-//Sri Sathya Sai Community Centre of British Columbia - ECPv6.15.20//NONSGML v1.0//EN
CALSCALE:GREGORIAN
METHOD:PUBLISH
X-WR-CALNAME:Sri Sathya Sai Community Centre of British Columbia
X-ORIGINAL-URL:https://www.vancouversaicentre.org
X-WR-CALDESC:Events for Sri Sathya Sai Community Centre of British Columbia
REFRESH-INTERVAL;VALUE=DURATION:PT1H
X-Robots-Tag:noindex
X-PUBLISHED-TTL:PT1H
BEGIN:VTIMEZONE
TZID:America/Vancouver
BEGIN:DAYLIGHT
TZOFFSETFROM:-0800
TZOFFSETTO:-0700
TZNAME:PDT
DTSTART:20240310T100000
END:DAYLIGHT
BEGIN:STANDARD
TZOFFSETFROM:-0700
TZOFFSETTO:-0800
TZNAME:PST
DTSTART:20241103T090000
END:STANDARD
BEGIN:DAYLIGHT
TZOFFSETFROM:-0800
TZOFFSETTO:-0700
TZNAME:PDT
DTSTART:20250309T100000
END:DAYLIGHT
BEGIN:STANDARD
TZOFFSETFROM:-0700
TZOFFSETTO:-0800
TZNAME:PST
DTSTART:20251102T090000
END:STANDARD
BEGIN:DAYLIGHT
TZOFFSETFROM:-0800
TZOFFSETTO:-0700
TZNAME:PDT
DTSTART:20260308T100000
END:DAYLIGHT
BEGIN:STANDARD
TZOFFSETFROM:-0700
TZOFFSETTO:-0800
TZNAME:PST
DTSTART:20261101T090000
END:STANDARD
END:VTIMEZONE
BEGIN:VEVENT
DTSTART;TZID=America/Vancouver:20250601T110000
DTEND;TZID=America/Vancouver:20250601T123000
DTSTAMP:20260423T222438
CREATED:20241101T192102Z
LAST-MODIFIED:20241101T192243Z
UID:10000866-1748775600-1748781000@www.vancouversaicentre.org
SUMMARY:SSE Class
DESCRIPTION:
URL:https://www.vancouversaicentre.org/event/sse-class/2025-06-01/
LOCATION:BC
END:VEVENT
BEGIN:VEVENT
DTSTART;TZID=America/Vancouver:20250603T200000
DTEND;TZID=America/Vancouver:20250603T210000
DTSTAMP:20260423T222438
CREATED:20250103T184334Z
LAST-MODIFIED:20250103T184334Z
UID:10002081-1748980800-1748984400@www.vancouversaicentre.org
SUMMARY:Collective Reading of Spiritual Literature (Zoom)
DESCRIPTION:
URL:https://www.vancouversaicentre.org/event/collective-reading-of-spiritual-literature-zoom-2/2025-06-03/
LOCATION:BC
END:VEVENT
BEGIN:VEVENT
DTSTART;TZID=America/Vancouver:20250604T190000
DTEND;TZID=America/Vancouver:20250604T200000
DTSTAMP:20260423T222438
CREATED:20241101T193346Z
LAST-MODIFIED:20241101T193346Z
UID:10001133-1749063600-1749067200@www.vancouversaicentre.org
SUMMARY:Self Study Hub (Zoom)
DESCRIPTION:
URL:https://www.vancouversaicentre.org/event/self-study-hub-zoom/2025-06-04/
LOCATION:BC
END:VEVENT
BEGIN:VEVENT
DTSTART;TZID=America/Vancouver:20250605T193000
DTEND;TZID=America/Vancouver:20250605T203000
DTSTAMP:20260423T222438
CREATED:20241101T193517Z
LAST-MODIFIED:20251224T050956Z
UID:10001394-1749151800-1749155400@www.vancouversaicentre.org
SUMMARY:Thursday Bhajan
DESCRIPTION:
URL:https://www.vancouversaicentre.org/event/thursday-bhajan-2/2025-06-05/
LOCATION:BC
END:VEVENT
BEGIN:VEVENT
DTSTART;TZID=America/Vancouver:20250606T190000
DTEND;TZID=America/Vancouver:20250606T200000
DTSTAMP:20260423T222438
CREATED:20250103T070816Z
LAST-MODIFIED:20250103T172707Z
UID:10001921-1749236400-1749240000@www.vancouversaicentre.org
SUMMARY:Rudram with Br. Sudhaker (Zoom)
DESCRIPTION:
URL:https://www.vancouversaicentre.org/event/rudram-with-br-sudhaker/2025-06-06/
LOCATION:BC
END:VEVENT
BEGIN:VEVENT
DTSTART;TZID=America/Vancouver:20250607T090000
DTEND;TZID=America/Vancouver:20250607T100000
DTSTAMP:20260423T222438
CREATED:20250103T181815Z
LAST-MODIFIED:20250103T181815Z
UID:10001969-1749286800-1749290400@www.vancouversaicentre.org
SUMMARY:Study Circle (Zoom)
DESCRIPTION:
URL:https://www.vancouversaicentre.org/event/study-circle-zoom-3/2025-06-07/
LOCATION:BC
END:VEVENT
BEGIN:VEVENT
DTSTART;TZID=America/Vancouver:20250607T110000
DTEND;TZID=America/Vancouver:20250607T120000
DTSTAMP:20260423T222438
CREATED:20241101T190143Z
LAST-MODIFIED:20241101T193902Z
UID:10000597-1749294000-1749297600@www.vancouversaicentre.org
SUMMARY:Open House
DESCRIPTION:
URL:https://www.vancouversaicentre.org/event/open-house-2/2025-06-07/
LOCATION:Sri Sathya Sai Centre of BC\, 2215\, E Pender St\, Vancouver\, BC\, V5L1X5\, Canada
END:VEVENT
BEGIN:VEVENT
DTSTART;TZID=America/Vancouver:20250607T203000
DTEND;TZID=America/Vancouver:20250607T211500
DTSTAMP:20260423T222438
CREATED:20250103T183727Z
LAST-MODIFIED:20250103T183800Z
UID:10002056-1749328200-1749330900@www.vancouversaicentre.org
SUMMARY:Vedam with Br. Srinivas (Zoom)
DESCRIPTION:
URL:https://www.vancouversaicentre.org/event/vedam-with-br-srinivas-zoom-3/2025-06-07/
LOCATION:BC
END:VEVENT
BEGIN:VEVENT
DTSTART;TZID=America/Vancouver:20250608T110000
DTEND;TZID=America/Vancouver:20250608T123000
DTSTAMP:20260423T222438
CREATED:20241101T192102Z
LAST-MODIFIED:20241101T192243Z
UID:10000867-1749380400-1749385800@www.vancouversaicentre.org
SUMMARY:SSE Class
DESCRIPTION:
URL:https://www.vancouversaicentre.org/event/sse-class/2025-06-08/
LOCATION:BC
END:VEVENT
BEGIN:VEVENT
DTSTART;TZID=America/Vancouver:20250610T200000
DTEND;TZID=America/Vancouver:20250610T210000
DTSTAMP:20260423T222438
CREATED:20250103T184334Z
LAST-MODIFIED:20250103T184334Z
UID:10002082-1749585600-1749589200@www.vancouversaicentre.org
SUMMARY:Collective Reading of Spiritual Literature (Zoom)
DESCRIPTION:
URL:https://www.vancouversaicentre.org/event/collective-reading-of-spiritual-literature-zoom-2/2025-06-10/
LOCATION:BC
END:VEVENT
BEGIN:VEVENT
DTSTART;TZID=America/Vancouver:20250611T190000
DTEND;TZID=America/Vancouver:20250611T200000
DTSTAMP:20260423T222438
CREATED:20241101T193346Z
LAST-MODIFIED:20241101T193346Z
UID:10001134-1749668400-1749672000@www.vancouversaicentre.org
SUMMARY:Self Study Hub (Zoom)
DESCRIPTION:
URL:https://www.vancouversaicentre.org/event/self-study-hub-zoom/2025-06-11/
LOCATION:BC
END:VEVENT
BEGIN:VEVENT
DTSTART;TZID=America/Vancouver:20250612T193000
DTEND;TZID=America/Vancouver:20250612T203000
DTSTAMP:20260423T222438
CREATED:20241101T193517Z
LAST-MODIFIED:20251224T050956Z
UID:10001395-1749756600-1749760200@www.vancouversaicentre.org
SUMMARY:Thursday Bhajan
DESCRIPTION:
URL:https://www.vancouversaicentre.org/event/thursday-bhajan-2/2025-06-12/
LOCATION:BC
END:VEVENT
BEGIN:VEVENT
DTSTART;TZID=America/Vancouver:20250613T190000
DTEND;TZID=America/Vancouver:20250613T200000
DTSTAMP:20260423T222438
CREATED:20250103T070816Z
LAST-MODIFIED:20250103T172707Z
UID:10001922-1749841200-1749844800@www.vancouversaicentre.org
SUMMARY:Rudram with Br. Sudhaker (Zoom)
DESCRIPTION:
URL:https://www.vancouversaicentre.org/event/rudram-with-br-sudhaker/2025-06-13/
LOCATION:BC
END:VEVENT
BEGIN:VEVENT
DTSTART;TZID=America/Vancouver:20250614T090000
DTEND;TZID=America/Vancouver:20250614T100000
DTSTAMP:20260423T222438
CREATED:20250103T181815Z
LAST-MODIFIED:20250103T181815Z
UID:10001970-1749891600-1749895200@www.vancouversaicentre.org
SUMMARY:Study Circle (Zoom)
DESCRIPTION:
URL:https://www.vancouversaicentre.org/event/study-circle-zoom-3/2025-06-14/
LOCATION:BC
END:VEVENT
BEGIN:VEVENT
DTSTART;TZID=America/Vancouver:20250614T110000
DTEND;TZID=America/Vancouver:20250614T120000
DTSTAMP:20260423T222438
CREATED:20241101T190143Z
LAST-MODIFIED:20241101T193902Z
UID:10000598-1749898800-1749902400@www.vancouversaicentre.org
SUMMARY:Open House
DESCRIPTION:
URL:https://www.vancouversaicentre.org/event/open-house-2/2025-06-14/
LOCATION:Sri Sathya Sai Centre of BC\, 2215\, E Pender St\, Vancouver\, BC\, V5L1X5\, Canada
END:VEVENT
BEGIN:VEVENT
DTSTART;TZID=America/Vancouver:20250615T110000
DTEND;TZID=America/Vancouver:20250615T123000
DTSTAMP:20260423T222438
CREATED:20241101T192102Z
LAST-MODIFIED:20241101T192243Z
UID:10000868-1749985200-1749990600@www.vancouversaicentre.org
SUMMARY:SSE Class
DESCRIPTION:
URL:https://www.vancouversaicentre.org/event/sse-class/2025-06-15/
LOCATION:BC
END:VEVENT
BEGIN:VEVENT
DTSTART;TZID=America/Vancouver:20250617T200000
DTEND;TZID=America/Vancouver:20250617T210000
DTSTAMP:20260423T222438
CREATED:20250103T184334Z
LAST-MODIFIED:20250103T184334Z
UID:10002083-1750190400-1750194000@www.vancouversaicentre.org
SUMMARY:Collective Reading of Spiritual Literature (Zoom)
DESCRIPTION:
URL:https://www.vancouversaicentre.org/event/collective-reading-of-spiritual-literature-zoom-2/2025-06-17/
LOCATION:BC
END:VEVENT
BEGIN:VEVENT
DTSTART;TZID=America/Vancouver:20250618T190000
DTEND;TZID=America/Vancouver:20250618T200000
DTSTAMP:20260423T222438
CREATED:20241101T193346Z
LAST-MODIFIED:20241101T193346Z
UID:10001135-1750273200-1750276800@www.vancouversaicentre.org
SUMMARY:Self Study Hub (Zoom)
DESCRIPTION:
URL:https://www.vancouversaicentre.org/event/self-study-hub-zoom/2025-06-18/
LOCATION:BC
END:VEVENT
BEGIN:VEVENT
DTSTART;TZID=America/Vancouver:20250619T193000
DTEND;TZID=America/Vancouver:20250619T203000
DTSTAMP:20260423T222438
CREATED:20241101T193517Z
LAST-MODIFIED:20251224T050956Z
UID:10001396-1750361400-1750365000@www.vancouversaicentre.org
SUMMARY:Thursday Bhajan
DESCRIPTION:
URL:https://www.vancouversaicentre.org/event/thursday-bhajan-2/2025-06-19/
LOCATION:BC
END:VEVENT
BEGIN:VEVENT
DTSTART;TZID=America/Vancouver:20250620T190000
DTEND;TZID=America/Vancouver:20250620T200000
DTSTAMP:20260423T222438
CREATED:20250103T070816Z
LAST-MODIFIED:20250103T172707Z
UID:10001923-1750446000-1750449600@www.vancouversaicentre.org
SUMMARY:Rudram with Br. Sudhaker (Zoom)
DESCRIPTION:
URL:https://www.vancouversaicentre.org/event/rudram-with-br-sudhaker/2025-06-20/
LOCATION:BC
END:VEVENT
BEGIN:VEVENT
DTSTART;TZID=America/Vancouver:20250621T090000
DTEND;TZID=America/Vancouver:20250621T100000
DTSTAMP:20260423T222438
CREATED:20250103T181815Z
LAST-MODIFIED:20250103T181815Z
UID:10001971-1750496400-1750500000@www.vancouversaicentre.org
SUMMARY:Study Circle (Zoom)
DESCRIPTION:
URL:https://www.vancouversaicentre.org/event/study-circle-zoom-3/2025-06-21/
LOCATION:BC
END:VEVENT
BEGIN:VEVENT
DTSTART;TZID=America/Vancouver:20250621T110000
DTEND;TZID=America/Vancouver:20250621T120000
DTSTAMP:20260423T222438
CREATED:20241101T190143Z
LAST-MODIFIED:20241101T193902Z
UID:10000599-1750503600-1750507200@www.vancouversaicentre.org
SUMMARY:Open House
DESCRIPTION:
URL:https://www.vancouversaicentre.org/event/open-house-2/2025-06-21/
LOCATION:Sri Sathya Sai Centre of BC\, 2215\, E Pender St\, Vancouver\, BC\, V5L1X5\, Canada
END:VEVENT
BEGIN:VEVENT
DTSTART;TZID=America/Vancouver:20250621T203000
DTEND;TZID=America/Vancouver:20250621T211500
DTSTAMP:20260423T222438
CREATED:20250103T183727Z
LAST-MODIFIED:20250103T183800Z
UID:10002057-1750537800-1750540500@www.vancouversaicentre.org
SUMMARY:Vedam with Br. Srinivas (Zoom)
DESCRIPTION:
URL:https://www.vancouversaicentre.org/event/vedam-with-br-srinivas-zoom-3/2025-06-21/
LOCATION:BC
END:VEVENT
BEGIN:VEVENT
DTSTART;TZID=America/Vancouver:20250622T110000
DTEND;TZID=America/Vancouver:20250622T123000
DTSTAMP:20260423T222438
CREATED:20241101T192102Z
LAST-MODIFIED:20241101T192243Z
UID:10000869-1750590000-1750595400@www.vancouversaicentre.org
SUMMARY:SSE Class
DESCRIPTION:
URL:https://www.vancouversaicentre.org/event/sse-class/2025-06-22/
LOCATION:BC
END:VEVENT
BEGIN:VEVENT
DTSTART;TZID=America/Vancouver:20250624T200000
DTEND;TZID=America/Vancouver:20250624T210000
DTSTAMP:20260423T222438
CREATED:20250103T184334Z
LAST-MODIFIED:20250103T184334Z
UID:10002084-1750795200-1750798800@www.vancouversaicentre.org
SUMMARY:Collective Reading of Spiritual Literature (Zoom)
DESCRIPTION:
URL:https://www.vancouversaicentre.org/event/collective-reading-of-spiritual-literature-zoom-2/2025-06-24/
LOCATION:BC
END:VEVENT
BEGIN:VEVENT
DTSTART;TZID=America/Vancouver:20250625T190000
DTEND;TZID=America/Vancouver:20250625T200000
DTSTAMP:20260423T222438
CREATED:20241101T193346Z
LAST-MODIFIED:20241101T193346Z
UID:10001136-1750878000-1750881600@www.vancouversaicentre.org
SUMMARY:Self Study Hub (Zoom)
DESCRIPTION:
URL:https://www.vancouversaicentre.org/event/self-study-hub-zoom/2025-06-25/
LOCATION:BC
END:VEVENT
BEGIN:VEVENT
DTSTART;TZID=America/Vancouver:20250626T193000
DTEND;TZID=America/Vancouver:20250626T203000
DTSTAMP:20260423T222438
CREATED:20241101T193517Z
LAST-MODIFIED:20251224T050956Z
UID:10001397-1750966200-1750969800@www.vancouversaicentre.org
SUMMARY:Thursday Bhajan
DESCRIPTION:
URL:https://www.vancouversaicentre.org/event/thursday-bhajan-2/2025-06-26/
LOCATION:BC
END:VEVENT
BEGIN:VEVENT
DTSTART;TZID=America/Vancouver:20250627T190000
DTEND;TZID=America/Vancouver:20250627T200000
DTSTAMP:20260423T222438
CREATED:20250103T070816Z
LAST-MODIFIED:20250103T172707Z
UID:10001924-1751050800-1751054400@www.vancouversaicentre.org
SUMMARY:Rudram with Br. Sudhaker (Zoom)
DESCRIPTION:
URL:https://www.vancouversaicentre.org/event/rudram-with-br-sudhaker/2025-06-27/
LOCATION:BC
END:VEVENT
BEGIN:VEVENT
DTSTART;TZID=America/Vancouver:20250628T090000
DTEND;TZID=America/Vancouver:20250628T100000
DTSTAMP:20260423T222438
CREATED:20250103T181815Z
LAST-MODIFIED:20250103T181815Z
UID:10001972-1751101200-1751104800@www.vancouversaicentre.org
SUMMARY:Study Circle (Zoom)
DESCRIPTION:
URL:https://www.vancouversaicentre.org/event/study-circle-zoom-3/2025-06-28/
LOCATION:BC
END:VEVENT
BEGIN:VEVENT
DTSTART;TZID=America/Vancouver:20250628T110000
DTEND;TZID=America/Vancouver:20250628T120000
DTSTAMP:20260423T222438
CREATED:20241101T190143Z
LAST-MODIFIED:20241101T193902Z
UID:10000600-1751108400-1751112000@www.vancouversaicentre.org
SUMMARY:Open House
DESCRIPTION:
URL:https://www.vancouversaicentre.org/event/open-house-2/2025-06-28/
LOCATION:Sri Sathya Sai Centre of BC\, 2215\, E Pender St\, Vancouver\, BC\, V5L1X5\, Canada
END:VEVENT
END:VCALENDAR