BEGIN:VCALENDAR
VERSION:2.0
PRODID:-//Sri Sathya Sai Community Centre of British Columbia - ECPv6.15.20//NONSGML v1.0//EN
CALSCALE:GREGORIAN
METHOD:PUBLISH
X-ORIGINAL-URL:https://www.vancouversaicentre.org
X-WR-CALDESC:Events for Sri Sathya Sai Community Centre of British Columbia
REFRESH-INTERVAL;VALUE=DURATION:PT1H
X-Robots-Tag:noindex
X-PUBLISHED-TTL:PT1H
BEGIN:VTIMEZONE
TZID:America/Vancouver
BEGIN:DAYLIGHT
TZOFFSETFROM:-0800
TZOFFSETTO:-0700
TZNAME:PDT
DTSTART:20240310T100000
END:DAYLIGHT
BEGIN:STANDARD
TZOFFSETFROM:-0700
TZOFFSETTO:-0800
TZNAME:PST
DTSTART:20241103T090000
END:STANDARD
BEGIN:DAYLIGHT
TZOFFSETFROM:-0800
TZOFFSETTO:-0700
TZNAME:PDT
DTSTART:20250309T100000
END:DAYLIGHT
BEGIN:STANDARD
TZOFFSETFROM:-0700
TZOFFSETTO:-0800
TZNAME:PST
DTSTART:20251102T090000
END:STANDARD
BEGIN:DAYLIGHT
TZOFFSETFROM:-0800
TZOFFSETTO:-0700
TZNAME:PDT
DTSTART:20260308T100000
END:DAYLIGHT
BEGIN:STANDARD
TZOFFSETFROM:-0700
TZOFFSETTO:-0800
TZNAME:PST
DTSTART:20261101T090000
END:STANDARD
END:VTIMEZONE
BEGIN:VEVENT
DTSTART;TZID=America/Vancouver:20250701T200000
DTEND;TZID=America/Vancouver:20250701T210000
DTSTAMP:20260423T205209
CREATED:20250103T184334Z
LAST-MODIFIED:20250103T184334Z
UID:10002085-1751400000-1751403600@www.vancouversaicentre.org
SUMMARY:Collective Reading of Spiritual Literature (Zoom)
DESCRIPTION:
URL:https://www.vancouversaicentre.org/event/collective-reading-of-spiritual-literature-zoom-2/2025-07-01/
LOCATION:BC
END:VEVENT
BEGIN:VEVENT
DTSTART;TZID=America/Vancouver:20250702T190000
DTEND;TZID=America/Vancouver:20250702T200000
DTSTAMP:20260423T205209
CREATED:20241101T193346Z
LAST-MODIFIED:20241101T193346Z
UID:10001137-1751482800-1751486400@www.vancouversaicentre.org
SUMMARY:Self Study Hub (Zoom)
DESCRIPTION:
URL:https://www.vancouversaicentre.org/event/self-study-hub-zoom/2025-07-02/
LOCATION:BC
END:VEVENT
BEGIN:VEVENT
DTSTART;VALUE=DATE:20250703
DTEND;VALUE=DATE:20250707
DTSTAMP:20260423T205209
CREATED:20250103T182620Z
LAST-MODIFIED:20250103T182740Z
UID:10002014-1751500800-1751846399@www.vancouversaicentre.org
SUMMARY:Western Canada Retreat in Mission\, BC - Sai Centre Closed
DESCRIPTION:Sai Centre Closed
URL:https://www.vancouversaicentre.org/event/western-canada-retreat-in-mission-bc/
LOCATION:BC
END:VEVENT
BEGIN:VEVENT
DTSTART;TZID=America/Vancouver:20250703T193000
DTEND;TZID=America/Vancouver:20250703T203000
DTSTAMP:20260423T205209
CREATED:20241101T193517Z
LAST-MODIFIED:20251224T050956Z
UID:10002384-1751571000-1751574600@www.vancouversaicentre.org
SUMMARY:Thursday Bhajan
DESCRIPTION:
URL:https://www.vancouversaicentre.org/event/thursday-bhajan-2/2025-07-03/
LOCATION:BC
END:VEVENT
BEGIN:VEVENT
DTSTART;TZID=America/Vancouver:20250708T200000
DTEND;TZID=America/Vancouver:20250708T210000
DTSTAMP:20260423T205209
CREATED:20250103T184334Z
LAST-MODIFIED:20250103T184334Z
UID:10002086-1752004800-1752008400@www.vancouversaicentre.org
SUMMARY:Collective Reading of Spiritual Literature (Zoom)
DESCRIPTION:
URL:https://www.vancouversaicentre.org/event/collective-reading-of-spiritual-literature-zoom-2/2025-07-08/
LOCATION:BC
END:VEVENT
BEGIN:VEVENT
DTSTART;TZID=America/Vancouver:20250709T190000
DTEND;TZID=America/Vancouver:20250709T200000
DTSTAMP:20260423T205209
CREATED:20241101T193346Z
LAST-MODIFIED:20241101T193346Z
UID:10001138-1752087600-1752091200@www.vancouversaicentre.org
SUMMARY:Self Study Hub (Zoom)
DESCRIPTION:
URL:https://www.vancouversaicentre.org/event/self-study-hub-zoom/2025-07-09/
LOCATION:BC
END:VEVENT
BEGIN:VEVENT
DTSTART;TZID=America/Vancouver:20250710T193000
DTEND;TZID=America/Vancouver:20250710T203000
DTSTAMP:20260423T205209
CREATED:20241101T193517Z
LAST-MODIFIED:20251224T050956Z
UID:10001399-1752175800-1752179400@www.vancouversaicentre.org
SUMMARY:Thursday Bhajan
DESCRIPTION:
URL:https://www.vancouversaicentre.org/event/thursday-bhajan-2/2025-07-10/
LOCATION:BC
END:VEVENT
BEGIN:VEVENT
DTSTART;TZID=America/Vancouver:20250712T090000
DTEND;TZID=America/Vancouver:20250712T100000
DTSTAMP:20260423T205209
CREATED:20250103T181815Z
LAST-MODIFIED:20250103T181815Z
UID:10001973-1752310800-1752314400@www.vancouversaicentre.org
SUMMARY:Study Circle (Zoom)
DESCRIPTION:
URL:https://www.vancouversaicentre.org/event/study-circle-zoom-3/2025-07-12/
LOCATION:BC
END:VEVENT
BEGIN:VEVENT
DTSTART;TZID=America/Vancouver:20250712T110000
DTEND;TZID=America/Vancouver:20250712T120000
DTSTAMP:20260423T205209
CREATED:20241101T190143Z
LAST-MODIFIED:20241101T193902Z
UID:10000602-1752318000-1752321600@www.vancouversaicentre.org
SUMMARY:Open House
DESCRIPTION:
URL:https://www.vancouversaicentre.org/event/open-house-2/2025-07-12/
LOCATION:Sri Sathya Sai Centre of BC\, 2215\, E Pender St\, Vancouver\, BC\, V5L1X5\, Canada
END:VEVENT
BEGIN:VEVENT
DTSTART;TZID=America/Vancouver:20250713T110000
DTEND;TZID=America/Vancouver:20250713T123000
DTSTAMP:20260423T205209
CREATED:20241101T192102Z
LAST-MODIFIED:20241101T192243Z
UID:10000872-1752404400-1752409800@www.vancouversaicentre.org
SUMMARY:SSE Class
DESCRIPTION:
URL:https://www.vancouversaicentre.org/event/sse-class/2025-07-13/
LOCATION:BC
END:VEVENT
BEGIN:VEVENT
DTSTART;TZID=America/Vancouver:20250715T200000
DTEND;TZID=America/Vancouver:20250715T210000
DTSTAMP:20260423T205209
CREATED:20250103T184334Z
LAST-MODIFIED:20250103T184334Z
UID:10002087-1752609600-1752613200@www.vancouversaicentre.org
SUMMARY:Collective Reading of Spiritual Literature (Zoom)
DESCRIPTION:
URL:https://www.vancouversaicentre.org/event/collective-reading-of-spiritual-literature-zoom-2/2025-07-15/
LOCATION:BC
END:VEVENT
BEGIN:VEVENT
DTSTART;TZID=America/Vancouver:20250716T190000
DTEND;TZID=America/Vancouver:20250716T200000
DTSTAMP:20260423T205209
CREATED:20241101T193346Z
LAST-MODIFIED:20241101T193346Z
UID:10001139-1752692400-1752696000@www.vancouversaicentre.org
SUMMARY:Self Study Hub (Zoom)
DESCRIPTION:
URL:https://www.vancouversaicentre.org/event/self-study-hub-zoom/2025-07-16/
LOCATION:BC
END:VEVENT
BEGIN:VEVENT
DTSTART;TZID=America/Vancouver:20250717T193000
DTEND;TZID=America/Vancouver:20250717T203000
DTSTAMP:20260423T205209
CREATED:20241101T193517Z
LAST-MODIFIED:20251224T050956Z
UID:10001400-1752780600-1752784200@www.vancouversaicentre.org
SUMMARY:Thursday Bhajan
DESCRIPTION:
URL:https://www.vancouversaicentre.org/event/thursday-bhajan-2/2025-07-17/
LOCATION:BC
END:VEVENT
BEGIN:VEVENT
DTSTART;TZID=America/Vancouver:20250719T090000
DTEND;TZID=America/Vancouver:20250719T100000
DTSTAMP:20260423T205209
CREATED:20250103T181815Z
LAST-MODIFIED:20250103T181815Z
UID:10001974-1752915600-1752919200@www.vancouversaicentre.org
SUMMARY:Study Circle (Zoom)
DESCRIPTION:
URL:https://www.vancouversaicentre.org/event/study-circle-zoom-3/2025-07-19/
LOCATION:BC
END:VEVENT
BEGIN:VEVENT
DTSTART;TZID=America/Vancouver:20250719T110000
DTEND;TZID=America/Vancouver:20250719T120000
DTSTAMP:20260423T205209
CREATED:20241101T190143Z
LAST-MODIFIED:20241101T193902Z
UID:10000603-1752922800-1752926400@www.vancouversaicentre.org
SUMMARY:Open House
DESCRIPTION:
URL:https://www.vancouversaicentre.org/event/open-house-2/2025-07-19/
LOCATION:Sri Sathya Sai Centre of BC\, 2215\, E Pender St\, Vancouver\, BC\, V5L1X5\, Canada
END:VEVENT
BEGIN:VEVENT
DTSTART;TZID=America/Vancouver:20250720T110000
DTEND;TZID=America/Vancouver:20250720T123000
DTSTAMP:20260423T205209
CREATED:20241101T192102Z
LAST-MODIFIED:20241101T192243Z
UID:10000873-1753009200-1753014600@www.vancouversaicentre.org
SUMMARY:SSE Class
DESCRIPTION:
URL:https://www.vancouversaicentre.org/event/sse-class/2025-07-20/
LOCATION:BC
END:VEVENT
BEGIN:VEVENT
DTSTART;TZID=America/Vancouver:20250722T200000
DTEND;TZID=America/Vancouver:20250722T210000
DTSTAMP:20260423T205209
CREATED:20250103T184334Z
LAST-MODIFIED:20250103T184334Z
UID:10002088-1753214400-1753218000@www.vancouversaicentre.org
SUMMARY:Collective Reading of Spiritual Literature (Zoom)
DESCRIPTION:
URL:https://www.vancouversaicentre.org/event/collective-reading-of-spiritual-literature-zoom-2/2025-07-22/
LOCATION:BC
END:VEVENT
BEGIN:VEVENT
DTSTART;TZID=America/Vancouver:20250723T190000
DTEND;TZID=America/Vancouver:20250723T200000
DTSTAMP:20260423T205209
CREATED:20241101T193346Z
LAST-MODIFIED:20241101T193346Z
UID:10001140-1753297200-1753300800@www.vancouversaicentre.org
SUMMARY:Self Study Hub (Zoom)
DESCRIPTION:
URL:https://www.vancouversaicentre.org/event/self-study-hub-zoom/2025-07-23/
LOCATION:BC
END:VEVENT
BEGIN:VEVENT
DTSTART;TZID=America/Vancouver:20250724T193000
DTEND;TZID=America/Vancouver:20250724T203000
DTSTAMP:20260423T205209
CREATED:20241101T193517Z
LAST-MODIFIED:20251224T050956Z
UID:10001401-1753385400-1753389000@www.vancouversaicentre.org
SUMMARY:Thursday Bhajan
DESCRIPTION:
URL:https://www.vancouversaicentre.org/event/thursday-bhajan-2/2025-07-24/
LOCATION:BC
END:VEVENT
BEGIN:VEVENT
DTSTART;TZID=America/Vancouver:20250726T090000
DTEND;TZID=America/Vancouver:20250726T100000
DTSTAMP:20260423T205209
CREATED:20250103T181815Z
LAST-MODIFIED:20250103T181815Z
UID:10001975-1753520400-1753524000@www.vancouversaicentre.org
SUMMARY:Study Circle (Zoom)
DESCRIPTION:
URL:https://www.vancouversaicentre.org/event/study-circle-zoom-3/2025-07-26/
LOCATION:BC
END:VEVENT
BEGIN:VEVENT
DTSTART;TZID=America/Vancouver:20250726T110000
DTEND;TZID=America/Vancouver:20250726T120000
DTSTAMP:20260423T205209
CREATED:20241101T190143Z
LAST-MODIFIED:20241101T193902Z
UID:10000604-1753527600-1753531200@www.vancouversaicentre.org
SUMMARY:Open House
DESCRIPTION:
URL:https://www.vancouversaicentre.org/event/open-house-2/2025-07-26/
LOCATION:Sri Sathya Sai Centre of BC\, 2215\, E Pender St\, Vancouver\, BC\, V5L1X5\, Canada
END:VEVENT
BEGIN:VEVENT
DTSTART;TZID=America/Vancouver:20250727T110000
DTEND;TZID=America/Vancouver:20250727T123000
DTSTAMP:20260423T205209
CREATED:20241101T192102Z
LAST-MODIFIED:20241101T192243Z
UID:10000874-1753614000-1753619400@www.vancouversaicentre.org
SUMMARY:SSE Class
DESCRIPTION:
URL:https://www.vancouversaicentre.org/event/sse-class/2025-07-27/
LOCATION:BC
END:VEVENT
BEGIN:VEVENT
DTSTART;TZID=America/Vancouver:20250729T200000
DTEND;TZID=America/Vancouver:20250729T210000
DTSTAMP:20260423T205209
CREATED:20250103T184334Z
LAST-MODIFIED:20250103T184334Z
UID:10002089-1753819200-1753822800@www.vancouversaicentre.org
SUMMARY:Collective Reading of Spiritual Literature (Zoom)
DESCRIPTION:
URL:https://www.vancouversaicentre.org/event/collective-reading-of-spiritual-literature-zoom-2/2025-07-29/
LOCATION:BC
END:VEVENT
BEGIN:VEVENT
DTSTART;TZID=America/Vancouver:20250730T190000
DTEND;TZID=America/Vancouver:20250730T200000
DTSTAMP:20260423T205209
CREATED:20241101T193346Z
LAST-MODIFIED:20241101T193346Z
UID:10001141-1753902000-1753905600@www.vancouversaicentre.org
SUMMARY:Self Study Hub (Zoom)
DESCRIPTION:
URL:https://www.vancouversaicentre.org/event/self-study-hub-zoom/2025-07-30/
LOCATION:BC
END:VEVENT
BEGIN:VEVENT
DTSTART;TZID=America/Vancouver:20250731T193000
DTEND;TZID=America/Vancouver:20250731T203000
DTSTAMP:20260423T205209
CREATED:20241101T193517Z
LAST-MODIFIED:20251224T050956Z
UID:10001402-1753990200-1753993800@www.vancouversaicentre.org
SUMMARY:Thursday Bhajan
DESCRIPTION:
URL:https://www.vancouversaicentre.org/event/thursday-bhajan-2/2025-07-31/
LOCATION:BC
END:VEVENT
END:VCALENDAR