BEGIN:VCALENDAR
VERSION:2.0
PRODID:-//Sri Sathya Sai Community Centre of British Columbia - ECPv6.15.20//NONSGML v1.0//EN
CALSCALE:GREGORIAN
METHOD:PUBLISH
X-ORIGINAL-URL:https://www.vancouversaicentre.org
X-WR-CALDESC:Events for Sri Sathya Sai Community Centre of British Columbia
REFRESH-INTERVAL;VALUE=DURATION:PT1H
X-Robots-Tag:noindex
X-PUBLISHED-TTL:PT1H
BEGIN:VTIMEZONE
TZID:America/Vancouver
BEGIN:DAYLIGHT
TZOFFSETFROM:-0800
TZOFFSETTO:-0700
TZNAME:PDT
DTSTART:20240310T100000
END:DAYLIGHT
BEGIN:STANDARD
TZOFFSETFROM:-0700
TZOFFSETTO:-0800
TZNAME:PST
DTSTART:20241103T090000
END:STANDARD
BEGIN:DAYLIGHT
TZOFFSETFROM:-0800
TZOFFSETTO:-0700
TZNAME:PDT
DTSTART:20250309T100000
END:DAYLIGHT
BEGIN:STANDARD
TZOFFSETFROM:-0700
TZOFFSETTO:-0800
TZNAME:PST
DTSTART:20251102T090000
END:STANDARD
BEGIN:DAYLIGHT
TZOFFSETFROM:-0800
TZOFFSETTO:-0700
TZNAME:PDT
DTSTART:20260308T100000
END:DAYLIGHT
BEGIN:STANDARD
TZOFFSETFROM:-0700
TZOFFSETTO:-0800
TZNAME:PST
DTSTART:20261101T090000
END:STANDARD
END:VTIMEZONE
BEGIN:VEVENT
DTSTART;TZID=America/Vancouver:20251001T190000
DTEND;TZID=America/Vancouver:20251001T200000
DTSTAMP:20260423T163533
CREATED:20241101T193346Z
LAST-MODIFIED:20241101T193346Z
UID:10001150-1759345200-1759348800@www.vancouversaicentre.org
SUMMARY:Self Study Hub (Zoom)
DESCRIPTION:
URL:https://www.vancouversaicentre.org/event/self-study-hub-zoom/2025-10-01/
LOCATION:BC
END:VEVENT
BEGIN:VEVENT
DTSTART;TZID=America/Vancouver:20251002T193000
DTEND;TZID=America/Vancouver:20251002T203000
DTSTAMP:20260423T163533
CREATED:20241101T193517Z
LAST-MODIFIED:20251224T050956Z
UID:10001411-1759433400-1759437000@www.vancouversaicentre.org
SUMMARY:Thursday Bhajan
DESCRIPTION:
URL:https://www.vancouversaicentre.org/event/thursday-bhajan-2/2025-10-02/
LOCATION:BC
END:VEVENT
BEGIN:VEVENT
DTSTART;TZID=America/Vancouver:20251004T090000
DTEND;TZID=America/Vancouver:20251004T100000
DTSTAMP:20260423T163533
CREATED:20250103T181815Z
LAST-MODIFIED:20250103T181815Z
UID:10001985-1759568400-1759572000@www.vancouversaicentre.org
SUMMARY:Study Circle (Zoom)
DESCRIPTION:
URL:https://www.vancouversaicentre.org/event/study-circle-zoom-3/2025-10-04/
LOCATION:BC
END:VEVENT
BEGIN:VEVENT
DTSTART;TZID=America/Vancouver:20251004T110000
DTEND;TZID=America/Vancouver:20251004T120000
DTSTAMP:20260423T163533
CREATED:20241101T190143Z
LAST-MODIFIED:20241101T193902Z
UID:10000614-1759575600-1759579200@www.vancouversaicentre.org
SUMMARY:Open House
DESCRIPTION:
URL:https://www.vancouversaicentre.org/event/open-house-2/2025-10-04/
LOCATION:Sri Sathya Sai Centre of BC\, 2215\, E Pender St\, Vancouver\, BC\, V5L1X5\, Canada
END:VEVENT
BEGIN:VEVENT
DTSTART;TZID=America/Vancouver:20251005T110000
DTEND;TZID=America/Vancouver:20251005T123000
DTSTAMP:20260423T163533
CREATED:20241101T192102Z
LAST-MODIFIED:20241101T192243Z
UID:10000884-1759662000-1759667400@www.vancouversaicentre.org
SUMMARY:SSE Class
DESCRIPTION:
URL:https://www.vancouversaicentre.org/event/sse-class/2025-10-05/
LOCATION:BC
END:VEVENT
BEGIN:VEVENT
DTSTART;TZID=America/Vancouver:20251007T200000
DTEND;TZID=America/Vancouver:20251007T210000
DTSTAMP:20260423T163533
CREATED:20250103T184334Z
LAST-MODIFIED:20250103T184334Z
UID:10002099-1759867200-1759870800@www.vancouversaicentre.org
SUMMARY:Collective Reading of Spiritual Literature (Zoom)
DESCRIPTION:
URL:https://www.vancouversaicentre.org/event/collective-reading-of-spiritual-literature-zoom-2/2025-10-07/
LOCATION:BC
END:VEVENT
BEGIN:VEVENT
DTSTART;TZID=America/Vancouver:20251008T190000
DTEND;TZID=America/Vancouver:20251008T200000
DTSTAMP:20260423T163533
CREATED:20241101T193346Z
LAST-MODIFIED:20241101T193346Z
UID:10001151-1759950000-1759953600@www.vancouversaicentre.org
SUMMARY:Self Study Hub (Zoom)
DESCRIPTION:
URL:https://www.vancouversaicentre.org/event/self-study-hub-zoom/2025-10-08/
LOCATION:BC
END:VEVENT
BEGIN:VEVENT
DTSTART;TZID=America/Vancouver:20251009T193000
DTEND;TZID=America/Vancouver:20251009T203000
DTSTAMP:20260423T163533
CREATED:20241101T193517Z
LAST-MODIFIED:20251224T050956Z
UID:10001412-1760038200-1760041800@www.vancouversaicentre.org
SUMMARY:Thursday Bhajan
DESCRIPTION:
URL:https://www.vancouversaicentre.org/event/thursday-bhajan-2/2025-10-09/
LOCATION:BC
END:VEVENT
BEGIN:VEVENT
DTSTART;TZID=America/Vancouver:20251011T090000
DTEND;TZID=America/Vancouver:20251011T100000
DTSTAMP:20260423T163533
CREATED:20250103T181815Z
LAST-MODIFIED:20250103T181815Z
UID:10001986-1760173200-1760176800@www.vancouversaicentre.org
SUMMARY:Study Circle (Zoom)
DESCRIPTION:
URL:https://www.vancouversaicentre.org/event/study-circle-zoom-3/2025-10-11/
LOCATION:BC
END:VEVENT
BEGIN:VEVENT
DTSTART;TZID=America/Vancouver:20251011T110000
DTEND;TZID=America/Vancouver:20251011T120000
DTSTAMP:20260423T163533
CREATED:20241101T190143Z
LAST-MODIFIED:20241101T193902Z
UID:10000615-1760180400-1760184000@www.vancouversaicentre.org
SUMMARY:Open House
DESCRIPTION:
URL:https://www.vancouversaicentre.org/event/open-house-2/2025-10-11/
LOCATION:Sri Sathya Sai Centre of BC\, 2215\, E Pender St\, Vancouver\, BC\, V5L1X5\, Canada
END:VEVENT
BEGIN:VEVENT
DTSTART;TZID=America/Vancouver:20251012T110000
DTEND;TZID=America/Vancouver:20251012T123000
DTSTAMP:20260423T163533
CREATED:20241101T192102Z
LAST-MODIFIED:20241101T192243Z
UID:10000885-1760266800-1760272200@www.vancouversaicentre.org
SUMMARY:SSE Class
DESCRIPTION:
URL:https://www.vancouversaicentre.org/event/sse-class/2025-10-12/
LOCATION:BC
END:VEVENT
BEGIN:VEVENT
DTSTART;TZID=America/Vancouver:20251014T200000
DTEND;TZID=America/Vancouver:20251014T210000
DTSTAMP:20260423T163533
CREATED:20250103T184334Z
LAST-MODIFIED:20250103T184334Z
UID:10002100-1760472000-1760475600@www.vancouversaicentre.org
SUMMARY:Collective Reading of Spiritual Literature (Zoom)
DESCRIPTION:
URL:https://www.vancouversaicentre.org/event/collective-reading-of-spiritual-literature-zoom-2/2025-10-14/
LOCATION:BC
END:VEVENT
BEGIN:VEVENT
DTSTART;TZID=America/Vancouver:20251015T190000
DTEND;TZID=America/Vancouver:20251015T200000
DTSTAMP:20260423T163533
CREATED:20241101T193346Z
LAST-MODIFIED:20241101T193346Z
UID:10001152-1760554800-1760558400@www.vancouversaicentre.org
SUMMARY:Self Study Hub (Zoom)
DESCRIPTION:
URL:https://www.vancouversaicentre.org/event/self-study-hub-zoom/2025-10-15/
LOCATION:BC
END:VEVENT
BEGIN:VEVENT
DTSTART;TZID=America/Vancouver:20251016T193000
DTEND;TZID=America/Vancouver:20251016T203000
DTSTAMP:20260423T163533
CREATED:20241101T193517Z
LAST-MODIFIED:20251224T050956Z
UID:10001413-1760643000-1760646600@www.vancouversaicentre.org
SUMMARY:Thursday Bhajan
DESCRIPTION:
URL:https://www.vancouversaicentre.org/event/thursday-bhajan-2/2025-10-16/
LOCATION:BC
END:VEVENT
BEGIN:VEVENT
DTSTART;TZID=America/Vancouver:20251018T090000
DTEND;TZID=America/Vancouver:20251018T100000
DTSTAMP:20260423T163533
CREATED:20250103T181815Z
LAST-MODIFIED:20250103T181815Z
UID:10001987-1760778000-1760781600@www.vancouversaicentre.org
SUMMARY:Study Circle (Zoom)
DESCRIPTION:
URL:https://www.vancouversaicentre.org/event/study-circle-zoom-3/2025-10-18/
LOCATION:BC
END:VEVENT
BEGIN:VEVENT
DTSTART;TZID=America/Vancouver:20251018T110000
DTEND;TZID=America/Vancouver:20251018T120000
DTSTAMP:20260423T163533
CREATED:20241101T190143Z
LAST-MODIFIED:20241101T193902Z
UID:10000616-1760785200-1760788800@www.vancouversaicentre.org
SUMMARY:Open House
DESCRIPTION:
URL:https://www.vancouversaicentre.org/event/open-house-2/2025-10-18/
LOCATION:Sri Sathya Sai Centre of BC\, 2215\, E Pender St\, Vancouver\, BC\, V5L1X5\, Canada
END:VEVENT
BEGIN:VEVENT
DTSTART;TZID=America/Vancouver:20251019T110000
DTEND;TZID=America/Vancouver:20251019T123000
DTSTAMP:20260423T163533
CREATED:20241101T192102Z
LAST-MODIFIED:20241101T192243Z
UID:10000886-1760871600-1760877000@www.vancouversaicentre.org
SUMMARY:SSE Class
DESCRIPTION:
URL:https://www.vancouversaicentre.org/event/sse-class/2025-10-19/
LOCATION:BC
END:VEVENT
BEGIN:VEVENT
DTSTART;TZID=America/Vancouver:20251021T200000
DTEND;TZID=America/Vancouver:20251021T210000
DTSTAMP:20260423T163533
CREATED:20250103T184334Z
LAST-MODIFIED:20250103T184334Z
UID:10002101-1761076800-1761080400@www.vancouversaicentre.org
SUMMARY:Collective Reading of Spiritual Literature (Zoom)
DESCRIPTION:
URL:https://www.vancouversaicentre.org/event/collective-reading-of-spiritual-literature-zoom-2/2025-10-21/
LOCATION:BC
END:VEVENT
BEGIN:VEVENT
DTSTART;TZID=America/Vancouver:20251022T190000
DTEND;TZID=America/Vancouver:20251022T200000
DTSTAMP:20260423T163533
CREATED:20241101T193346Z
LAST-MODIFIED:20241101T193346Z
UID:10001153-1761159600-1761163200@www.vancouversaicentre.org
SUMMARY:Self Study Hub (Zoom)
DESCRIPTION:
URL:https://www.vancouversaicentre.org/event/self-study-hub-zoom/2025-10-22/
LOCATION:BC
END:VEVENT
BEGIN:VEVENT
DTSTART;TZID=America/Vancouver:20251023T193000
DTEND;TZID=America/Vancouver:20251023T203000
DTSTAMP:20260423T163533
CREATED:20241101T193517Z
LAST-MODIFIED:20251224T050956Z
UID:10001414-1761247800-1761251400@www.vancouversaicentre.org
SUMMARY:Thursday Bhajan
DESCRIPTION:
URL:https://www.vancouversaicentre.org/event/thursday-bhajan-2/2025-10-23/
LOCATION:BC
END:VEVENT
BEGIN:VEVENT
DTSTART;TZID=America/Vancouver:20251025T090000
DTEND;TZID=America/Vancouver:20251025T100000
DTSTAMP:20260423T163533
CREATED:20250103T181815Z
LAST-MODIFIED:20250103T181815Z
UID:10001988-1761382800-1761386400@www.vancouversaicentre.org
SUMMARY:Study Circle (Zoom)
DESCRIPTION:
URL:https://www.vancouversaicentre.org/event/study-circle-zoom-3/2025-10-25/
LOCATION:BC
END:VEVENT
BEGIN:VEVENT
DTSTART;TZID=America/Vancouver:20251025T110000
DTEND;TZID=America/Vancouver:20251025T120000
DTSTAMP:20260423T163533
CREATED:20241101T190143Z
LAST-MODIFIED:20241101T193902Z
UID:10000617-1761390000-1761393600@www.vancouversaicentre.org
SUMMARY:Open House
DESCRIPTION:
URL:https://www.vancouversaicentre.org/event/open-house-2/2025-10-25/
LOCATION:Sri Sathya Sai Centre of BC\, 2215\, E Pender St\, Vancouver\, BC\, V5L1X5\, Canada
END:VEVENT
BEGIN:VEVENT
DTSTART;TZID=America/Vancouver:20251026T110000
DTEND;TZID=America/Vancouver:20251026T123000
DTSTAMP:20260423T163533
CREATED:20241101T192102Z
LAST-MODIFIED:20241101T192243Z
UID:10000887-1761476400-1761481800@www.vancouversaicentre.org
SUMMARY:SSE Class
DESCRIPTION:
URL:https://www.vancouversaicentre.org/event/sse-class/2025-10-26/
LOCATION:BC
END:VEVENT
BEGIN:VEVENT
DTSTART;TZID=America/Vancouver:20251028T200000
DTEND;TZID=America/Vancouver:20251028T210000
DTSTAMP:20260423T163533
CREATED:20250103T184334Z
LAST-MODIFIED:20250103T184334Z
UID:10002102-1761681600-1761685200@www.vancouversaicentre.org
SUMMARY:Collective Reading of Spiritual Literature (Zoom)
DESCRIPTION:
URL:https://www.vancouversaicentre.org/event/collective-reading-of-spiritual-literature-zoom-2/2025-10-28/
LOCATION:BC
END:VEVENT
BEGIN:VEVENT
DTSTART;TZID=America/Vancouver:20251029T190000
DTEND;TZID=America/Vancouver:20251029T200000
DTSTAMP:20260423T163533
CREATED:20241101T193346Z
LAST-MODIFIED:20241101T193346Z
UID:10001154-1761764400-1761768000@www.vancouversaicentre.org
SUMMARY:Self Study Hub (Zoom)
DESCRIPTION:
URL:https://www.vancouversaicentre.org/event/self-study-hub-zoom/2025-10-29/
LOCATION:BC
END:VEVENT
BEGIN:VEVENT
DTSTART;TZID=America/Vancouver:20251030T193000
DTEND;TZID=America/Vancouver:20251030T203000
DTSTAMP:20260423T163533
CREATED:20241101T193517Z
LAST-MODIFIED:20251224T050956Z
UID:10001415-1761852600-1761856200@www.vancouversaicentre.org
SUMMARY:Thursday Bhajan
DESCRIPTION:
URL:https://www.vancouversaicentre.org/event/thursday-bhajan-2/2025-10-30/
LOCATION:BC
END:VEVENT
END:VCALENDAR