BEGIN:VCALENDAR
VERSION:2.0
PRODID:-//Sri Sathya Sai Community Centre of British Columbia - ECPv6.15.20//NONSGML v1.0//EN
CALSCALE:GREGORIAN
METHOD:PUBLISH
X-ORIGINAL-URL:https://www.vancouversaicentre.org
X-WR-CALDESC:Events for Sri Sathya Sai Community Centre of British Columbia
REFRESH-INTERVAL;VALUE=DURATION:PT1H
X-Robots-Tag:noindex
X-PUBLISHED-TTL:PT1H
BEGIN:VTIMEZONE
TZID:America/Vancouver
BEGIN:DAYLIGHT
TZOFFSETFROM:-0800
TZOFFSETTO:-0700
TZNAME:PDT
DTSTART:20240310T100000
END:DAYLIGHT
BEGIN:STANDARD
TZOFFSETFROM:-0700
TZOFFSETTO:-0800
TZNAME:PST
DTSTART:20241103T090000
END:STANDARD
BEGIN:DAYLIGHT
TZOFFSETFROM:-0800
TZOFFSETTO:-0700
TZNAME:PDT
DTSTART:20250309T100000
END:DAYLIGHT
BEGIN:STANDARD
TZOFFSETFROM:-0700
TZOFFSETTO:-0800
TZNAME:PST
DTSTART:20251102T090000
END:STANDARD
BEGIN:DAYLIGHT
TZOFFSETFROM:-0800
TZOFFSETTO:-0700
TZNAME:PDT
DTSTART:20260308T100000
END:DAYLIGHT
BEGIN:STANDARD
TZOFFSETFROM:-0700
TZOFFSETTO:-0800
TZNAME:PST
DTSTART:20261101T090000
END:STANDARD
END:VTIMEZONE
BEGIN:VEVENT
DTSTART;TZID=America/Vancouver:20251101T090000
DTEND;TZID=America/Vancouver:20251101T100000
DTSTAMP:20260423T145847
CREATED:20250103T181815Z
LAST-MODIFIED:20250103T181815Z
UID:10001989-1761987600-1761991200@www.vancouversaicentre.org
SUMMARY:Study Circle (Zoom)
DESCRIPTION:
URL:https://www.vancouversaicentre.org/event/study-circle-zoom-3/2025-11-01/
LOCATION:BC
END:VEVENT
BEGIN:VEVENT
DTSTART;TZID=America/Vancouver:20251101T110000
DTEND;TZID=America/Vancouver:20251101T120000
DTSTAMP:20260423T145847
CREATED:20241101T190143Z
LAST-MODIFIED:20241101T193902Z
UID:10000618-1761994800-1761998400@www.vancouversaicentre.org
SUMMARY:Open House
DESCRIPTION:
URL:https://www.vancouversaicentre.org/event/open-house-2/2025-11-01/
LOCATION:Sri Sathya Sai Centre of BC\, 2215\, E Pender St\, Vancouver\, BC\, V5L1X5\, Canada
END:VEVENT
BEGIN:VEVENT
DTSTART;TZID=America/Vancouver:20251102T110000
DTEND;TZID=America/Vancouver:20251102T123000
DTSTAMP:20260423T145847
CREATED:20241101T192102Z
LAST-MODIFIED:20241101T192243Z
UID:10000888-1762081200-1762086600@www.vancouversaicentre.org
SUMMARY:SSE Class
DESCRIPTION:
URL:https://www.vancouversaicentre.org/event/sse-class/2025-11-02/
LOCATION:BC
END:VEVENT
BEGIN:VEVENT
DTSTART;TZID=America/Vancouver:20251104T200000
DTEND;TZID=America/Vancouver:20251104T210000
DTSTAMP:20260423T145847
CREATED:20250103T184334Z
LAST-MODIFIED:20250103T184334Z
UID:10002103-1762286400-1762290000@www.vancouversaicentre.org
SUMMARY:Collective Reading of Spiritual Literature (Zoom)
DESCRIPTION:
URL:https://www.vancouversaicentre.org/event/collective-reading-of-spiritual-literature-zoom-2/2025-11-04/
LOCATION:BC
END:VEVENT
BEGIN:VEVENT
DTSTART;TZID=America/Vancouver:20251105T190000
DTEND;TZID=America/Vancouver:20251105T200000
DTSTAMP:20260423T145847
CREATED:20241101T193346Z
LAST-MODIFIED:20241101T193346Z
UID:10001155-1762369200-1762372800@www.vancouversaicentre.org
SUMMARY:Self Study Hub (Zoom)
DESCRIPTION:
URL:https://www.vancouversaicentre.org/event/self-study-hub-zoom/2025-11-05/
LOCATION:BC
END:VEVENT
BEGIN:VEVENT
DTSTART;TZID=America/Vancouver:20251106T193000
DTEND;TZID=America/Vancouver:20251106T203000
DTSTAMP:20260423T145847
CREATED:20241101T193517Z
LAST-MODIFIED:20251224T050956Z
UID:10001416-1762457400-1762461000@www.vancouversaicentre.org
SUMMARY:Thursday Bhajan
DESCRIPTION:
URL:https://www.vancouversaicentre.org/event/thursday-bhajan-2/2025-11-06/
LOCATION:BC
END:VEVENT
BEGIN:VEVENT
DTSTART;TZID=America/Vancouver:20251108T110000
DTEND;TZID=America/Vancouver:20251108T120000
DTSTAMP:20260423T145847
CREATED:20241101T190143Z
LAST-MODIFIED:20241101T193902Z
UID:10000619-1762599600-1762603200@www.vancouversaicentre.org
SUMMARY:Open House
DESCRIPTION:
URL:https://www.vancouversaicentre.org/event/open-house-2/2025-11-08/
LOCATION:Sri Sathya Sai Centre of BC\, 2215\, E Pender St\, Vancouver\, BC\, V5L1X5\, Canada
END:VEVENT
BEGIN:VEVENT
DTSTART;TZID=America/Vancouver:20251109T110000
DTEND;TZID=America/Vancouver:20251109T123000
DTSTAMP:20260423T145847
CREATED:20241101T192102Z
LAST-MODIFIED:20241101T192243Z
UID:10000889-1762686000-1762691400@www.vancouversaicentre.org
SUMMARY:SSE Class
DESCRIPTION:
URL:https://www.vancouversaicentre.org/event/sse-class/2025-11-09/
LOCATION:BC
END:VEVENT
BEGIN:VEVENT
DTSTART;TZID=America/Vancouver:20251111T200000
DTEND;TZID=America/Vancouver:20251111T210000
DTSTAMP:20260423T145847
CREATED:20250103T184334Z
LAST-MODIFIED:20250103T184334Z
UID:10002104-1762891200-1762894800@www.vancouversaicentre.org
SUMMARY:Collective Reading of Spiritual Literature (Zoom)
DESCRIPTION:
URL:https://www.vancouversaicentre.org/event/collective-reading-of-spiritual-literature-zoom-2/2025-11-11/
LOCATION:BC
END:VEVENT
BEGIN:VEVENT
DTSTART;TZID=America/Vancouver:20251112T190000
DTEND;TZID=America/Vancouver:20251112T200000
DTSTAMP:20260423T145847
CREATED:20241101T193346Z
LAST-MODIFIED:20241101T193346Z
UID:10001156-1762974000-1762977600@www.vancouversaicentre.org
SUMMARY:Self Study Hub (Zoom)
DESCRIPTION:
URL:https://www.vancouversaicentre.org/event/self-study-hub-zoom/2025-11-12/
LOCATION:BC
END:VEVENT
BEGIN:VEVENT
DTSTART;TZID=America/Vancouver:20251113T193000
DTEND;TZID=America/Vancouver:20251113T203000
DTSTAMP:20260423T145847
CREATED:20241101T193517Z
LAST-MODIFIED:20251224T050956Z
UID:10001417-1763062200-1763065800@www.vancouversaicentre.org
SUMMARY:Thursday Bhajan
DESCRIPTION:
URL:https://www.vancouversaicentre.org/event/thursday-bhajan-2/2025-11-13/
LOCATION:BC
END:VEVENT
BEGIN:VEVENT
DTSTART;TZID=America/Vancouver:20251115T090000
DTEND;TZID=America/Vancouver:20251115T100000
DTSTAMP:20260423T145847
CREATED:20250103T181815Z
LAST-MODIFIED:20250103T181815Z
UID:10001990-1763197200-1763200800@www.vancouversaicentre.org
SUMMARY:Study Circle (Zoom)
DESCRIPTION:
URL:https://www.vancouversaicentre.org/event/study-circle-zoom-3/2025-11-15/
LOCATION:BC
END:VEVENT
BEGIN:VEVENT
DTSTART;TZID=America/Vancouver:20251115T110000
DTEND;TZID=America/Vancouver:20251115T120000
DTSTAMP:20260423T145847
CREATED:20241101T190143Z
LAST-MODIFIED:20241101T193902Z
UID:10000620-1763204400-1763208000@www.vancouversaicentre.org
SUMMARY:Open House
DESCRIPTION:
URL:https://www.vancouversaicentre.org/event/open-house-2/2025-11-15/
LOCATION:Sri Sathya Sai Centre of BC\, 2215\, E Pender St\, Vancouver\, BC\, V5L1X5\, Canada
END:VEVENT
BEGIN:VEVENT
DTSTART;TZID=America/Vancouver:20251116T110000
DTEND;TZID=America/Vancouver:20251116T123000
DTSTAMP:20260423T145847
CREATED:20241101T192102Z
LAST-MODIFIED:20241101T192243Z
UID:10000890-1763290800-1763296200@www.vancouversaicentre.org
SUMMARY:SSE Class
DESCRIPTION:
URL:https://www.vancouversaicentre.org/event/sse-class/2025-11-16/
LOCATION:BC
END:VEVENT
BEGIN:VEVENT
DTSTART;TZID=America/Vancouver:20251118T200000
DTEND;TZID=America/Vancouver:20251118T210000
DTSTAMP:20260423T145847
CREATED:20250103T184334Z
LAST-MODIFIED:20250103T184334Z
UID:10002105-1763496000-1763499600@www.vancouversaicentre.org
SUMMARY:Collective Reading of Spiritual Literature (Zoom)
DESCRIPTION:
URL:https://www.vancouversaicentre.org/event/collective-reading-of-spiritual-literature-zoom-2/2025-11-18/
LOCATION:BC
END:VEVENT
BEGIN:VEVENT
DTSTART;TZID=America/Vancouver:20251119T190000
DTEND;TZID=America/Vancouver:20251119T200000
DTSTAMP:20260423T145847
CREATED:20241101T193346Z
LAST-MODIFIED:20241101T193346Z
UID:10001157-1763578800-1763582400@www.vancouversaicentre.org
SUMMARY:Self Study Hub (Zoom)
DESCRIPTION:
URL:https://www.vancouversaicentre.org/event/self-study-hub-zoom/2025-11-19/
LOCATION:BC
END:VEVENT
BEGIN:VEVENT
DTSTART;TZID=America/Vancouver:20251120T193000
DTEND;TZID=America/Vancouver:20251120T203000
DTSTAMP:20260423T145847
CREATED:20241101T193517Z
LAST-MODIFIED:20251224T050956Z
UID:10001418-1763667000-1763670600@www.vancouversaicentre.org
SUMMARY:Thursday Bhajan
DESCRIPTION:
URL:https://www.vancouversaicentre.org/event/thursday-bhajan-2/2025-11-20/
LOCATION:BC
END:VEVENT
BEGIN:VEVENT
DTSTART;TZID=America/Vancouver:20251122T110000
DTEND;TZID=America/Vancouver:20251122T120000
DTSTAMP:20260423T145847
CREATED:20241101T190143Z
LAST-MODIFIED:20241101T193902Z
UID:10000621-1763809200-1763812800@www.vancouversaicentre.org
SUMMARY:Open House
DESCRIPTION:
URL:https://www.vancouversaicentre.org/event/open-house-2/2025-11-22/
LOCATION:Sri Sathya Sai Centre of BC\, 2215\, E Pender St\, Vancouver\, BC\, V5L1X5\, Canada
END:VEVENT
BEGIN:VEVENT
DTSTART;TZID=America/Vancouver:20251123T110000
DTEND;TZID=America/Vancouver:20251123T123000
DTSTAMP:20260423T145847
CREATED:20241101T192102Z
LAST-MODIFIED:20241101T192243Z
UID:10000891-1763895600-1763901000@www.vancouversaicentre.org
SUMMARY:SSE Class
DESCRIPTION:
URL:https://www.vancouversaicentre.org/event/sse-class/2025-11-23/
LOCATION:BC
END:VEVENT
BEGIN:VEVENT
DTSTART;TZID=America/Vancouver:20251125T200000
DTEND;TZID=America/Vancouver:20251125T210000
DTSTAMP:20260423T145847
CREATED:20250103T184334Z
LAST-MODIFIED:20250103T184334Z
UID:10002106-1764100800-1764104400@www.vancouversaicentre.org
SUMMARY:Collective Reading of Spiritual Literature (Zoom)
DESCRIPTION:
URL:https://www.vancouversaicentre.org/event/collective-reading-of-spiritual-literature-zoom-2/2025-11-25/
LOCATION:BC
END:VEVENT
BEGIN:VEVENT
DTSTART;TZID=America/Vancouver:20251126T190000
DTEND;TZID=America/Vancouver:20251126T200000
DTSTAMP:20260423T145847
CREATED:20241101T193346Z
LAST-MODIFIED:20241101T193346Z
UID:10001158-1764183600-1764187200@www.vancouversaicentre.org
SUMMARY:Self Study Hub (Zoom)
DESCRIPTION:
URL:https://www.vancouversaicentre.org/event/self-study-hub-zoom/2025-11-26/
LOCATION:BC
END:VEVENT
BEGIN:VEVENT
DTSTART;TZID=America/Vancouver:20251127T193000
DTEND;TZID=America/Vancouver:20251127T203000
DTSTAMP:20260423T145847
CREATED:20241101T193517Z
LAST-MODIFIED:20251224T050956Z
UID:10001419-1764271800-1764275400@www.vancouversaicentre.org
SUMMARY:Thursday Bhajan
DESCRIPTION:
URL:https://www.vancouversaicentre.org/event/thursday-bhajan-2/2025-11-27/
LOCATION:BC
END:VEVENT
BEGIN:VEVENT
DTSTART;TZID=America/Vancouver:20251129T090000
DTEND;TZID=America/Vancouver:20251129T100000
DTSTAMP:20260423T145847
CREATED:20250103T181815Z
LAST-MODIFIED:20250103T181815Z
UID:10001991-1764406800-1764410400@www.vancouversaicentre.org
SUMMARY:Study Circle (Zoom)
DESCRIPTION:
URL:https://www.vancouversaicentre.org/event/study-circle-zoom-3/2025-11-29/
LOCATION:BC
END:VEVENT
BEGIN:VEVENT
DTSTART;TZID=America/Vancouver:20251129T110000
DTEND;TZID=America/Vancouver:20251129T120000
DTSTAMP:20260423T145847
CREATED:20241101T190143Z
LAST-MODIFIED:20241101T193902Z
UID:10000622-1764414000-1764417600@www.vancouversaicentre.org
SUMMARY:Open House
DESCRIPTION:
URL:https://www.vancouversaicentre.org/event/open-house-2/2025-11-29/
LOCATION:Sri Sathya Sai Centre of BC\, 2215\, E Pender St\, Vancouver\, BC\, V5L1X5\, Canada
END:VEVENT
BEGIN:VEVENT
DTSTART;TZID=America/Vancouver:20251130T110000
DTEND;TZID=America/Vancouver:20251130T123000
DTSTAMP:20260423T145847
CREATED:20241101T192102Z
LAST-MODIFIED:20241101T192243Z
UID:10000892-1764500400-1764505800@www.vancouversaicentre.org
SUMMARY:SSE Class
DESCRIPTION:
URL:https://www.vancouversaicentre.org/event/sse-class/2025-11-30/
LOCATION:BC
END:VEVENT
END:VCALENDAR