BEGIN:VCALENDAR
VERSION:2.0
PRODID:-//Sri Sathya Sai Community Centre of British Columbia - ECPv6.15.20//NONSGML v1.0//EN
CALSCALE:GREGORIAN
METHOD:PUBLISH
X-ORIGINAL-URL:https://www.vancouversaicentre.org
X-WR-CALDESC:Events for Sri Sathya Sai Community Centre of British Columbia
REFRESH-INTERVAL;VALUE=DURATION:PT1H
X-Robots-Tag:noindex
X-PUBLISHED-TTL:PT1H
BEGIN:VTIMEZONE
TZID:America/Vancouver
BEGIN:DAYLIGHT
TZOFFSETFROM:-0800
TZOFFSETTO:-0700
TZNAME:PDT
DTSTART:20250309T100000
END:DAYLIGHT
BEGIN:STANDARD
TZOFFSETFROM:-0700
TZOFFSETTO:-0800
TZNAME:PST
DTSTART:20251102T090000
END:STANDARD
BEGIN:DAYLIGHT
TZOFFSETFROM:-0800
TZOFFSETTO:-0700
TZNAME:PDT
DTSTART:20260308T100000
END:DAYLIGHT
BEGIN:STANDARD
TZOFFSETFROM:-0700
TZOFFSETTO:-0800
TZNAME:PST
DTSTART:20261101T090000
END:STANDARD
BEGIN:DAYLIGHT
TZOFFSETFROM:-0800
TZOFFSETTO:-0700
TZNAME:PDT
DTSTART:20270314T100000
END:DAYLIGHT
BEGIN:STANDARD
TZOFFSETFROM:-0700
TZOFFSETTO:-0800
TZNAME:PST
DTSTART:20271107T090000
END:STANDARD
END:VTIMEZONE
BEGIN:VEVENT
DTSTART;TZID=America/Vancouver:20260103T110000
DTEND;TZID=America/Vancouver:20260103T120000
DTSTAMP:20260423T113317
CREATED:20241101T190143Z
LAST-MODIFIED:20241101T193902Z
UID:10000627-1767438000-1767441600@www.vancouversaicentre.org
SUMMARY:Open House
DESCRIPTION:
URL:https://www.vancouversaicentre.org/event/open-house-2/2026-01-03/
LOCATION:Sri Sathya Sai Centre of BC\, 2215\, E Pender St\, Vancouver\, BC\, V5L1X5\, Canada
END:VEVENT
BEGIN:VEVENT
DTSTART;TZID=America/Vancouver:20260104T110000
DTEND;TZID=America/Vancouver:20260104T123000
DTSTAMP:20260423T113317
CREATED:20241101T192102Z
LAST-MODIFIED:20241101T192243Z
UID:10000897-1767524400-1767529800@www.vancouversaicentre.org
SUMMARY:SSE Class
DESCRIPTION:
URL:https://www.vancouversaicentre.org/event/sse-class/2026-01-04/
LOCATION:BC
END:VEVENT
BEGIN:VEVENT
DTSTART;TZID=America/Vancouver:20260106T200000
DTEND;TZID=America/Vancouver:20260106T210000
DTSTAMP:20260423T113317
CREATED:20250103T184334Z
LAST-MODIFIED:20250103T184334Z
UID:10002112-1767729600-1767733200@www.vancouversaicentre.org
SUMMARY:Collective Reading of Spiritual Literature (Zoom)
DESCRIPTION:
URL:https://www.vancouversaicentre.org/event/collective-reading-of-spiritual-literature-zoom-2/2026-01-06/
LOCATION:BC
END:VEVENT
BEGIN:VEVENT
DTSTART;TZID=America/Vancouver:20260107T190000
DTEND;TZID=America/Vancouver:20260107T200000
DTSTAMP:20260423T113317
CREATED:20241101T193346Z
LAST-MODIFIED:20241101T193346Z
UID:10001164-1767812400-1767816000@www.vancouversaicentre.org
SUMMARY:Self Study Hub (Zoom)
DESCRIPTION:
URL:https://www.vancouversaicentre.org/event/self-study-hub-zoom/2026-01-07/
LOCATION:BC
END:VEVENT
BEGIN:VEVENT
DTSTART;TZID=America/Vancouver:20260108T193000
DTEND;TZID=America/Vancouver:20260108T203000
DTSTAMP:20260423T113317
CREATED:20251224T050706Z
LAST-MODIFIED:20251229T175558Z
UID:10001425-1767900600-1767904200@www.vancouversaicentre.org
SUMMARY:Thursday Bhajan
DESCRIPTION:
URL:https://www.vancouversaicentre.org/event/thursday-bhajan-2-2/2026-01-08/
LOCATION:BC
END:VEVENT
BEGIN:VEVENT
DTSTART;TZID=America/Vancouver:20260110T110000
DTEND;TZID=America/Vancouver:20260110T120000
DTSTAMP:20260423T113317
CREATED:20241101T190143Z
LAST-MODIFIED:20241101T193902Z
UID:10000628-1768042800-1768046400@www.vancouversaicentre.org
SUMMARY:Open House
DESCRIPTION:
URL:https://www.vancouversaicentre.org/event/open-house-2/2026-01-10/
LOCATION:Sri Sathya Sai Centre of BC\, 2215\, E Pender St\, Vancouver\, BC\, V5L1X5\, Canada
END:VEVENT
BEGIN:VEVENT
DTSTART;TZID=America/Vancouver:20260111T110000
DTEND;TZID=America/Vancouver:20260111T123000
DTSTAMP:20260423T113317
CREATED:20241101T192102Z
LAST-MODIFIED:20241101T192243Z
UID:10000898-1768129200-1768134600@www.vancouversaicentre.org
SUMMARY:SSE Class
DESCRIPTION:
URL:https://www.vancouversaicentre.org/event/sse-class/2026-01-11/
LOCATION:BC
END:VEVENT
BEGIN:VEVENT
DTSTART;TZID=America/Vancouver:20260113T200000
DTEND;TZID=America/Vancouver:20260113T210000
DTSTAMP:20260423T113317
CREATED:20250103T184334Z
LAST-MODIFIED:20250103T184334Z
UID:10002113-1768334400-1768338000@www.vancouversaicentre.org
SUMMARY:Collective Reading of Spiritual Literature (Zoom)
DESCRIPTION:
URL:https://www.vancouversaicentre.org/event/collective-reading-of-spiritual-literature-zoom-2/2026-01-13/
LOCATION:BC
END:VEVENT
BEGIN:VEVENT
DTSTART;TZID=America/Vancouver:20260114T190000
DTEND;TZID=America/Vancouver:20260114T200000
DTSTAMP:20260423T113317
CREATED:20241101T193346Z
LAST-MODIFIED:20241101T193346Z
UID:10001165-1768417200-1768420800@www.vancouversaicentre.org
SUMMARY:Self Study Hub (Zoom)
DESCRIPTION:
URL:https://www.vancouversaicentre.org/event/self-study-hub-zoom/2026-01-14/
LOCATION:BC
END:VEVENT
BEGIN:VEVENT
DTSTART;TZID=America/Vancouver:20260115T193000
DTEND;TZID=America/Vancouver:20260115T203000
DTSTAMP:20260423T113317
CREATED:20251224T050706Z
LAST-MODIFIED:20251229T175558Z
UID:10001426-1768505400-1768509000@www.vancouversaicentre.org
SUMMARY:Thursday Bhajan
DESCRIPTION:
URL:https://www.vancouversaicentre.org/event/thursday-bhajan-2-2/2026-01-15/
LOCATION:BC
END:VEVENT
BEGIN:VEVENT
DTSTART;TZID=America/Vancouver:20260117T110000
DTEND;TZID=America/Vancouver:20260117T120000
DTSTAMP:20260423T113317
CREATED:20241101T190143Z
LAST-MODIFIED:20241101T193902Z
UID:10000629-1768647600-1768651200@www.vancouversaicentre.org
SUMMARY:Open House
DESCRIPTION:
URL:https://www.vancouversaicentre.org/event/open-house-2/2026-01-17/
LOCATION:Sri Sathya Sai Centre of BC\, 2215\, E Pender St\, Vancouver\, BC\, V5L1X5\, Canada
END:VEVENT
BEGIN:VEVENT
DTSTART;TZID=America/Vancouver:20260118T110000
DTEND;TZID=America/Vancouver:20260118T123000
DTSTAMP:20260423T113317
CREATED:20241101T192102Z
LAST-MODIFIED:20241101T192243Z
UID:10000899-1768734000-1768739400@www.vancouversaicentre.org
SUMMARY:SSE Class
DESCRIPTION:
URL:https://www.vancouversaicentre.org/event/sse-class/2026-01-18/
LOCATION:BC
END:VEVENT
BEGIN:VEVENT
DTSTART;TZID=America/Vancouver:20260120T200000
DTEND;TZID=America/Vancouver:20260120T210000
DTSTAMP:20260423T113317
CREATED:20250103T184334Z
LAST-MODIFIED:20250103T184334Z
UID:10002114-1768939200-1768942800@www.vancouversaicentre.org
SUMMARY:Collective Reading of Spiritual Literature (Zoom)
DESCRIPTION:
URL:https://www.vancouversaicentre.org/event/collective-reading-of-spiritual-literature-zoom-2/2026-01-20/
LOCATION:BC
END:VEVENT
BEGIN:VEVENT
DTSTART;TZID=America/Vancouver:20260121T190000
DTEND;TZID=America/Vancouver:20260121T200000
DTSTAMP:20260423T113317
CREATED:20241101T193346Z
LAST-MODIFIED:20241101T193346Z
UID:10001166-1769022000-1769025600@www.vancouversaicentre.org
SUMMARY:Self Study Hub (Zoom)
DESCRIPTION:
URL:https://www.vancouversaicentre.org/event/self-study-hub-zoom/2026-01-21/
LOCATION:BC
END:VEVENT
BEGIN:VEVENT
DTSTART;TZID=America/Vancouver:20260122T193000
DTEND;TZID=America/Vancouver:20260122T203000
DTSTAMP:20260423T113317
CREATED:20251224T050706Z
LAST-MODIFIED:20251229T175558Z
UID:10001427-1769110200-1769113800@www.vancouversaicentre.org
SUMMARY:Thursday Bhajan
DESCRIPTION:
URL:https://www.vancouversaicentre.org/event/thursday-bhajan-2-2/2026-01-22/
LOCATION:BC
END:VEVENT
BEGIN:VEVENT
DTSTART;TZID=America/Vancouver:20260124T110000
DTEND;TZID=America/Vancouver:20260124T120000
DTSTAMP:20260423T113317
CREATED:20241101T190143Z
LAST-MODIFIED:20241101T193902Z
UID:10000630-1769252400-1769256000@www.vancouversaicentre.org
SUMMARY:Open House
DESCRIPTION:
URL:https://www.vancouversaicentre.org/event/open-house-2/2026-01-24/
LOCATION:Sri Sathya Sai Centre of BC\, 2215\, E Pender St\, Vancouver\, BC\, V5L1X5\, Canada
END:VEVENT
BEGIN:VEVENT
DTSTART;TZID=America/Vancouver:20260125T110000
DTEND;TZID=America/Vancouver:20260125T123000
DTSTAMP:20260423T113317
CREATED:20241101T192102Z
LAST-MODIFIED:20241101T192243Z
UID:10000900-1769338800-1769344200@www.vancouversaicentre.org
SUMMARY:SSE Class
DESCRIPTION:
URL:https://www.vancouversaicentre.org/event/sse-class/2026-01-25/
LOCATION:BC
END:VEVENT
BEGIN:VEVENT
DTSTART;TZID=America/Vancouver:20260127T200000
DTEND;TZID=America/Vancouver:20260127T210000
DTSTAMP:20260423T113317
CREATED:20250103T184334Z
LAST-MODIFIED:20250103T184334Z
UID:10002115-1769544000-1769547600@www.vancouversaicentre.org
SUMMARY:Collective Reading of Spiritual Literature (Zoom)
DESCRIPTION:
URL:https://www.vancouversaicentre.org/event/collective-reading-of-spiritual-literature-zoom-2/2026-01-27/
LOCATION:BC
END:VEVENT
BEGIN:VEVENT
DTSTART;TZID=America/Vancouver:20260128T190000
DTEND;TZID=America/Vancouver:20260128T200000
DTSTAMP:20260423T113317
CREATED:20241101T193346Z
LAST-MODIFIED:20241101T193346Z
UID:10001167-1769626800-1769630400@www.vancouversaicentre.org
SUMMARY:Self Study Hub (Zoom)
DESCRIPTION:
URL:https://www.vancouversaicentre.org/event/self-study-hub-zoom/2026-01-28/
LOCATION:BC
END:VEVENT
BEGIN:VEVENT
DTSTART;TZID=America/Vancouver:20260129T193000
DTEND;TZID=America/Vancouver:20260129T203000
DTSTAMP:20260423T113317
CREATED:20251224T050706Z
LAST-MODIFIED:20251229T175558Z
UID:10001428-1769715000-1769718600@www.vancouversaicentre.org
SUMMARY:Thursday Bhajan
DESCRIPTION:
URL:https://www.vancouversaicentre.org/event/thursday-bhajan-2-2/2026-01-29/
LOCATION:BC
END:VEVENT
BEGIN:VEVENT
DTSTART;TZID=America/Vancouver:20260131T110000
DTEND;TZID=America/Vancouver:20260131T120000
DTSTAMP:20260423T113317
CREATED:20241101T190143Z
LAST-MODIFIED:20241101T193902Z
UID:10000631-1769857200-1769860800@www.vancouversaicentre.org
SUMMARY:Open House
DESCRIPTION:
URL:https://www.vancouversaicentre.org/event/open-house-2/2026-01-31/
LOCATION:Sri Sathya Sai Centre of BC\, 2215\, E Pender St\, Vancouver\, BC\, V5L1X5\, Canada
END:VEVENT
END:VCALENDAR