BEGIN:VCALENDAR
VERSION:2.0
PRODID:-//Sri Sathya Sai Community Centre of British Columbia - ECPv6.15.20//NONSGML v1.0//EN
CALSCALE:GREGORIAN
METHOD:PUBLISH
X-ORIGINAL-URL:https://www.vancouversaicentre.org
X-WR-CALDESC:Events for Sri Sathya Sai Community Centre of British Columbia
REFRESH-INTERVAL;VALUE=DURATION:PT1H
X-Robots-Tag:noindex
X-PUBLISHED-TTL:PT1H
BEGIN:VTIMEZONE
TZID:America/Vancouver
BEGIN:DAYLIGHT
TZOFFSETFROM:-0800
TZOFFSETTO:-0700
TZNAME:PDT
DTSTART:20250309T100000
END:DAYLIGHT
BEGIN:STANDARD
TZOFFSETFROM:-0700
TZOFFSETTO:-0800
TZNAME:PST
DTSTART:20251102T090000
END:STANDARD
BEGIN:DAYLIGHT
TZOFFSETFROM:-0800
TZOFFSETTO:-0700
TZNAME:PDT
DTSTART:20260308T100000
END:DAYLIGHT
BEGIN:STANDARD
TZOFFSETFROM:-0700
TZOFFSETTO:-0800
TZNAME:PST
DTSTART:20261101T090000
END:STANDARD
BEGIN:DAYLIGHT
TZOFFSETFROM:-0800
TZOFFSETTO:-0700
TZNAME:PDT
DTSTART:20270314T100000
END:DAYLIGHT
BEGIN:STANDARD
TZOFFSETFROM:-0700
TZOFFSETTO:-0800
TZNAME:PST
DTSTART:20271107T090000
END:STANDARD
END:VTIMEZONE
BEGIN:VEVENT
DTSTART;TZID=America/Vancouver:20260301T110000
DTEND;TZID=America/Vancouver:20260301T123000
DTSTAMP:20260423T084118
CREATED:20241101T192102Z
LAST-MODIFIED:20241101T192243Z
UID:10000905-1772362800-1772368200@www.vancouversaicentre.org
SUMMARY:SSE Class
DESCRIPTION:
URL:https://www.vancouversaicentre.org/event/sse-class/2026-03-01/
LOCATION:BC
END:VEVENT
BEGIN:VEVENT
DTSTART;TZID=America/Vancouver:20260303T200000
DTEND;TZID=America/Vancouver:20260303T210000
DTSTAMP:20260423T084118
CREATED:20250103T184334Z
LAST-MODIFIED:20250103T184334Z
UID:10002120-1772568000-1772571600@www.vancouversaicentre.org
SUMMARY:Collective Reading of Spiritual Literature (Zoom)
DESCRIPTION:
URL:https://www.vancouversaicentre.org/event/collective-reading-of-spiritual-literature-zoom-2/2026-03-03/
LOCATION:BC
END:VEVENT
BEGIN:VEVENT
DTSTART;TZID=America/Vancouver:20260304T190000
DTEND;TZID=America/Vancouver:20260304T200000
DTSTAMP:20260423T084118
CREATED:20241101T193346Z
LAST-MODIFIED:20241101T193346Z
UID:10001172-1772650800-1772654400@www.vancouversaicentre.org
SUMMARY:Self Study Hub (Zoom)
DESCRIPTION:
URL:https://www.vancouversaicentre.org/event/self-study-hub-zoom/2026-03-04/
LOCATION:BC
END:VEVENT
BEGIN:VEVENT
DTSTART;TZID=America/Vancouver:20260305T193000
DTEND;TZID=America/Vancouver:20260305T203000
DTSTAMP:20260423T084118
CREATED:20251224T050706Z
LAST-MODIFIED:20251229T175558Z
UID:10001433-1772739000-1772742600@www.vancouversaicentre.org
SUMMARY:Thursday Bhajan
DESCRIPTION:
URL:https://www.vancouversaicentre.org/event/thursday-bhajan-2-2/2026-03-05/
LOCATION:BC
END:VEVENT
BEGIN:VEVENT
DTSTART;TZID=America/Vancouver:20260307T110000
DTEND;TZID=America/Vancouver:20260307T120000
DTSTAMP:20260423T084118
CREATED:20241101T190143Z
LAST-MODIFIED:20241101T193902Z
UID:10000636-1772881200-1772884800@www.vancouversaicentre.org
SUMMARY:Open House
DESCRIPTION:
URL:https://www.vancouversaicentre.org/event/open-house-2/2026-03-07/
LOCATION:Sri Sathya Sai Centre of BC\, 2215\, E Pender St\, Vancouver\, BC\, V5L1X5\, Canada
END:VEVENT
BEGIN:VEVENT
DTSTART;TZID=America/Vancouver:20260308T110000
DTEND;TZID=America/Vancouver:20260308T123000
DTSTAMP:20260423T084118
CREATED:20241101T192102Z
LAST-MODIFIED:20241101T192243Z
UID:10000906-1772967600-1772973000@www.vancouversaicentre.org
SUMMARY:SSE Class
DESCRIPTION:
URL:https://www.vancouversaicentre.org/event/sse-class/2026-03-08/
LOCATION:BC
END:VEVENT
BEGIN:VEVENT
DTSTART;TZID=America/Vancouver:20260310T200000
DTEND;TZID=America/Vancouver:20260310T210000
DTSTAMP:20260423T084118
CREATED:20250103T184334Z
LAST-MODIFIED:20250103T184334Z
UID:10002121-1773172800-1773176400@www.vancouversaicentre.org
SUMMARY:Collective Reading of Spiritual Literature (Zoom)
DESCRIPTION:
URL:https://www.vancouversaicentre.org/event/collective-reading-of-spiritual-literature-zoom-2/2026-03-10/
LOCATION:BC
END:VEVENT
BEGIN:VEVENT
DTSTART;TZID=America/Vancouver:20260311T190000
DTEND;TZID=America/Vancouver:20260311T200000
DTSTAMP:20260423T084118
CREATED:20241101T193346Z
LAST-MODIFIED:20241101T193346Z
UID:10001173-1773255600-1773259200@www.vancouversaicentre.org
SUMMARY:Self Study Hub (Zoom)
DESCRIPTION:
URL:https://www.vancouversaicentre.org/event/self-study-hub-zoom/2026-03-11/
LOCATION:BC
END:VEVENT
BEGIN:VEVENT
DTSTART;TZID=America/Vancouver:20260312T193000
DTEND;TZID=America/Vancouver:20260312T203000
DTSTAMP:20260423T084118
CREATED:20251224T050706Z
LAST-MODIFIED:20251229T175558Z
UID:10001434-1773343800-1773347400@www.vancouversaicentre.org
SUMMARY:Thursday Bhajan
DESCRIPTION:
URL:https://www.vancouversaicentre.org/event/thursday-bhajan-2-2/2026-03-12/
LOCATION:BC
END:VEVENT
BEGIN:VEVENT
DTSTART;TZID=America/Vancouver:20260314T110000
DTEND;TZID=America/Vancouver:20260314T120000
DTSTAMP:20260423T084118
CREATED:20241101T190143Z
LAST-MODIFIED:20241101T193902Z
UID:10000637-1773486000-1773489600@www.vancouversaicentre.org
SUMMARY:Open House
DESCRIPTION:
URL:https://www.vancouversaicentre.org/event/open-house-2/2026-03-14/
LOCATION:Sri Sathya Sai Centre of BC\, 2215\, E Pender St\, Vancouver\, BC\, V5L1X5\, Canada
END:VEVENT
BEGIN:VEVENT
DTSTART;TZID=America/Vancouver:20260315T110000
DTEND;TZID=America/Vancouver:20260315T123000
DTSTAMP:20260423T084118
CREATED:20241101T192102Z
LAST-MODIFIED:20241101T192243Z
UID:10000907-1773572400-1773577800@www.vancouversaicentre.org
SUMMARY:SSE Class
DESCRIPTION:
URL:https://www.vancouversaicentre.org/event/sse-class/2026-03-15/
LOCATION:BC
END:VEVENT
BEGIN:VEVENT
DTSTART;TZID=America/Vancouver:20260317T200000
DTEND;TZID=America/Vancouver:20260317T210000
DTSTAMP:20260423T084118
CREATED:20250103T184334Z
LAST-MODIFIED:20250103T184334Z
UID:10002122-1773777600-1773781200@www.vancouversaicentre.org
SUMMARY:Collective Reading of Spiritual Literature (Zoom)
DESCRIPTION:
URL:https://www.vancouversaicentre.org/event/collective-reading-of-spiritual-literature-zoom-2/2026-03-17/
LOCATION:BC
END:VEVENT
BEGIN:VEVENT
DTSTART;TZID=America/Vancouver:20260318T190000
DTEND;TZID=America/Vancouver:20260318T200000
DTSTAMP:20260423T084118
CREATED:20241101T193346Z
LAST-MODIFIED:20241101T193346Z
UID:10001174-1773860400-1773864000@www.vancouversaicentre.org
SUMMARY:Self Study Hub (Zoom)
DESCRIPTION:
URL:https://www.vancouversaicentre.org/event/self-study-hub-zoom/2026-03-18/
LOCATION:BC
END:VEVENT
BEGIN:VEVENT
DTSTART;TZID=America/Vancouver:20260319T193000
DTEND;TZID=America/Vancouver:20260319T203000
DTSTAMP:20260423T084118
CREATED:20251224T050706Z
LAST-MODIFIED:20251229T175558Z
UID:10001435-1773948600-1773952200@www.vancouversaicentre.org
SUMMARY:Thursday Bhajan
DESCRIPTION:
URL:https://www.vancouversaicentre.org/event/thursday-bhajan-2-2/2026-03-19/
LOCATION:BC
END:VEVENT
BEGIN:VEVENT
DTSTART;TZID=America/Vancouver:20260321T110000
DTEND;TZID=America/Vancouver:20260321T120000
DTSTAMP:20260423T084118
CREATED:20241101T190143Z
LAST-MODIFIED:20241101T193902Z
UID:10000638-1774090800-1774094400@www.vancouversaicentre.org
SUMMARY:Open House
DESCRIPTION:
URL:https://www.vancouversaicentre.org/event/open-house-2/2026-03-21/
LOCATION:Sri Sathya Sai Centre of BC\, 2215\, E Pender St\, Vancouver\, BC\, V5L1X5\, Canada
END:VEVENT
BEGIN:VEVENT
DTSTART;TZID=America/Vancouver:20260322T110000
DTEND;TZID=America/Vancouver:20260322T123000
DTSTAMP:20260423T084118
CREATED:20241101T192102Z
LAST-MODIFIED:20241101T192243Z
UID:10000908-1774177200-1774182600@www.vancouversaicentre.org
SUMMARY:SSE Class
DESCRIPTION:
URL:https://www.vancouversaicentre.org/event/sse-class/2026-03-22/
LOCATION:BC
END:VEVENT
BEGIN:VEVENT
DTSTART;TZID=America/Vancouver:20260324T200000
DTEND;TZID=America/Vancouver:20260324T210000
DTSTAMP:20260423T084118
CREATED:20250103T184334Z
LAST-MODIFIED:20250103T184334Z
UID:10002123-1774382400-1774386000@www.vancouversaicentre.org
SUMMARY:Collective Reading of Spiritual Literature (Zoom)
DESCRIPTION:
URL:https://www.vancouversaicentre.org/event/collective-reading-of-spiritual-literature-zoom-2/2026-03-24/
LOCATION:BC
END:VEVENT
BEGIN:VEVENT
DTSTART;TZID=America/Vancouver:20260325T190000
DTEND;TZID=America/Vancouver:20260325T200000
DTSTAMP:20260423T084118
CREATED:20241101T193346Z
LAST-MODIFIED:20241101T193346Z
UID:10001175-1774465200-1774468800@www.vancouversaicentre.org
SUMMARY:Self Study Hub (Zoom)
DESCRIPTION:
URL:https://www.vancouversaicentre.org/event/self-study-hub-zoom/2026-03-25/
LOCATION:BC
END:VEVENT
BEGIN:VEVENT
DTSTART;TZID=America/Vancouver:20260326T193000
DTEND;TZID=America/Vancouver:20260326T203000
DTSTAMP:20260423T084118
CREATED:20251224T050706Z
LAST-MODIFIED:20251229T175558Z
UID:10001436-1774553400-1774557000@www.vancouversaicentre.org
SUMMARY:Thursday Bhajan
DESCRIPTION:
URL:https://www.vancouversaicentre.org/event/thursday-bhajan-2-2/2026-03-26/
LOCATION:BC
END:VEVENT
BEGIN:VEVENT
DTSTART;TZID=America/Vancouver:20260328T110000
DTEND;TZID=America/Vancouver:20260328T120000
DTSTAMP:20260423T084118
CREATED:20241101T190143Z
LAST-MODIFIED:20241101T193902Z
UID:10000639-1774695600-1774699200@www.vancouversaicentre.org
SUMMARY:Open House
DESCRIPTION:
URL:https://www.vancouversaicentre.org/event/open-house-2/2026-03-28/
LOCATION:Sri Sathya Sai Centre of BC\, 2215\, E Pender St\, Vancouver\, BC\, V5L1X5\, Canada
END:VEVENT
BEGIN:VEVENT
DTSTART;TZID=America/Vancouver:20260329T110000
DTEND;TZID=America/Vancouver:20260329T123000
DTSTAMP:20260423T084118
CREATED:20241101T192102Z
LAST-MODIFIED:20241101T192243Z
UID:10000909-1774782000-1774787400@www.vancouversaicentre.org
SUMMARY:SSE Class
DESCRIPTION:
URL:https://www.vancouversaicentre.org/event/sse-class/2026-03-29/
LOCATION:BC
END:VEVENT
BEGIN:VEVENT
DTSTART;TZID=America/Vancouver:20260331T200000
DTEND;TZID=America/Vancouver:20260331T210000
DTSTAMP:20260423T084118
CREATED:20250103T184334Z
LAST-MODIFIED:20250103T184334Z
UID:10002124-1774987200-1774990800@www.vancouversaicentre.org
SUMMARY:Collective Reading of Spiritual Literature (Zoom)
DESCRIPTION:
URL:https://www.vancouversaicentre.org/event/collective-reading-of-spiritual-literature-zoom-2/2026-03-31/
LOCATION:BC
END:VEVENT
END:VCALENDAR