BEGIN:VCALENDAR
VERSION:2.0
PRODID:-//Sri Sathya Sai Community Centre of British Columbia - ECPv6.15.20//NONSGML v1.0//EN
CALSCALE:GREGORIAN
METHOD:PUBLISH
X-ORIGINAL-URL:https://www.vancouversaicentre.org
X-WR-CALDESC:Events for Sri Sathya Sai Community Centre of British Columbia
REFRESH-INTERVAL;VALUE=DURATION:PT1H
X-Robots-Tag:noindex
X-PUBLISHED-TTL:PT1H
BEGIN:VTIMEZONE
TZID:America/Vancouver
BEGIN:DAYLIGHT
TZOFFSETFROM:-0800
TZOFFSETTO:-0700
TZNAME:PDT
DTSTART:20250309T100000
END:DAYLIGHT
BEGIN:STANDARD
TZOFFSETFROM:-0700
TZOFFSETTO:-0800
TZNAME:PST
DTSTART:20251102T090000
END:STANDARD
BEGIN:DAYLIGHT
TZOFFSETFROM:-0800
TZOFFSETTO:-0700
TZNAME:PDT
DTSTART:20260308T100000
END:DAYLIGHT
BEGIN:STANDARD
TZOFFSETFROM:-0700
TZOFFSETTO:-0800
TZNAME:PST
DTSTART:20261101T090000
END:STANDARD
BEGIN:DAYLIGHT
TZOFFSETFROM:-0800
TZOFFSETTO:-0700
TZNAME:PDT
DTSTART:20270314T100000
END:DAYLIGHT
BEGIN:STANDARD
TZOFFSETFROM:-0700
TZOFFSETTO:-0800
TZNAME:PST
DTSTART:20271107T090000
END:STANDARD
END:VTIMEZONE
BEGIN:VEVENT
DTSTART;TZID=America/Vancouver:20260801T110000
DTEND;TZID=America/Vancouver:20260801T120000
DTSTAMP:20260423T125839
CREATED:20241101T190143Z
LAST-MODIFIED:20241101T193902Z
UID:10000657-1785582000-1785585600@www.vancouversaicentre.org
SUMMARY:Open House
DESCRIPTION:
URL:https://www.vancouversaicentre.org/event/open-house-2/2026-08-01/
LOCATION:Sri Sathya Sai Centre of BC\, 2215\, E Pender St\, Vancouver\, BC\, V5L1X5\, Canada
END:VEVENT
BEGIN:VEVENT
DTSTART;TZID=America/Vancouver:20260802T110000
DTEND;TZID=America/Vancouver:20260802T123000
DTSTAMP:20260423T125839
CREATED:20241101T192102Z
LAST-MODIFIED:20241101T192243Z
UID:10000927-1785668400-1785673800@www.vancouversaicentre.org
SUMMARY:SSE Class
DESCRIPTION:
URL:https://www.vancouversaicentre.org/event/sse-class/2026-08-02/
LOCATION:BC
END:VEVENT
BEGIN:VEVENT
DTSTART;TZID=America/Vancouver:20260804T200000
DTEND;TZID=America/Vancouver:20260804T210000
DTSTAMP:20260423T125839
CREATED:20250103T184334Z
LAST-MODIFIED:20250103T184334Z
UID:10002142-1785873600-1785877200@www.vancouversaicentre.org
SUMMARY:Collective Reading of Spiritual Literature (Zoom)
DESCRIPTION:
URL:https://www.vancouversaicentre.org/event/collective-reading-of-spiritual-literature-zoom-2/2026-08-04/
LOCATION:BC
END:VEVENT
BEGIN:VEVENT
DTSTART;TZID=America/Vancouver:20260805T190000
DTEND;TZID=America/Vancouver:20260805T200000
DTSTAMP:20260423T125839
CREATED:20241101T193346Z
LAST-MODIFIED:20241101T193346Z
UID:10001194-1785956400-1785960000@www.vancouversaicentre.org
SUMMARY:Self Study Hub (Zoom)
DESCRIPTION:
URL:https://www.vancouversaicentre.org/event/self-study-hub-zoom/2026-08-05/
LOCATION:BC
END:VEVENT
BEGIN:VEVENT
DTSTART;TZID=America/Vancouver:20260806T193000
DTEND;TZID=America/Vancouver:20260806T203000
DTSTAMP:20260423T125839
CREATED:20251224T050706Z
LAST-MODIFIED:20251229T175558Z
UID:10001455-1786044600-1786048200@www.vancouversaicentre.org
SUMMARY:Thursday Bhajan
DESCRIPTION:
URL:https://www.vancouversaicentre.org/event/thursday-bhajan-2-2/2026-08-06/
LOCATION:BC
END:VEVENT
BEGIN:VEVENT
DTSTART;TZID=America/Vancouver:20260808T110000
DTEND;TZID=America/Vancouver:20260808T120000
DTSTAMP:20260423T125839
CREATED:20241101T190143Z
LAST-MODIFIED:20241101T193902Z
UID:10000658-1786186800-1786190400@www.vancouversaicentre.org
SUMMARY:Open House
DESCRIPTION:
URL:https://www.vancouversaicentre.org/event/open-house-2/2026-08-08/
LOCATION:Sri Sathya Sai Centre of BC\, 2215\, E Pender St\, Vancouver\, BC\, V5L1X5\, Canada
END:VEVENT
BEGIN:VEVENT
DTSTART;TZID=America/Vancouver:20260809T110000
DTEND;TZID=America/Vancouver:20260809T123000
DTSTAMP:20260423T125839
CREATED:20241101T192102Z
LAST-MODIFIED:20241101T192243Z
UID:10000928-1786273200-1786278600@www.vancouversaicentre.org
SUMMARY:SSE Class
DESCRIPTION:
URL:https://www.vancouversaicentre.org/event/sse-class/2026-08-09/
LOCATION:BC
END:VEVENT
BEGIN:VEVENT
DTSTART;TZID=America/Vancouver:20260811T200000
DTEND;TZID=America/Vancouver:20260811T210000
DTSTAMP:20260423T125839
CREATED:20250103T184334Z
LAST-MODIFIED:20250103T184334Z
UID:10002143-1786478400-1786482000@www.vancouversaicentre.org
SUMMARY:Collective Reading of Spiritual Literature (Zoom)
DESCRIPTION:
URL:https://www.vancouversaicentre.org/event/collective-reading-of-spiritual-literature-zoom-2/2026-08-11/
LOCATION:BC
END:VEVENT
BEGIN:VEVENT
DTSTART;TZID=America/Vancouver:20260812T190000
DTEND;TZID=America/Vancouver:20260812T200000
DTSTAMP:20260423T125839
CREATED:20241101T193346Z
LAST-MODIFIED:20241101T193346Z
UID:10001195-1786561200-1786564800@www.vancouversaicentre.org
SUMMARY:Self Study Hub (Zoom)
DESCRIPTION:
URL:https://www.vancouversaicentre.org/event/self-study-hub-zoom/2026-08-12/
LOCATION:BC
END:VEVENT
BEGIN:VEVENT
DTSTART;TZID=America/Vancouver:20260813T193000
DTEND;TZID=America/Vancouver:20260813T203000
DTSTAMP:20260423T125839
CREATED:20251224T050706Z
LAST-MODIFIED:20251229T175558Z
UID:10001456-1786649400-1786653000@www.vancouversaicentre.org
SUMMARY:Thursday Bhajan
DESCRIPTION:
URL:https://www.vancouversaicentre.org/event/thursday-bhajan-2-2/2026-08-13/
LOCATION:BC
END:VEVENT
BEGIN:VEVENT
DTSTART;TZID=America/Vancouver:20260815T110000
DTEND;TZID=America/Vancouver:20260815T120000
DTSTAMP:20260423T125839
CREATED:20241101T190143Z
LAST-MODIFIED:20241101T193902Z
UID:10000659-1786791600-1786795200@www.vancouversaicentre.org
SUMMARY:Open House
DESCRIPTION:
URL:https://www.vancouversaicentre.org/event/open-house-2/2026-08-15/
LOCATION:Sri Sathya Sai Centre of BC\, 2215\, E Pender St\, Vancouver\, BC\, V5L1X5\, Canada
END:VEVENT
BEGIN:VEVENT
DTSTART;TZID=America/Vancouver:20260816T110000
DTEND;TZID=America/Vancouver:20260816T123000
DTSTAMP:20260423T125839
CREATED:20241101T192102Z
LAST-MODIFIED:20241101T192243Z
UID:10000929-1786878000-1786883400@www.vancouversaicentre.org
SUMMARY:SSE Class
DESCRIPTION:
URL:https://www.vancouversaicentre.org/event/sse-class/2026-08-16/
LOCATION:BC
END:VEVENT
BEGIN:VEVENT
DTSTART;TZID=America/Vancouver:20260818T200000
DTEND;TZID=America/Vancouver:20260818T210000
DTSTAMP:20260423T125839
CREATED:20250103T184334Z
LAST-MODIFIED:20250103T184334Z
UID:10002144-1787083200-1787086800@www.vancouversaicentre.org
SUMMARY:Collective Reading of Spiritual Literature (Zoom)
DESCRIPTION:
URL:https://www.vancouversaicentre.org/event/collective-reading-of-spiritual-literature-zoom-2/2026-08-18/
LOCATION:BC
END:VEVENT
BEGIN:VEVENT
DTSTART;TZID=America/Vancouver:20260819T190000
DTEND;TZID=America/Vancouver:20260819T200000
DTSTAMP:20260423T125839
CREATED:20241101T193346Z
LAST-MODIFIED:20241101T193346Z
UID:10001196-1787166000-1787169600@www.vancouversaicentre.org
SUMMARY:Self Study Hub (Zoom)
DESCRIPTION:
URL:https://www.vancouversaicentre.org/event/self-study-hub-zoom/2026-08-19/
LOCATION:BC
END:VEVENT
BEGIN:VEVENT
DTSTART;TZID=America/Vancouver:20260820T193000
DTEND;TZID=America/Vancouver:20260820T203000
DTSTAMP:20260423T125839
CREATED:20251224T050706Z
LAST-MODIFIED:20251229T175558Z
UID:10001457-1787254200-1787257800@www.vancouversaicentre.org
SUMMARY:Thursday Bhajan
DESCRIPTION:
URL:https://www.vancouversaicentre.org/event/thursday-bhajan-2-2/2026-08-20/
LOCATION:BC
END:VEVENT
BEGIN:VEVENT
DTSTART;TZID=America/Vancouver:20260822T110000
DTEND;TZID=America/Vancouver:20260822T120000
DTSTAMP:20260423T125839
CREATED:20241101T190143Z
LAST-MODIFIED:20241101T193902Z
UID:10000660-1787396400-1787400000@www.vancouversaicentre.org
SUMMARY:Open House
DESCRIPTION:
URL:https://www.vancouversaicentre.org/event/open-house-2/2026-08-22/
LOCATION:Sri Sathya Sai Centre of BC\, 2215\, E Pender St\, Vancouver\, BC\, V5L1X5\, Canada
END:VEVENT
BEGIN:VEVENT
DTSTART;TZID=America/Vancouver:20260823T110000
DTEND;TZID=America/Vancouver:20260823T123000
DTSTAMP:20260423T125839
CREATED:20241101T192102Z
LAST-MODIFIED:20241101T192243Z
UID:10000930-1787482800-1787488200@www.vancouversaicentre.org
SUMMARY:SSE Class
DESCRIPTION:
URL:https://www.vancouversaicentre.org/event/sse-class/2026-08-23/
LOCATION:BC
END:VEVENT
BEGIN:VEVENT
DTSTART;TZID=America/Vancouver:20260825T200000
DTEND;TZID=America/Vancouver:20260825T210000
DTSTAMP:20260423T125839
CREATED:20250103T184334Z
LAST-MODIFIED:20250103T184334Z
UID:10002145-1787688000-1787691600@www.vancouversaicentre.org
SUMMARY:Collective Reading of Spiritual Literature (Zoom)
DESCRIPTION:
URL:https://www.vancouversaicentre.org/event/collective-reading-of-spiritual-literature-zoom-2/2026-08-25/
LOCATION:BC
END:VEVENT
BEGIN:VEVENT
DTSTART;TZID=America/Vancouver:20260826T190000
DTEND;TZID=America/Vancouver:20260826T200000
DTSTAMP:20260423T125839
CREATED:20241101T193346Z
LAST-MODIFIED:20241101T193346Z
UID:10001197-1787770800-1787774400@www.vancouversaicentre.org
SUMMARY:Self Study Hub (Zoom)
DESCRIPTION:
URL:https://www.vancouversaicentre.org/event/self-study-hub-zoom/2026-08-26/
LOCATION:BC
END:VEVENT
BEGIN:VEVENT
DTSTART;TZID=America/Vancouver:20260827T193000
DTEND;TZID=America/Vancouver:20260827T203000
DTSTAMP:20260423T125839
CREATED:20251224T050706Z
LAST-MODIFIED:20251229T175558Z
UID:10001458-1787859000-1787862600@www.vancouversaicentre.org
SUMMARY:Thursday Bhajan
DESCRIPTION:
URL:https://www.vancouversaicentre.org/event/thursday-bhajan-2-2/2026-08-27/
LOCATION:BC
END:VEVENT
BEGIN:VEVENT
DTSTART;TZID=America/Vancouver:20260829T110000
DTEND;TZID=America/Vancouver:20260829T120000
DTSTAMP:20260423T125839
CREATED:20241101T190143Z
LAST-MODIFIED:20241101T193902Z
UID:10000661-1788001200-1788004800@www.vancouversaicentre.org
SUMMARY:Open House
DESCRIPTION:
URL:https://www.vancouversaicentre.org/event/open-house-2/2026-08-29/
LOCATION:Sri Sathya Sai Centre of BC\, 2215\, E Pender St\, Vancouver\, BC\, V5L1X5\, Canada
END:VEVENT
BEGIN:VEVENT
DTSTART;TZID=America/Vancouver:20260830T110000
DTEND;TZID=America/Vancouver:20260830T123000
DTSTAMP:20260423T125839
CREATED:20241101T192102Z
LAST-MODIFIED:20241101T192243Z
UID:10000931-1788087600-1788093000@www.vancouversaicentre.org
SUMMARY:SSE Class
DESCRIPTION:
URL:https://www.vancouversaicentre.org/event/sse-class/2026-08-30/
LOCATION:BC
END:VEVENT
END:VCALENDAR