BEGIN:VCALENDAR
VERSION:2.0
PRODID:-//Sri Sathya Sai Community Centre of British Columbia - ECPv6.15.20//NONSGML v1.0//EN
CALSCALE:GREGORIAN
METHOD:PUBLISH
X-ORIGINAL-URL:https://www.vancouversaicentre.org
X-WR-CALDESC:Events for Sri Sathya Sai Community Centre of British Columbia
REFRESH-INTERVAL;VALUE=DURATION:PT1H
X-Robots-Tag:noindex
X-PUBLISHED-TTL:PT1H
BEGIN:VTIMEZONE
TZID:America/Vancouver
BEGIN:DAYLIGHT
TZOFFSETFROM:-0800
TZOFFSETTO:-0700
TZNAME:PDT
DTSTART:20250309T100000
END:DAYLIGHT
BEGIN:STANDARD
TZOFFSETFROM:-0700
TZOFFSETTO:-0800
TZNAME:PST
DTSTART:20251102T090000
END:STANDARD
BEGIN:DAYLIGHT
TZOFFSETFROM:-0800
TZOFFSETTO:-0700
TZNAME:PDT
DTSTART:20260308T100000
END:DAYLIGHT
BEGIN:STANDARD
TZOFFSETFROM:-0700
TZOFFSETTO:-0800
TZNAME:PST
DTSTART:20261101T090000
END:STANDARD
BEGIN:DAYLIGHT
TZOFFSETFROM:-0800
TZOFFSETTO:-0700
TZNAME:PDT
DTSTART:20270314T100000
END:DAYLIGHT
BEGIN:STANDARD
TZOFFSETFROM:-0700
TZOFFSETTO:-0800
TZNAME:PST
DTSTART:20271107T090000
END:STANDARD
END:VTIMEZONE
BEGIN:VEVENT
DTSTART;TZID=America/Vancouver:20260901T200000
DTEND;TZID=America/Vancouver:20260901T210000
DTSTAMP:20260423T144251
CREATED:20250103T184334Z
LAST-MODIFIED:20250103T184334Z
UID:10002146-1788292800-1788296400@www.vancouversaicentre.org
SUMMARY:Collective Reading of Spiritual Literature (Zoom)
DESCRIPTION:
URL:https://www.vancouversaicentre.org/event/collective-reading-of-spiritual-literature-zoom-2/2026-09-01/
LOCATION:BC
END:VEVENT
BEGIN:VEVENT
DTSTART;TZID=America/Vancouver:20260902T190000
DTEND;TZID=America/Vancouver:20260902T200000
DTSTAMP:20260423T144251
CREATED:20241101T193346Z
LAST-MODIFIED:20241101T193346Z
UID:10001198-1788375600-1788379200@www.vancouversaicentre.org
SUMMARY:Self Study Hub (Zoom)
DESCRIPTION:
URL:https://www.vancouversaicentre.org/event/self-study-hub-zoom/2026-09-02/
LOCATION:BC
END:VEVENT
BEGIN:VEVENT
DTSTART;TZID=America/Vancouver:20260903T193000
DTEND;TZID=America/Vancouver:20260903T203000
DTSTAMP:20260423T144251
CREATED:20251224T050706Z
LAST-MODIFIED:20251229T175558Z
UID:10001459-1788463800-1788467400@www.vancouversaicentre.org
SUMMARY:Thursday Bhajan
DESCRIPTION:
URL:https://www.vancouversaicentre.org/event/thursday-bhajan-2-2/2026-09-03/
LOCATION:BC
END:VEVENT
BEGIN:VEVENT
DTSTART;TZID=America/Vancouver:20260905T110000
DTEND;TZID=America/Vancouver:20260905T120000
DTSTAMP:20260423T144251
CREATED:20241101T190143Z
LAST-MODIFIED:20241101T193902Z
UID:10000662-1788606000-1788609600@www.vancouversaicentre.org
SUMMARY:Open House
DESCRIPTION:
URL:https://www.vancouversaicentre.org/event/open-house-2/2026-09-05/
LOCATION:Sri Sathya Sai Centre of BC\, 2215\, E Pender St\, Vancouver\, BC\, V5L1X5\, Canada
END:VEVENT
BEGIN:VEVENT
DTSTART;TZID=America/Vancouver:20260906T110000
DTEND;TZID=America/Vancouver:20260906T123000
DTSTAMP:20260423T144251
CREATED:20241101T192102Z
LAST-MODIFIED:20241101T192243Z
UID:10000932-1788692400-1788697800@www.vancouversaicentre.org
SUMMARY:SSE Class
DESCRIPTION:
URL:https://www.vancouversaicentre.org/event/sse-class/2026-09-06/
LOCATION:BC
END:VEVENT
BEGIN:VEVENT
DTSTART;TZID=America/Vancouver:20260908T200000
DTEND;TZID=America/Vancouver:20260908T210000
DTSTAMP:20260423T144251
CREATED:20250103T184334Z
LAST-MODIFIED:20250103T184334Z
UID:10002147-1788897600-1788901200@www.vancouversaicentre.org
SUMMARY:Collective Reading of Spiritual Literature (Zoom)
DESCRIPTION:
URL:https://www.vancouversaicentre.org/event/collective-reading-of-spiritual-literature-zoom-2/2026-09-08/
LOCATION:BC
END:VEVENT
BEGIN:VEVENT
DTSTART;TZID=America/Vancouver:20260909T190000
DTEND;TZID=America/Vancouver:20260909T200000
DTSTAMP:20260423T144251
CREATED:20241101T193346Z
LAST-MODIFIED:20241101T193346Z
UID:10001199-1788980400-1788984000@www.vancouversaicentre.org
SUMMARY:Self Study Hub (Zoom)
DESCRIPTION:
URL:https://www.vancouversaicentre.org/event/self-study-hub-zoom/2026-09-09/
LOCATION:BC
END:VEVENT
BEGIN:VEVENT
DTSTART;TZID=America/Vancouver:20260910T193000
DTEND;TZID=America/Vancouver:20260910T203000
DTSTAMP:20260423T144251
CREATED:20251224T050706Z
LAST-MODIFIED:20251229T175558Z
UID:10001460-1789068600-1789072200@www.vancouversaicentre.org
SUMMARY:Thursday Bhajan
DESCRIPTION:
URL:https://www.vancouversaicentre.org/event/thursday-bhajan-2-2/2026-09-10/
LOCATION:BC
END:VEVENT
BEGIN:VEVENT
DTSTART;TZID=America/Vancouver:20260912T110000
DTEND;TZID=America/Vancouver:20260912T120000
DTSTAMP:20260423T144251
CREATED:20241101T190143Z
LAST-MODIFIED:20241101T193902Z
UID:10000663-1789210800-1789214400@www.vancouversaicentre.org
SUMMARY:Open House
DESCRIPTION:
URL:https://www.vancouversaicentre.org/event/open-house-2/2026-09-12/
LOCATION:Sri Sathya Sai Centre of BC\, 2215\, E Pender St\, Vancouver\, BC\, V5L1X5\, Canada
END:VEVENT
BEGIN:VEVENT
DTSTART;TZID=America/Vancouver:20260913T110000
DTEND;TZID=America/Vancouver:20260913T123000
DTSTAMP:20260423T144251
CREATED:20241101T192102Z
LAST-MODIFIED:20241101T192243Z
UID:10000933-1789297200-1789302600@www.vancouversaicentre.org
SUMMARY:SSE Class
DESCRIPTION:
URL:https://www.vancouversaicentre.org/event/sse-class/2026-09-13/
LOCATION:BC
END:VEVENT
BEGIN:VEVENT
DTSTART;TZID=America/Vancouver:20260915T200000
DTEND;TZID=America/Vancouver:20260915T210000
DTSTAMP:20260423T144251
CREATED:20250103T184334Z
LAST-MODIFIED:20250103T184334Z
UID:10002148-1789502400-1789506000@www.vancouversaicentre.org
SUMMARY:Collective Reading of Spiritual Literature (Zoom)
DESCRIPTION:
URL:https://www.vancouversaicentre.org/event/collective-reading-of-spiritual-literature-zoom-2/2026-09-15/
LOCATION:BC
END:VEVENT
BEGIN:VEVENT
DTSTART;TZID=America/Vancouver:20260916T190000
DTEND;TZID=America/Vancouver:20260916T200000
DTSTAMP:20260423T144251
CREATED:20241101T193346Z
LAST-MODIFIED:20241101T193346Z
UID:10001200-1789585200-1789588800@www.vancouversaicentre.org
SUMMARY:Self Study Hub (Zoom)
DESCRIPTION:
URL:https://www.vancouversaicentre.org/event/self-study-hub-zoom/2026-09-16/
LOCATION:BC
END:VEVENT
BEGIN:VEVENT
DTSTART;TZID=America/Vancouver:20260917T193000
DTEND;TZID=America/Vancouver:20260917T203000
DTSTAMP:20260423T144251
CREATED:20251224T050706Z
LAST-MODIFIED:20251229T175558Z
UID:10001461-1789673400-1789677000@www.vancouversaicentre.org
SUMMARY:Thursday Bhajan
DESCRIPTION:
URL:https://www.vancouversaicentre.org/event/thursday-bhajan-2-2/2026-09-17/
LOCATION:BC
END:VEVENT
BEGIN:VEVENT
DTSTART;TZID=America/Vancouver:20260919T110000
DTEND;TZID=America/Vancouver:20260919T120000
DTSTAMP:20260423T144251
CREATED:20241101T190143Z
LAST-MODIFIED:20241101T193902Z
UID:10000664-1789815600-1789819200@www.vancouversaicentre.org
SUMMARY:Open House
DESCRIPTION:
URL:https://www.vancouversaicentre.org/event/open-house-2/2026-09-19/
LOCATION:Sri Sathya Sai Centre of BC\, 2215\, E Pender St\, Vancouver\, BC\, V5L1X5\, Canada
END:VEVENT
BEGIN:VEVENT
DTSTART;TZID=America/Vancouver:20260920T110000
DTEND;TZID=America/Vancouver:20260920T123000
DTSTAMP:20260423T144251
CREATED:20241101T192102Z
LAST-MODIFIED:20241101T192243Z
UID:10000934-1789902000-1789907400@www.vancouversaicentre.org
SUMMARY:SSE Class
DESCRIPTION:
URL:https://www.vancouversaicentre.org/event/sse-class/2026-09-20/
LOCATION:BC
END:VEVENT
BEGIN:VEVENT
DTSTART;TZID=America/Vancouver:20260922T200000
DTEND;TZID=America/Vancouver:20260922T210000
DTSTAMP:20260423T144251
CREATED:20250103T184334Z
LAST-MODIFIED:20250103T184334Z
UID:10002149-1790107200-1790110800@www.vancouversaicentre.org
SUMMARY:Collective Reading of Spiritual Literature (Zoom)
DESCRIPTION:
URL:https://www.vancouversaicentre.org/event/collective-reading-of-spiritual-literature-zoom-2/2026-09-22/
LOCATION:BC
END:VEVENT
BEGIN:VEVENT
DTSTART;TZID=America/Vancouver:20260923T190000
DTEND;TZID=America/Vancouver:20260923T200000
DTSTAMP:20260423T144251
CREATED:20241101T193346Z
LAST-MODIFIED:20241101T193346Z
UID:10001201-1790190000-1790193600@www.vancouversaicentre.org
SUMMARY:Self Study Hub (Zoom)
DESCRIPTION:
URL:https://www.vancouversaicentre.org/event/self-study-hub-zoom/2026-09-23/
LOCATION:BC
END:VEVENT
BEGIN:VEVENT
DTSTART;TZID=America/Vancouver:20260924T193000
DTEND;TZID=America/Vancouver:20260924T203000
DTSTAMP:20260423T144251
CREATED:20251224T050706Z
LAST-MODIFIED:20251229T175558Z
UID:10001462-1790278200-1790281800@www.vancouversaicentre.org
SUMMARY:Thursday Bhajan
DESCRIPTION:
URL:https://www.vancouversaicentre.org/event/thursday-bhajan-2-2/2026-09-24/
LOCATION:BC
END:VEVENT
BEGIN:VEVENT
DTSTART;TZID=America/Vancouver:20260926T110000
DTEND;TZID=America/Vancouver:20260926T120000
DTSTAMP:20260423T144251
CREATED:20241101T190143Z
LAST-MODIFIED:20241101T193902Z
UID:10000665-1790420400-1790424000@www.vancouversaicentre.org
SUMMARY:Open House
DESCRIPTION:
URL:https://www.vancouversaicentre.org/event/open-house-2/2026-09-26/
LOCATION:Sri Sathya Sai Centre of BC\, 2215\, E Pender St\, Vancouver\, BC\, V5L1X5\, Canada
END:VEVENT
BEGIN:VEVENT
DTSTART;TZID=America/Vancouver:20260927T110000
DTEND;TZID=America/Vancouver:20260927T123000
DTSTAMP:20260423T144251
CREATED:20241101T192102Z
LAST-MODIFIED:20241101T192243Z
UID:10000935-1790506800-1790512200@www.vancouversaicentre.org
SUMMARY:SSE Class
DESCRIPTION:
URL:https://www.vancouversaicentre.org/event/sse-class/2026-09-27/
LOCATION:BC
END:VEVENT
BEGIN:VEVENT
DTSTART;TZID=America/Vancouver:20260929T200000
DTEND;TZID=America/Vancouver:20260929T210000
DTSTAMP:20260423T144251
CREATED:20250103T184334Z
LAST-MODIFIED:20250103T184334Z
UID:10002150-1790712000-1790715600@www.vancouversaicentre.org
SUMMARY:Collective Reading of Spiritual Literature (Zoom)
DESCRIPTION:
URL:https://www.vancouversaicentre.org/event/collective-reading-of-spiritual-literature-zoom-2/2026-09-29/
LOCATION:BC
END:VEVENT
BEGIN:VEVENT
DTSTART;TZID=America/Vancouver:20260930T190000
DTEND;TZID=America/Vancouver:20260930T200000
DTSTAMP:20260423T144251
CREATED:20241101T193346Z
LAST-MODIFIED:20241101T193346Z
UID:10001202-1790794800-1790798400@www.vancouversaicentre.org
SUMMARY:Self Study Hub (Zoom)
DESCRIPTION:
URL:https://www.vancouversaicentre.org/event/self-study-hub-zoom/2026-09-30/
LOCATION:BC
END:VEVENT
END:VCALENDAR