BEGIN:VCALENDAR
VERSION:2.0
PRODID:-//Sri Sathya Sai Community Centre of British Columbia - ECPv6.15.20//NONSGML v1.0//EN
CALSCALE:GREGORIAN
METHOD:PUBLISH
X-WR-CALNAME:Sri Sathya Sai Community Centre of British Columbia
X-ORIGINAL-URL:https://www.vancouversaicentre.org
X-WR-CALDESC:Events for Sri Sathya Sai Community Centre of British Columbia
REFRESH-INTERVAL;VALUE=DURATION:PT1H
X-Robots-Tag:noindex
X-PUBLISHED-TTL:PT1H
BEGIN:VTIMEZONE
TZID:America/Vancouver
BEGIN:DAYLIGHT
TZOFFSETFROM:-0800
TZOFFSETTO:-0700
TZNAME:PDT
DTSTART:20250309T100000
END:DAYLIGHT
BEGIN:STANDARD
TZOFFSETFROM:-0700
TZOFFSETTO:-0800
TZNAME:PST
DTSTART:20251102T090000
END:STANDARD
BEGIN:DAYLIGHT
TZOFFSETFROM:-0800
TZOFFSETTO:-0700
TZNAME:PDT
DTSTART:20260308T100000
END:DAYLIGHT
BEGIN:STANDARD
TZOFFSETFROM:-0700
TZOFFSETTO:-0800
TZNAME:PST
DTSTART:20261101T090000
END:STANDARD
BEGIN:DAYLIGHT
TZOFFSETFROM:-0800
TZOFFSETTO:-0700
TZNAME:PDT
DTSTART:20270314T100000
END:DAYLIGHT
BEGIN:STANDARD
TZOFFSETFROM:-0700
TZOFFSETTO:-0800
TZNAME:PST
DTSTART:20271107T090000
END:STANDARD
END:VTIMEZONE
BEGIN:VEVENT
DTSTART;TZID=America/Vancouver:20261101T110000
DTEND;TZID=America/Vancouver:20261101T123000
DTSTAMP:20260423T175133
CREATED:20241101T192102Z
LAST-MODIFIED:20241101T192243Z
UID:10000940-1793530800-1793536200@www.vancouversaicentre.org
SUMMARY:SSE Class
DESCRIPTION:
URL:https://www.vancouversaicentre.org/event/sse-class/2026-11-01/
LOCATION:BC
END:VEVENT
BEGIN:VEVENT
DTSTART;TZID=America/Vancouver:20261103T200000
DTEND;TZID=America/Vancouver:20261103T210000
DTSTAMP:20260423T175133
CREATED:20250103T184334Z
LAST-MODIFIED:20250103T184334Z
UID:10002155-1793736000-1793739600@www.vancouversaicentre.org
SUMMARY:Collective Reading of Spiritual Literature (Zoom)
DESCRIPTION:
URL:https://www.vancouversaicentre.org/event/collective-reading-of-spiritual-literature-zoom-2/2026-11-03/
LOCATION:BC
END:VEVENT
BEGIN:VEVENT
DTSTART;TZID=America/Vancouver:20261104T190000
DTEND;TZID=America/Vancouver:20261104T200000
DTSTAMP:20260423T175133
CREATED:20241101T193346Z
LAST-MODIFIED:20241101T193346Z
UID:10001207-1793818800-1793822400@www.vancouversaicentre.org
SUMMARY:Self Study Hub (Zoom)
DESCRIPTION:
URL:https://www.vancouversaicentre.org/event/self-study-hub-zoom/2026-11-04/
LOCATION:BC
END:VEVENT
BEGIN:VEVENT
DTSTART;TZID=America/Vancouver:20261105T193000
DTEND;TZID=America/Vancouver:20261105T203000
DTSTAMP:20260423T175133
CREATED:20251224T050706Z
LAST-MODIFIED:20251229T175558Z
UID:10001468-1793907000-1793910600@www.vancouversaicentre.org
SUMMARY:Thursday Bhajan
DESCRIPTION:
URL:https://www.vancouversaicentre.org/event/thursday-bhajan-2-2/2026-11-05/
LOCATION:BC
END:VEVENT
BEGIN:VEVENT
DTSTART;TZID=America/Vancouver:20261107T110000
DTEND;TZID=America/Vancouver:20261107T120000
DTSTAMP:20260423T175133
CREATED:20241101T190143Z
LAST-MODIFIED:20241101T193902Z
UID:10000671-1794049200-1794052800@www.vancouversaicentre.org
SUMMARY:Open House
DESCRIPTION:
URL:https://www.vancouversaicentre.org/event/open-house-2/2026-11-07/
LOCATION:Sri Sathya Sai Centre of BC\, 2215\, E Pender St\, Vancouver\, BC\, V5L1X5\, Canada
END:VEVENT
BEGIN:VEVENT
DTSTART;TZID=America/Vancouver:20261108T110000
DTEND;TZID=America/Vancouver:20261108T123000
DTSTAMP:20260423T175133
CREATED:20241101T192102Z
LAST-MODIFIED:20241101T192243Z
UID:10000941-1794135600-1794141000@www.vancouversaicentre.org
SUMMARY:SSE Class
DESCRIPTION:
URL:https://www.vancouversaicentre.org/event/sse-class/2026-11-08/
LOCATION:BC
END:VEVENT
BEGIN:VEVENT
DTSTART;TZID=America/Vancouver:20261110T200000
DTEND;TZID=America/Vancouver:20261110T210000
DTSTAMP:20260423T175133
CREATED:20250103T184334Z
LAST-MODIFIED:20250103T184334Z
UID:10002156-1794340800-1794344400@www.vancouversaicentre.org
SUMMARY:Collective Reading of Spiritual Literature (Zoom)
DESCRIPTION:
URL:https://www.vancouversaicentre.org/event/collective-reading-of-spiritual-literature-zoom-2/2026-11-10/
LOCATION:BC
END:VEVENT
BEGIN:VEVENT
DTSTART;TZID=America/Vancouver:20261111T190000
DTEND;TZID=America/Vancouver:20261111T200000
DTSTAMP:20260423T175133
CREATED:20241101T193346Z
LAST-MODIFIED:20241101T193346Z
UID:10001208-1794423600-1794427200@www.vancouversaicentre.org
SUMMARY:Self Study Hub (Zoom)
DESCRIPTION:
URL:https://www.vancouversaicentre.org/event/self-study-hub-zoom/2026-11-11/
LOCATION:BC
END:VEVENT
BEGIN:VEVENT
DTSTART;TZID=America/Vancouver:20261112T193000
DTEND;TZID=America/Vancouver:20261112T203000
DTSTAMP:20260423T175133
CREATED:20251224T050706Z
LAST-MODIFIED:20251229T175558Z
UID:10001469-1794511800-1794515400@www.vancouversaicentre.org
SUMMARY:Thursday Bhajan
DESCRIPTION:
URL:https://www.vancouversaicentre.org/event/thursday-bhajan-2-2/2026-11-12/
LOCATION:BC
END:VEVENT
BEGIN:VEVENT
DTSTART;TZID=America/Vancouver:20261114T110000
DTEND;TZID=America/Vancouver:20261114T120000
DTSTAMP:20260423T175133
CREATED:20241101T190143Z
LAST-MODIFIED:20241101T193902Z
UID:10000672-1794654000-1794657600@www.vancouversaicentre.org
SUMMARY:Open House
DESCRIPTION:
URL:https://www.vancouversaicentre.org/event/open-house-2/2026-11-14/
LOCATION:Sri Sathya Sai Centre of BC\, 2215\, E Pender St\, Vancouver\, BC\, V5L1X5\, Canada
END:VEVENT
BEGIN:VEVENT
DTSTART;TZID=America/Vancouver:20261115T110000
DTEND;TZID=America/Vancouver:20261115T123000
DTSTAMP:20260423T175133
CREATED:20241101T192102Z
LAST-MODIFIED:20241101T192243Z
UID:10000942-1794740400-1794745800@www.vancouversaicentre.org
SUMMARY:SSE Class
DESCRIPTION:
URL:https://www.vancouversaicentre.org/event/sse-class/2026-11-15/
LOCATION:BC
END:VEVENT
BEGIN:VEVENT
DTSTART;TZID=America/Vancouver:20261117T200000
DTEND;TZID=America/Vancouver:20261117T210000
DTSTAMP:20260423T175133
CREATED:20250103T184334Z
LAST-MODIFIED:20250103T184334Z
UID:10002157-1794945600-1794949200@www.vancouversaicentre.org
SUMMARY:Collective Reading of Spiritual Literature (Zoom)
DESCRIPTION:
URL:https://www.vancouversaicentre.org/event/collective-reading-of-spiritual-literature-zoom-2/2026-11-17/
LOCATION:BC
END:VEVENT
BEGIN:VEVENT
DTSTART;TZID=America/Vancouver:20261118T190000
DTEND;TZID=America/Vancouver:20261118T200000
DTSTAMP:20260423T175133
CREATED:20241101T193346Z
LAST-MODIFIED:20241101T193346Z
UID:10001209-1795028400-1795032000@www.vancouversaicentre.org
SUMMARY:Self Study Hub (Zoom)
DESCRIPTION:
URL:https://www.vancouversaicentre.org/event/self-study-hub-zoom/2026-11-18/
LOCATION:BC
END:VEVENT
BEGIN:VEVENT
DTSTART;TZID=America/Vancouver:20261119T193000
DTEND;TZID=America/Vancouver:20261119T203000
DTSTAMP:20260423T175133
CREATED:20251224T050706Z
LAST-MODIFIED:20251229T175558Z
UID:10001470-1795116600-1795120200@www.vancouversaicentre.org
SUMMARY:Thursday Bhajan
DESCRIPTION:
URL:https://www.vancouversaicentre.org/event/thursday-bhajan-2-2/2026-11-19/
LOCATION:BC
END:VEVENT
BEGIN:VEVENT
DTSTART;TZID=America/Vancouver:20261121T110000
DTEND;TZID=America/Vancouver:20261121T120000
DTSTAMP:20260423T175133
CREATED:20241101T190143Z
LAST-MODIFIED:20241101T193902Z
UID:10000673-1795258800-1795262400@www.vancouversaicentre.org
SUMMARY:Open House
DESCRIPTION:
URL:https://www.vancouversaicentre.org/event/open-house-2/2026-11-21/
LOCATION:Sri Sathya Sai Centre of BC\, 2215\, E Pender St\, Vancouver\, BC\, V5L1X5\, Canada
END:VEVENT
BEGIN:VEVENT
DTSTART;TZID=America/Vancouver:20261122T110000
DTEND;TZID=America/Vancouver:20261122T123000
DTSTAMP:20260423T175133
CREATED:20241101T192102Z
LAST-MODIFIED:20241101T192243Z
UID:10000943-1795345200-1795350600@www.vancouversaicentre.org
SUMMARY:SSE Class
DESCRIPTION:
URL:https://www.vancouversaicentre.org/event/sse-class/2026-11-22/
LOCATION:BC
END:VEVENT
BEGIN:VEVENT
DTSTART;TZID=America/Vancouver:20261124T200000
DTEND;TZID=America/Vancouver:20261124T210000
DTSTAMP:20260423T175133
CREATED:20250103T184334Z
LAST-MODIFIED:20250103T184334Z
UID:10002158-1795550400-1795554000@www.vancouversaicentre.org
SUMMARY:Collective Reading of Spiritual Literature (Zoom)
DESCRIPTION:
URL:https://www.vancouversaicentre.org/event/collective-reading-of-spiritual-literature-zoom-2/2026-11-24/
LOCATION:BC
END:VEVENT
BEGIN:VEVENT
DTSTART;TZID=America/Vancouver:20261125T190000
DTEND;TZID=America/Vancouver:20261125T200000
DTSTAMP:20260423T175133
CREATED:20241101T193346Z
LAST-MODIFIED:20241101T193346Z
UID:10001210-1795633200-1795636800@www.vancouversaicentre.org
SUMMARY:Self Study Hub (Zoom)
DESCRIPTION:
URL:https://www.vancouversaicentre.org/event/self-study-hub-zoom/2026-11-25/
LOCATION:BC
END:VEVENT
BEGIN:VEVENT
DTSTART;TZID=America/Vancouver:20261126T193000
DTEND;TZID=America/Vancouver:20261126T203000
DTSTAMP:20260423T175133
CREATED:20251224T050706Z
LAST-MODIFIED:20251229T175558Z
UID:10001471-1795721400-1795725000@www.vancouversaicentre.org
SUMMARY:Thursday Bhajan
DESCRIPTION:
URL:https://www.vancouversaicentre.org/event/thursday-bhajan-2-2/2026-11-26/
LOCATION:BC
END:VEVENT
BEGIN:VEVENT
DTSTART;TZID=America/Vancouver:20261128T110000
DTEND;TZID=America/Vancouver:20261128T120000
DTSTAMP:20260423T175133
CREATED:20241101T190143Z
LAST-MODIFIED:20241101T193902Z
UID:10000674-1795863600-1795867200@www.vancouversaicentre.org
SUMMARY:Open House
DESCRIPTION:
URL:https://www.vancouversaicentre.org/event/open-house-2/2026-11-28/
LOCATION:Sri Sathya Sai Centre of BC\, 2215\, E Pender St\, Vancouver\, BC\, V5L1X5\, Canada
END:VEVENT
BEGIN:VEVENT
DTSTART;TZID=America/Vancouver:20261129T110000
DTEND;TZID=America/Vancouver:20261129T123000
DTSTAMP:20260423T175133
CREATED:20241101T192102Z
LAST-MODIFIED:20241101T192243Z
UID:10000944-1795950000-1795955400@www.vancouversaicentre.org
SUMMARY:SSE Class
DESCRIPTION:
URL:https://www.vancouversaicentre.org/event/sse-class/2026-11-29/
LOCATION:BC
END:VEVENT
END:VCALENDAR