BEGIN:VCALENDAR
VERSION:2.0
PRODID:-//Sri Sathya Sai Community Centre of British Columbia - ECPv6.15.20//NONSGML v1.0//EN
CALSCALE:GREGORIAN
METHOD:PUBLISH
X-ORIGINAL-URL:https://www.vancouversaicentre.org
X-WR-CALDESC:Events for Sri Sathya Sai Community Centre of British Columbia
REFRESH-INTERVAL;VALUE=DURATION:PT1H
X-Robots-Tag:noindex
X-PUBLISHED-TTL:PT1H
BEGIN:VTIMEZONE
TZID:America/Vancouver
BEGIN:DAYLIGHT
TZOFFSETFROM:-0800
TZOFFSETTO:-0700
TZNAME:PDT
DTSTART:20250309T100000
END:DAYLIGHT
BEGIN:STANDARD
TZOFFSETFROM:-0700
TZOFFSETTO:-0800
TZNAME:PST
DTSTART:20251102T090000
END:STANDARD
BEGIN:DAYLIGHT
TZOFFSETFROM:-0800
TZOFFSETTO:-0700
TZNAME:PDT
DTSTART:20260308T100000
END:DAYLIGHT
BEGIN:STANDARD
TZOFFSETFROM:-0700
TZOFFSETTO:-0800
TZNAME:PST
DTSTART:20261101T090000
END:STANDARD
BEGIN:DAYLIGHT
TZOFFSETFROM:-0800
TZOFFSETTO:-0700
TZNAME:PDT
DTSTART:20270314T100000
END:DAYLIGHT
BEGIN:STANDARD
TZOFFSETFROM:-0700
TZOFFSETTO:-0800
TZNAME:PST
DTSTART:20271107T090000
END:STANDARD
END:VTIMEZONE
BEGIN:VEVENT
DTSTART;TZID=America/Vancouver:20261201T200000
DTEND;TZID=America/Vancouver:20261201T210000
DTSTAMP:20260423T191621
CREATED:20250103T184334Z
LAST-MODIFIED:20250103T184334Z
UID:10002159-1796155200-1796158800@www.vancouversaicentre.org
SUMMARY:Collective Reading of Spiritual Literature (Zoom)
DESCRIPTION:
URL:https://www.vancouversaicentre.org/event/collective-reading-of-spiritual-literature-zoom-2/2026-12-01/
LOCATION:BC
END:VEVENT
BEGIN:VEVENT
DTSTART;TZID=America/Vancouver:20261202T190000
DTEND;TZID=America/Vancouver:20261202T200000
DTSTAMP:20260423T191621
CREATED:20241101T193346Z
LAST-MODIFIED:20241101T193346Z
UID:10001211-1796238000-1796241600@www.vancouversaicentre.org
SUMMARY:Self Study Hub (Zoom)
DESCRIPTION:
URL:https://www.vancouversaicentre.org/event/self-study-hub-zoom/2026-12-02/
LOCATION:BC
END:VEVENT
BEGIN:VEVENT
DTSTART;TZID=America/Vancouver:20261203T193000
DTEND;TZID=America/Vancouver:20261203T203000
DTSTAMP:20260423T191621
CREATED:20251224T050706Z
LAST-MODIFIED:20251229T175558Z
UID:10001472-1796326200-1796329800@www.vancouversaicentre.org
SUMMARY:Thursday Bhajan
DESCRIPTION:
URL:https://www.vancouversaicentre.org/event/thursday-bhajan-2-2/2026-12-03/
LOCATION:BC
END:VEVENT
BEGIN:VEVENT
DTSTART;TZID=America/Vancouver:20261205T110000
DTEND;TZID=America/Vancouver:20261205T120000
DTSTAMP:20260423T191621
CREATED:20241101T190143Z
LAST-MODIFIED:20241101T193902Z
UID:10000675-1796468400-1796472000@www.vancouversaicentre.org
SUMMARY:Open House
DESCRIPTION:
URL:https://www.vancouversaicentre.org/event/open-house-2/2026-12-05/
LOCATION:Sri Sathya Sai Centre of BC\, 2215\, E Pender St\, Vancouver\, BC\, V5L1X5\, Canada
END:VEVENT
BEGIN:VEVENT
DTSTART;TZID=America/Vancouver:20261206T110000
DTEND;TZID=America/Vancouver:20261206T123000
DTSTAMP:20260423T191621
CREATED:20241101T192102Z
LAST-MODIFIED:20241101T192243Z
UID:10000945-1796554800-1796560200@www.vancouversaicentre.org
SUMMARY:SSE Class
DESCRIPTION:
URL:https://www.vancouversaicentre.org/event/sse-class/2026-12-06/
LOCATION:BC
END:VEVENT
BEGIN:VEVENT
DTSTART;TZID=America/Vancouver:20261208T200000
DTEND;TZID=America/Vancouver:20261208T210000
DTSTAMP:20260423T191621
CREATED:20250103T184334Z
LAST-MODIFIED:20250103T184334Z
UID:10002160-1796760000-1796763600@www.vancouversaicentre.org
SUMMARY:Collective Reading of Spiritual Literature (Zoom)
DESCRIPTION:
URL:https://www.vancouversaicentre.org/event/collective-reading-of-spiritual-literature-zoom-2/2026-12-08/
LOCATION:BC
END:VEVENT
BEGIN:VEVENT
DTSTART;TZID=America/Vancouver:20261209T190000
DTEND;TZID=America/Vancouver:20261209T200000
DTSTAMP:20260423T191621
CREATED:20241101T193346Z
LAST-MODIFIED:20241101T193346Z
UID:10001212-1796842800-1796846400@www.vancouversaicentre.org
SUMMARY:Self Study Hub (Zoom)
DESCRIPTION:
URL:https://www.vancouversaicentre.org/event/self-study-hub-zoom/2026-12-09/
LOCATION:BC
END:VEVENT
BEGIN:VEVENT
DTSTART;TZID=America/Vancouver:20261210T193000
DTEND;TZID=America/Vancouver:20261210T203000
DTSTAMP:20260423T191621
CREATED:20251224T050706Z
LAST-MODIFIED:20251229T175558Z
UID:10001473-1796931000-1796934600@www.vancouversaicentre.org
SUMMARY:Thursday Bhajan
DESCRIPTION:
URL:https://www.vancouversaicentre.org/event/thursday-bhajan-2-2/2026-12-10/
LOCATION:BC
END:VEVENT
BEGIN:VEVENT
DTSTART;TZID=America/Vancouver:20261212T110000
DTEND;TZID=America/Vancouver:20261212T120000
DTSTAMP:20260423T191621
CREATED:20241101T190143Z
LAST-MODIFIED:20241101T193902Z
UID:10000676-1797073200-1797076800@www.vancouversaicentre.org
SUMMARY:Open House
DESCRIPTION:
URL:https://www.vancouversaicentre.org/event/open-house-2/2026-12-12/
LOCATION:Sri Sathya Sai Centre of BC\, 2215\, E Pender St\, Vancouver\, BC\, V5L1X5\, Canada
END:VEVENT
BEGIN:VEVENT
DTSTART;TZID=America/Vancouver:20261213T110000
DTEND;TZID=America/Vancouver:20261213T123000
DTSTAMP:20260423T191621
CREATED:20241101T192102Z
LAST-MODIFIED:20241101T192243Z
UID:10000946-1797159600-1797165000@www.vancouversaicentre.org
SUMMARY:SSE Class
DESCRIPTION:
URL:https://www.vancouversaicentre.org/event/sse-class/2026-12-13/
LOCATION:BC
END:VEVENT
BEGIN:VEVENT
DTSTART;TZID=America/Vancouver:20261215T200000
DTEND;TZID=America/Vancouver:20261215T210000
DTSTAMP:20260423T191621
CREATED:20250103T184334Z
LAST-MODIFIED:20250103T184334Z
UID:10002161-1797364800-1797368400@www.vancouversaicentre.org
SUMMARY:Collective Reading of Spiritual Literature (Zoom)
DESCRIPTION:
URL:https://www.vancouversaicentre.org/event/collective-reading-of-spiritual-literature-zoom-2/2026-12-15/
LOCATION:BC
END:VEVENT
BEGIN:VEVENT
DTSTART;TZID=America/Vancouver:20261216T190000
DTEND;TZID=America/Vancouver:20261216T200000
DTSTAMP:20260423T191621
CREATED:20241101T193346Z
LAST-MODIFIED:20241101T193346Z
UID:10001213-1797447600-1797451200@www.vancouversaicentre.org
SUMMARY:Self Study Hub (Zoom)
DESCRIPTION:
URL:https://www.vancouversaicentre.org/event/self-study-hub-zoom/2026-12-16/
LOCATION:BC
END:VEVENT
BEGIN:VEVENT
DTSTART;TZID=America/Vancouver:20261217T193000
DTEND;TZID=America/Vancouver:20261217T203000
DTSTAMP:20260423T191621
CREATED:20251224T050706Z
LAST-MODIFIED:20251229T175558Z
UID:10001474-1797535800-1797539400@www.vancouversaicentre.org
SUMMARY:Thursday Bhajan
DESCRIPTION:
URL:https://www.vancouversaicentre.org/event/thursday-bhajan-2-2/2026-12-17/
LOCATION:BC
END:VEVENT
BEGIN:VEVENT
DTSTART;TZID=America/Vancouver:20261219T110000
DTEND;TZID=America/Vancouver:20261219T120000
DTSTAMP:20260423T191621
CREATED:20241101T190143Z
LAST-MODIFIED:20241101T193902Z
UID:10000677-1797678000-1797681600@www.vancouversaicentre.org
SUMMARY:Open House
DESCRIPTION:
URL:https://www.vancouversaicentre.org/event/open-house-2/2026-12-19/
LOCATION:Sri Sathya Sai Centre of BC\, 2215\, E Pender St\, Vancouver\, BC\, V5L1X5\, Canada
END:VEVENT
BEGIN:VEVENT
DTSTART;TZID=America/Vancouver:20261220T110000
DTEND;TZID=America/Vancouver:20261220T123000
DTSTAMP:20260423T191621
CREATED:20241101T192102Z
LAST-MODIFIED:20241101T192243Z
UID:10000947-1797764400-1797769800@www.vancouversaicentre.org
SUMMARY:SSE Class
DESCRIPTION:
URL:https://www.vancouversaicentre.org/event/sse-class/2026-12-20/
LOCATION:BC
END:VEVENT
BEGIN:VEVENT
DTSTART;TZID=America/Vancouver:20261222T200000
DTEND;TZID=America/Vancouver:20261222T210000
DTSTAMP:20260423T191621
CREATED:20250103T184334Z
LAST-MODIFIED:20250103T184334Z
UID:10002162-1797969600-1797973200@www.vancouversaicentre.org
SUMMARY:Collective Reading of Spiritual Literature (Zoom)
DESCRIPTION:
URL:https://www.vancouversaicentre.org/event/collective-reading-of-spiritual-literature-zoom-2/2026-12-22/
LOCATION:BC
END:VEVENT
BEGIN:VEVENT
DTSTART;TZID=America/Vancouver:20261223T190000
DTEND;TZID=America/Vancouver:20261223T200000
DTSTAMP:20260423T191621
CREATED:20241101T193346Z
LAST-MODIFIED:20241101T193346Z
UID:10001214-1798052400-1798056000@www.vancouversaicentre.org
SUMMARY:Self Study Hub (Zoom)
DESCRIPTION:
URL:https://www.vancouversaicentre.org/event/self-study-hub-zoom/2026-12-23/
LOCATION:BC
END:VEVENT
BEGIN:VEVENT
DTSTART;TZID=America/Vancouver:20261224T193000
DTEND;TZID=America/Vancouver:20261224T203000
DTSTAMP:20260423T191621
CREATED:20251224T050706Z
LAST-MODIFIED:20251229T175558Z
UID:10001475-1798140600-1798144200@www.vancouversaicentre.org
SUMMARY:Thursday Bhajan
DESCRIPTION:
URL:https://www.vancouversaicentre.org/event/thursday-bhajan-2-2/2026-12-24/
LOCATION:BC
END:VEVENT
BEGIN:VEVENT
DTSTART;TZID=America/Vancouver:20261226T110000
DTEND;TZID=America/Vancouver:20261226T120000
DTSTAMP:20260423T191621
CREATED:20241101T190143Z
LAST-MODIFIED:20241101T193902Z
UID:10000678-1798282800-1798286400@www.vancouversaicentre.org
SUMMARY:Open House
DESCRIPTION:
URL:https://www.vancouversaicentre.org/event/open-house-2/2026-12-26/
LOCATION:Sri Sathya Sai Centre of BC\, 2215\, E Pender St\, Vancouver\, BC\, V5L1X5\, Canada
END:VEVENT
BEGIN:VEVENT
DTSTART;TZID=America/Vancouver:20261227T110000
DTEND;TZID=America/Vancouver:20261227T123000
DTSTAMP:20260423T191621
CREATED:20241101T192102Z
LAST-MODIFIED:20241101T192243Z
UID:10000948-1798369200-1798374600@www.vancouversaicentre.org
SUMMARY:SSE Class
DESCRIPTION:
URL:https://www.vancouversaicentre.org/event/sse-class/2026-12-27/
LOCATION:BC
END:VEVENT
BEGIN:VEVENT
DTSTART;TZID=America/Vancouver:20261229T200000
DTEND;TZID=America/Vancouver:20261229T210000
DTSTAMP:20260423T191621
CREATED:20250103T184334Z
LAST-MODIFIED:20250103T184334Z
UID:10002163-1798574400-1798578000@www.vancouversaicentre.org
SUMMARY:Collective Reading of Spiritual Literature (Zoom)
DESCRIPTION:
URL:https://www.vancouversaicentre.org/event/collective-reading-of-spiritual-literature-zoom-2/2026-12-29/
LOCATION:BC
END:VEVENT
BEGIN:VEVENT
DTSTART;TZID=America/Vancouver:20261230T190000
DTEND;TZID=America/Vancouver:20261230T200000
DTSTAMP:20260423T191621
CREATED:20241101T193346Z
LAST-MODIFIED:20241101T193346Z
UID:10001215-1798657200-1798660800@www.vancouversaicentre.org
SUMMARY:Self Study Hub (Zoom)
DESCRIPTION:
URL:https://www.vancouversaicentre.org/event/self-study-hub-zoom/2026-12-30/
LOCATION:BC
END:VEVENT
BEGIN:VEVENT
DTSTART;TZID=America/Vancouver:20261231T193000
DTEND;TZID=America/Vancouver:20261231T203000
DTSTAMP:20260423T191621
CREATED:20251224T050706Z
LAST-MODIFIED:20251229T175558Z
UID:10001476-1798745400-1798749000@www.vancouversaicentre.org
SUMMARY:Thursday Bhajan
DESCRIPTION:
URL:https://www.vancouversaicentre.org/event/thursday-bhajan-2-2/2026-12-31/
LOCATION:BC
END:VEVENT
END:VCALENDAR