BEGIN:VCALENDAR
VERSION:2.0
PRODID:-//Sri Sathya Sai Community Centre of British Columbia - ECPv6.15.20//NONSGML v1.0//EN
CALSCALE:GREGORIAN
METHOD:PUBLISH
X-ORIGINAL-URL:https://www.vancouversaicentre.org
X-WR-CALDESC:Events for Sri Sathya Sai Community Centre of British Columbia
REFRESH-INTERVAL;VALUE=DURATION:PT1H
X-Robots-Tag:noindex
X-PUBLISHED-TTL:PT1H
BEGIN:VTIMEZONE
TZID:America/Vancouver
BEGIN:DAYLIGHT
TZOFFSETFROM:-0800
TZOFFSETTO:-0700
TZNAME:PDT
DTSTART:20260308T100000
END:DAYLIGHT
BEGIN:STANDARD
TZOFFSETFROM:-0700
TZOFFSETTO:-0800
TZNAME:PST
DTSTART:20261101T090000
END:STANDARD
BEGIN:DAYLIGHT
TZOFFSETFROM:-0800
TZOFFSETTO:-0700
TZNAME:PDT
DTSTART:20270314T100000
END:DAYLIGHT
BEGIN:STANDARD
TZOFFSETFROM:-0700
TZOFFSETTO:-0800
TZNAME:PST
DTSTART:20271107T090000
END:STANDARD
BEGIN:DAYLIGHT
TZOFFSETFROM:-0800
TZOFFSETTO:-0700
TZNAME:PDT
DTSTART:20280312T100000
END:DAYLIGHT
BEGIN:STANDARD
TZOFFSETFROM:-0700
TZOFFSETTO:-0800
TZNAME:PST
DTSTART:20281105T090000
END:STANDARD
END:VTIMEZONE
BEGIN:VEVENT
DTSTART;TZID=America/Vancouver:20270102T110000
DTEND;TZID=America/Vancouver:20270102T120000
DTSTAMP:20260423T205209
CREATED:20241101T190143Z
LAST-MODIFIED:20241101T193902Z
UID:10000679-1798887600-1798891200@www.vancouversaicentre.org
SUMMARY:Open House
DESCRIPTION:
URL:https://www.vancouversaicentre.org/event/open-house-2/2027-01-02/
LOCATION:Sri Sathya Sai Centre of BC\, 2215\, E Pender St\, Vancouver\, BC\, V5L1X5\, Canada
END:VEVENT
BEGIN:VEVENT
DTSTART;TZID=America/Vancouver:20270103T110000
DTEND;TZID=America/Vancouver:20270103T123000
DTSTAMP:20260423T205209
CREATED:20241101T192102Z
LAST-MODIFIED:20241101T192243Z
UID:10000949-1798974000-1798979400@www.vancouversaicentre.org
SUMMARY:SSE Class
DESCRIPTION:
URL:https://www.vancouversaicentre.org/event/sse-class/2027-01-03/
LOCATION:BC
END:VEVENT
BEGIN:VEVENT
DTSTART;TZID=America/Vancouver:20270105T200000
DTEND;TZID=America/Vancouver:20270105T210000
DTSTAMP:20260423T205209
CREATED:20250103T184334Z
LAST-MODIFIED:20250103T184334Z
UID:10002164-1799179200-1799182800@www.vancouversaicentre.org
SUMMARY:Collective Reading of Spiritual Literature (Zoom)
DESCRIPTION:
URL:https://www.vancouversaicentre.org/event/collective-reading-of-spiritual-literature-zoom-2/2027-01-05/
LOCATION:BC
END:VEVENT
BEGIN:VEVENT
DTSTART;TZID=America/Vancouver:20270106T190000
DTEND;TZID=America/Vancouver:20270106T200000
DTSTAMP:20260423T205209
CREATED:20241101T193346Z
LAST-MODIFIED:20241101T193346Z
UID:10001216-1799262000-1799265600@www.vancouversaicentre.org
SUMMARY:Self Study Hub (Zoom)
DESCRIPTION:
URL:https://www.vancouversaicentre.org/event/self-study-hub-zoom/2027-01-06/
LOCATION:BC
END:VEVENT
BEGIN:VEVENT
DTSTART;TZID=America/Vancouver:20270107T193000
DTEND;TZID=America/Vancouver:20270107T203000
DTSTAMP:20260423T205209
CREATED:20251224T050706Z
LAST-MODIFIED:20251229T175558Z
UID:10001477-1799350200-1799353800@www.vancouversaicentre.org
SUMMARY:Thursday Bhajan
DESCRIPTION:
URL:https://www.vancouversaicentre.org/event/thursday-bhajan-2-2/2027-01-07/
LOCATION:BC
END:VEVENT
BEGIN:VEVENT
DTSTART;TZID=America/Vancouver:20270109T110000
DTEND;TZID=America/Vancouver:20270109T120000
DTSTAMP:20260423T205209
CREATED:20241101T190143Z
LAST-MODIFIED:20241101T193902Z
UID:10000680-1799492400-1799496000@www.vancouversaicentre.org
SUMMARY:Open House
DESCRIPTION:
URL:https://www.vancouversaicentre.org/event/open-house-2/2027-01-09/
LOCATION:Sri Sathya Sai Centre of BC\, 2215\, E Pender St\, Vancouver\, BC\, V5L1X5\, Canada
END:VEVENT
BEGIN:VEVENT
DTSTART;TZID=America/Vancouver:20270110T110000
DTEND;TZID=America/Vancouver:20270110T123000
DTSTAMP:20260423T205209
CREATED:20241101T192102Z
LAST-MODIFIED:20241101T192243Z
UID:10000950-1799578800-1799584200@www.vancouversaicentre.org
SUMMARY:SSE Class
DESCRIPTION:
URL:https://www.vancouversaicentre.org/event/sse-class/2027-01-10/
LOCATION:BC
END:VEVENT
BEGIN:VEVENT
DTSTART;TZID=America/Vancouver:20270112T200000
DTEND;TZID=America/Vancouver:20270112T210000
DTSTAMP:20260423T205209
CREATED:20250103T184334Z
LAST-MODIFIED:20250103T184334Z
UID:10002165-1799784000-1799787600@www.vancouversaicentre.org
SUMMARY:Collective Reading of Spiritual Literature (Zoom)
DESCRIPTION:
URL:https://www.vancouversaicentre.org/event/collective-reading-of-spiritual-literature-zoom-2/2027-01-12/
LOCATION:BC
END:VEVENT
BEGIN:VEVENT
DTSTART;TZID=America/Vancouver:20270113T190000
DTEND;TZID=America/Vancouver:20270113T200000
DTSTAMP:20260423T205209
CREATED:20241101T193346Z
LAST-MODIFIED:20241101T193346Z
UID:10001217-1799866800-1799870400@www.vancouversaicentre.org
SUMMARY:Self Study Hub (Zoom)
DESCRIPTION:
URL:https://www.vancouversaicentre.org/event/self-study-hub-zoom/2027-01-13/
LOCATION:BC
END:VEVENT
BEGIN:VEVENT
DTSTART;TZID=America/Vancouver:20270114T193000
DTEND;TZID=America/Vancouver:20270114T203000
DTSTAMP:20260423T205209
CREATED:20251224T050706Z
LAST-MODIFIED:20251229T175558Z
UID:10001478-1799955000-1799958600@www.vancouversaicentre.org
SUMMARY:Thursday Bhajan
DESCRIPTION:
URL:https://www.vancouversaicentre.org/event/thursday-bhajan-2-2/2027-01-14/
LOCATION:BC
END:VEVENT
BEGIN:VEVENT
DTSTART;TZID=America/Vancouver:20270116T110000
DTEND;TZID=America/Vancouver:20270116T120000
DTSTAMP:20260423T205209
CREATED:20241101T190143Z
LAST-MODIFIED:20241101T193902Z
UID:10000681-1800097200-1800100800@www.vancouversaicentre.org
SUMMARY:Open House
DESCRIPTION:
URL:https://www.vancouversaicentre.org/event/open-house-2/2027-01-16/
LOCATION:Sri Sathya Sai Centre of BC\, 2215\, E Pender St\, Vancouver\, BC\, V5L1X5\, Canada
END:VEVENT
BEGIN:VEVENT
DTSTART;TZID=America/Vancouver:20270117T110000
DTEND;TZID=America/Vancouver:20270117T123000
DTSTAMP:20260423T205209
CREATED:20241101T192102Z
LAST-MODIFIED:20241101T192243Z
UID:10000951-1800183600-1800189000@www.vancouversaicentre.org
SUMMARY:SSE Class
DESCRIPTION:
URL:https://www.vancouversaicentre.org/event/sse-class/2027-01-17/
LOCATION:BC
END:VEVENT
BEGIN:VEVENT
DTSTART;TZID=America/Vancouver:20270119T200000
DTEND;TZID=America/Vancouver:20270119T210000
DTSTAMP:20260423T205209
CREATED:20250103T184334Z
LAST-MODIFIED:20250103T184334Z
UID:10002166-1800388800-1800392400@www.vancouversaicentre.org
SUMMARY:Collective Reading of Spiritual Literature (Zoom)
DESCRIPTION:
URL:https://www.vancouversaicentre.org/event/collective-reading-of-spiritual-literature-zoom-2/2027-01-19/
LOCATION:BC
END:VEVENT
BEGIN:VEVENT
DTSTART;TZID=America/Vancouver:20270120T190000
DTEND;TZID=America/Vancouver:20270120T200000
DTSTAMP:20260423T205209
CREATED:20241101T193346Z
LAST-MODIFIED:20241101T193346Z
UID:10001218-1800471600-1800475200@www.vancouversaicentre.org
SUMMARY:Self Study Hub (Zoom)
DESCRIPTION:
URL:https://www.vancouversaicentre.org/event/self-study-hub-zoom/2027-01-20/
LOCATION:BC
END:VEVENT
BEGIN:VEVENT
DTSTART;TZID=America/Vancouver:20270121T193000
DTEND;TZID=America/Vancouver:20270121T203000
DTSTAMP:20260423T205209
CREATED:20251224T050706Z
LAST-MODIFIED:20251229T175558Z
UID:10001479-1800559800-1800563400@www.vancouversaicentre.org
SUMMARY:Thursday Bhajan
DESCRIPTION:
URL:https://www.vancouversaicentre.org/event/thursday-bhajan-2-2/2027-01-21/
LOCATION:BC
END:VEVENT
BEGIN:VEVENT
DTSTART;TZID=America/Vancouver:20270123T110000
DTEND;TZID=America/Vancouver:20270123T120000
DTSTAMP:20260423T205209
CREATED:20241101T190143Z
LAST-MODIFIED:20241101T193902Z
UID:10000682-1800702000-1800705600@www.vancouversaicentre.org
SUMMARY:Open House
DESCRIPTION:
URL:https://www.vancouversaicentre.org/event/open-house-2/2027-01-23/
LOCATION:Sri Sathya Sai Centre of BC\, 2215\, E Pender St\, Vancouver\, BC\, V5L1X5\, Canada
END:VEVENT
BEGIN:VEVENT
DTSTART;TZID=America/Vancouver:20270124T110000
DTEND;TZID=America/Vancouver:20270124T123000
DTSTAMP:20260423T205209
CREATED:20241101T192102Z
LAST-MODIFIED:20241101T192243Z
UID:10000952-1800788400-1800793800@www.vancouversaicentre.org
SUMMARY:SSE Class
DESCRIPTION:
URL:https://www.vancouversaicentre.org/event/sse-class/2027-01-24/
LOCATION:BC
END:VEVENT
BEGIN:VEVENT
DTSTART;TZID=America/Vancouver:20270126T200000
DTEND;TZID=America/Vancouver:20270126T210000
DTSTAMP:20260423T205209
CREATED:20250103T184334Z
LAST-MODIFIED:20250103T184334Z
UID:10002167-1800993600-1800997200@www.vancouversaicentre.org
SUMMARY:Collective Reading of Spiritual Literature (Zoom)
DESCRIPTION:
URL:https://www.vancouversaicentre.org/event/collective-reading-of-spiritual-literature-zoom-2/2027-01-26/
LOCATION:BC
END:VEVENT
BEGIN:VEVENT
DTSTART;TZID=America/Vancouver:20270127T190000
DTEND;TZID=America/Vancouver:20270127T200000
DTSTAMP:20260423T205209
CREATED:20241101T193346Z
LAST-MODIFIED:20241101T193346Z
UID:10001219-1801076400-1801080000@www.vancouversaicentre.org
SUMMARY:Self Study Hub (Zoom)
DESCRIPTION:
URL:https://www.vancouversaicentre.org/event/self-study-hub-zoom/2027-01-27/
LOCATION:BC
END:VEVENT
BEGIN:VEVENT
DTSTART;TZID=America/Vancouver:20270128T193000
DTEND;TZID=America/Vancouver:20270128T203000
DTSTAMP:20260423T205209
CREATED:20251224T050706Z
LAST-MODIFIED:20251229T175558Z
UID:10001480-1801164600-1801168200@www.vancouversaicentre.org
SUMMARY:Thursday Bhajan
DESCRIPTION:
URL:https://www.vancouversaicentre.org/event/thursday-bhajan-2-2/2027-01-28/
LOCATION:BC
END:VEVENT
BEGIN:VEVENT
DTSTART;TZID=America/Vancouver:20270130T110000
DTEND;TZID=America/Vancouver:20270130T120000
DTSTAMP:20260423T205209
CREATED:20241101T190143Z
LAST-MODIFIED:20241101T193902Z
UID:10000683-1801306800-1801310400@www.vancouversaicentre.org
SUMMARY:Open House
DESCRIPTION:
URL:https://www.vancouversaicentre.org/event/open-house-2/2027-01-30/
LOCATION:Sri Sathya Sai Centre of BC\, 2215\, E Pender St\, Vancouver\, BC\, V5L1X5\, Canada
END:VEVENT
BEGIN:VEVENT
DTSTART;TZID=America/Vancouver:20270131T110000
DTEND;TZID=America/Vancouver:20270131T123000
DTSTAMP:20260423T205209
CREATED:20241101T192102Z
LAST-MODIFIED:20241101T192243Z
UID:10000953-1801393200-1801398600@www.vancouversaicentre.org
SUMMARY:SSE Class
DESCRIPTION:
URL:https://www.vancouversaicentre.org/event/sse-class/2027-01-31/
LOCATION:BC
END:VEVENT
END:VCALENDAR