BEGIN:VCALENDAR
VERSION:2.0
PRODID:-//Sri Sathya Sai Community Centre of British Columbia - ECPv6.15.20//NONSGML v1.0//EN
CALSCALE:GREGORIAN
METHOD:PUBLISH
X-ORIGINAL-URL:https://www.vancouversaicentre.org
X-WR-CALDESC:Events for Sri Sathya Sai Community Centre of British Columbia
REFRESH-INTERVAL;VALUE=DURATION:PT1H
X-Robots-Tag:noindex
X-PUBLISHED-TTL:PT1H
BEGIN:VTIMEZONE
TZID:America/Vancouver
BEGIN:DAYLIGHT
TZOFFSETFROM:-0800
TZOFFSETTO:-0700
TZNAME:PDT
DTSTART:20260308T100000
END:DAYLIGHT
BEGIN:STANDARD
TZOFFSETFROM:-0700
TZOFFSETTO:-0800
TZNAME:PST
DTSTART:20261101T090000
END:STANDARD
BEGIN:DAYLIGHT
TZOFFSETFROM:-0800
TZOFFSETTO:-0700
TZNAME:PDT
DTSTART:20270314T100000
END:DAYLIGHT
BEGIN:STANDARD
TZOFFSETFROM:-0700
TZOFFSETTO:-0800
TZNAME:PST
DTSTART:20271107T090000
END:STANDARD
BEGIN:DAYLIGHT
TZOFFSETFROM:-0800
TZOFFSETTO:-0700
TZNAME:PDT
DTSTART:20280312T100000
END:DAYLIGHT
BEGIN:STANDARD
TZOFFSETFROM:-0700
TZOFFSETTO:-0800
TZNAME:PST
DTSTART:20281105T090000
END:STANDARD
END:VTIMEZONE
BEGIN:VEVENT
DTSTART;TZID=America/Vancouver:20270202T200000
DTEND;TZID=America/Vancouver:20270202T210000
DTSTAMP:20260423T222602
CREATED:20250103T184334Z
LAST-MODIFIED:20250103T184334Z
UID:10002168-1801598400-1801602000@www.vancouversaicentre.org
SUMMARY:Collective Reading of Spiritual Literature (Zoom)
DESCRIPTION:
URL:https://www.vancouversaicentre.org/event/collective-reading-of-spiritual-literature-zoom-2/2027-02-02/
LOCATION:BC
END:VEVENT
BEGIN:VEVENT
DTSTART;TZID=America/Vancouver:20270203T190000
DTEND;TZID=America/Vancouver:20270203T200000
DTSTAMP:20260423T222602
CREATED:20241101T193346Z
LAST-MODIFIED:20241101T193346Z
UID:10001220-1801681200-1801684800@www.vancouversaicentre.org
SUMMARY:Self Study Hub (Zoom)
DESCRIPTION:
URL:https://www.vancouversaicentre.org/event/self-study-hub-zoom/2027-02-03/
LOCATION:BC
END:VEVENT
BEGIN:VEVENT
DTSTART;TZID=America/Vancouver:20270204T193000
DTEND;TZID=America/Vancouver:20270204T203000
DTSTAMP:20260423T222602
CREATED:20251224T050706Z
LAST-MODIFIED:20251229T175558Z
UID:10001481-1801769400-1801773000@www.vancouversaicentre.org
SUMMARY:Thursday Bhajan
DESCRIPTION:
URL:https://www.vancouversaicentre.org/event/thursday-bhajan-2-2/2027-02-04/
LOCATION:BC
END:VEVENT
BEGIN:VEVENT
DTSTART;TZID=America/Vancouver:20270206T110000
DTEND;TZID=America/Vancouver:20270206T120000
DTSTAMP:20260423T222602
CREATED:20241101T190143Z
LAST-MODIFIED:20241101T193902Z
UID:10000684-1801911600-1801915200@www.vancouversaicentre.org
SUMMARY:Open House
DESCRIPTION:
URL:https://www.vancouversaicentre.org/event/open-house-2/2027-02-06/
LOCATION:Sri Sathya Sai Centre of BC\, 2215\, E Pender St\, Vancouver\, BC\, V5L1X5\, Canada
END:VEVENT
BEGIN:VEVENT
DTSTART;TZID=America/Vancouver:20270207T110000
DTEND;TZID=America/Vancouver:20270207T123000
DTSTAMP:20260423T222602
CREATED:20241101T192102Z
LAST-MODIFIED:20241101T192243Z
UID:10000954-1801998000-1802003400@www.vancouversaicentre.org
SUMMARY:SSE Class
DESCRIPTION:
URL:https://www.vancouversaicentre.org/event/sse-class/2027-02-07/
LOCATION:BC
END:VEVENT
BEGIN:VEVENT
DTSTART;TZID=America/Vancouver:20270209T200000
DTEND;TZID=America/Vancouver:20270209T210000
DTSTAMP:20260423T222602
CREATED:20250103T184334Z
LAST-MODIFIED:20250103T184334Z
UID:10002169-1802203200-1802206800@www.vancouversaicentre.org
SUMMARY:Collective Reading of Spiritual Literature (Zoom)
DESCRIPTION:
URL:https://www.vancouversaicentre.org/event/collective-reading-of-spiritual-literature-zoom-2/2027-02-09/
LOCATION:BC
END:VEVENT
BEGIN:VEVENT
DTSTART;TZID=America/Vancouver:20270210T190000
DTEND;TZID=America/Vancouver:20270210T200000
DTSTAMP:20260423T222602
CREATED:20241101T193346Z
LAST-MODIFIED:20241101T193346Z
UID:10001221-1802286000-1802289600@www.vancouversaicentre.org
SUMMARY:Self Study Hub (Zoom)
DESCRIPTION:
URL:https://www.vancouversaicentre.org/event/self-study-hub-zoom/2027-02-10/
LOCATION:BC
END:VEVENT
BEGIN:VEVENT
DTSTART;TZID=America/Vancouver:20270211T193000
DTEND;TZID=America/Vancouver:20270211T203000
DTSTAMP:20260423T222602
CREATED:20251224T050706Z
LAST-MODIFIED:20251229T175558Z
UID:10001482-1802374200-1802377800@www.vancouversaicentre.org
SUMMARY:Thursday Bhajan
DESCRIPTION:
URL:https://www.vancouversaicentre.org/event/thursday-bhajan-2-2/2027-02-11/
LOCATION:BC
END:VEVENT
BEGIN:VEVENT
DTSTART;TZID=America/Vancouver:20270213T110000
DTEND;TZID=America/Vancouver:20270213T120000
DTSTAMP:20260423T222602
CREATED:20241101T190143Z
LAST-MODIFIED:20241101T193902Z
UID:10000685-1802516400-1802520000@www.vancouversaicentre.org
SUMMARY:Open House
DESCRIPTION:
URL:https://www.vancouversaicentre.org/event/open-house-2/2027-02-13/
LOCATION:Sri Sathya Sai Centre of BC\, 2215\, E Pender St\, Vancouver\, BC\, V5L1X5\, Canada
END:VEVENT
BEGIN:VEVENT
DTSTART;TZID=America/Vancouver:20270214T110000
DTEND;TZID=America/Vancouver:20270214T123000
DTSTAMP:20260423T222602
CREATED:20241101T192102Z
LAST-MODIFIED:20241101T192243Z
UID:10000955-1802602800-1802608200@www.vancouversaicentre.org
SUMMARY:SSE Class
DESCRIPTION:
URL:https://www.vancouversaicentre.org/event/sse-class/2027-02-14/
LOCATION:BC
END:VEVENT
BEGIN:VEVENT
DTSTART;TZID=America/Vancouver:20270216T200000
DTEND;TZID=America/Vancouver:20270216T210000
DTSTAMP:20260423T222602
CREATED:20250103T184334Z
LAST-MODIFIED:20250103T184334Z
UID:10002170-1802808000-1802811600@www.vancouversaicentre.org
SUMMARY:Collective Reading of Spiritual Literature (Zoom)
DESCRIPTION:
URL:https://www.vancouversaicentre.org/event/collective-reading-of-spiritual-literature-zoom-2/2027-02-16/
LOCATION:BC
END:VEVENT
BEGIN:VEVENT
DTSTART;TZID=America/Vancouver:20270217T190000
DTEND;TZID=America/Vancouver:20270217T200000
DTSTAMP:20260423T222602
CREATED:20241101T193346Z
LAST-MODIFIED:20241101T193346Z
UID:10001222-1802890800-1802894400@www.vancouversaicentre.org
SUMMARY:Self Study Hub (Zoom)
DESCRIPTION:
URL:https://www.vancouversaicentre.org/event/self-study-hub-zoom/2027-02-17/
LOCATION:BC
END:VEVENT
BEGIN:VEVENT
DTSTART;TZID=America/Vancouver:20270218T193000
DTEND;TZID=America/Vancouver:20270218T203000
DTSTAMP:20260423T222602
CREATED:20251224T050706Z
LAST-MODIFIED:20251229T175558Z
UID:10001483-1802979000-1802982600@www.vancouversaicentre.org
SUMMARY:Thursday Bhajan
DESCRIPTION:
URL:https://www.vancouversaicentre.org/event/thursday-bhajan-2-2/2027-02-18/
LOCATION:BC
END:VEVENT
BEGIN:VEVENT
DTSTART;TZID=America/Vancouver:20270220T110000
DTEND;TZID=America/Vancouver:20270220T120000
DTSTAMP:20260423T222602
CREATED:20241101T190143Z
LAST-MODIFIED:20241101T193902Z
UID:10000686-1803121200-1803124800@www.vancouversaicentre.org
SUMMARY:Open House
DESCRIPTION:
URL:https://www.vancouversaicentre.org/event/open-house-2/2027-02-20/
LOCATION:Sri Sathya Sai Centre of BC\, 2215\, E Pender St\, Vancouver\, BC\, V5L1X5\, Canada
END:VEVENT
BEGIN:VEVENT
DTSTART;TZID=America/Vancouver:20270221T110000
DTEND;TZID=America/Vancouver:20270221T123000
DTSTAMP:20260423T222602
CREATED:20241101T192102Z
LAST-MODIFIED:20241101T192243Z
UID:10000956-1803207600-1803213000@www.vancouversaicentre.org
SUMMARY:SSE Class
DESCRIPTION:
URL:https://www.vancouversaicentre.org/event/sse-class/2027-02-21/
LOCATION:BC
END:VEVENT
BEGIN:VEVENT
DTSTART;TZID=America/Vancouver:20270223T200000
DTEND;TZID=America/Vancouver:20270223T210000
DTSTAMP:20260423T222602
CREATED:20250103T184334Z
LAST-MODIFIED:20250103T184334Z
UID:10002171-1803412800-1803416400@www.vancouversaicentre.org
SUMMARY:Collective Reading of Spiritual Literature (Zoom)
DESCRIPTION:
URL:https://www.vancouversaicentre.org/event/collective-reading-of-spiritual-literature-zoom-2/2027-02-23/
LOCATION:BC
END:VEVENT
BEGIN:VEVENT
DTSTART;TZID=America/Vancouver:20270224T190000
DTEND;TZID=America/Vancouver:20270224T200000
DTSTAMP:20260423T222602
CREATED:20241101T193346Z
LAST-MODIFIED:20241101T193346Z
UID:10001223-1803495600-1803499200@www.vancouversaicentre.org
SUMMARY:Self Study Hub (Zoom)
DESCRIPTION:
URL:https://www.vancouversaicentre.org/event/self-study-hub-zoom/2027-02-24/
LOCATION:BC
END:VEVENT
BEGIN:VEVENT
DTSTART;TZID=America/Vancouver:20270225T193000
DTEND;TZID=America/Vancouver:20270225T203000
DTSTAMP:20260423T222602
CREATED:20251224T050706Z
LAST-MODIFIED:20251229T175558Z
UID:10001484-1803583800-1803587400@www.vancouversaicentre.org
SUMMARY:Thursday Bhajan
DESCRIPTION:
URL:https://www.vancouversaicentre.org/event/thursday-bhajan-2-2/2027-02-25/
LOCATION:BC
END:VEVENT
BEGIN:VEVENT
DTSTART;TZID=America/Vancouver:20270227T110000
DTEND;TZID=America/Vancouver:20270227T120000
DTSTAMP:20260423T222602
CREATED:20241101T190143Z
LAST-MODIFIED:20241101T193902Z
UID:10000687-1803726000-1803729600@www.vancouversaicentre.org
SUMMARY:Open House
DESCRIPTION:
URL:https://www.vancouversaicentre.org/event/open-house-2/2027-02-27/
LOCATION:Sri Sathya Sai Centre of BC\, 2215\, E Pender St\, Vancouver\, BC\, V5L1X5\, Canada
END:VEVENT
BEGIN:VEVENT
DTSTART;TZID=America/Vancouver:20270228T110000
DTEND;TZID=America/Vancouver:20270228T123000
DTSTAMP:20260423T222602
CREATED:20241101T192102Z
LAST-MODIFIED:20241101T192243Z
UID:10000957-1803812400-1803817800@www.vancouversaicentre.org
SUMMARY:SSE Class
DESCRIPTION:
URL:https://www.vancouversaicentre.org/event/sse-class/2027-02-28/
LOCATION:BC
END:VEVENT
END:VCALENDAR