BEGIN:VCALENDAR
VERSION:2.0
PRODID:-//Sri Sathya Sai Community Centre of British Columbia - ECPv6.15.20//NONSGML v1.0//EN
CALSCALE:GREGORIAN
METHOD:PUBLISH
X-ORIGINAL-URL:https://www.vancouversaicentre.org
X-WR-CALDESC:Events for Sri Sathya Sai Community Centre of British Columbia
REFRESH-INTERVAL;VALUE=DURATION:PT1H
X-Robots-Tag:noindex
X-PUBLISHED-TTL:PT1H
BEGIN:VTIMEZONE
TZID:America/Vancouver
BEGIN:DAYLIGHT
TZOFFSETFROM:-0800
TZOFFSETTO:-0700
TZNAME:PDT
DTSTART:20260308T100000
END:DAYLIGHT
BEGIN:STANDARD
TZOFFSETFROM:-0700
TZOFFSETTO:-0800
TZNAME:PST
DTSTART:20261101T090000
END:STANDARD
BEGIN:DAYLIGHT
TZOFFSETFROM:-0800
TZOFFSETTO:-0700
TZNAME:PDT
DTSTART:20270314T100000
END:DAYLIGHT
BEGIN:STANDARD
TZOFFSETFROM:-0700
TZOFFSETTO:-0800
TZNAME:PST
DTSTART:20271107T090000
END:STANDARD
BEGIN:DAYLIGHT
TZOFFSETFROM:-0800
TZOFFSETTO:-0700
TZNAME:PDT
DTSTART:20280312T100000
END:DAYLIGHT
BEGIN:STANDARD
TZOFFSETFROM:-0700
TZOFFSETTO:-0800
TZNAME:PST
DTSTART:20281105T090000
END:STANDARD
END:VTIMEZONE
BEGIN:VEVENT
DTSTART;TZID=America/Vancouver:20270401T193000
DTEND;TZID=America/Vancouver:20270401T203000
DTSTAMP:20260424T011533
CREATED:20251224T050706Z
LAST-MODIFIED:20251229T175558Z
UID:10001489-1806607800-1806611400@www.vancouversaicentre.org
SUMMARY:Thursday Bhajan
DESCRIPTION:
URL:https://www.vancouversaicentre.org/event/thursday-bhajan-2-2/2027-04-01/
LOCATION:BC
END:VEVENT
BEGIN:VEVENT
DTSTART;TZID=America/Vancouver:20270403T110000
DTEND;TZID=America/Vancouver:20270403T120000
DTSTAMP:20260424T011533
CREATED:20241101T190143Z
LAST-MODIFIED:20241101T193902Z
UID:10000692-1806750000-1806753600@www.vancouversaicentre.org
SUMMARY:Open House
DESCRIPTION:
URL:https://www.vancouversaicentre.org/event/open-house-2/2027-04-03/
LOCATION:Sri Sathya Sai Centre of BC\, 2215\, E Pender St\, Vancouver\, BC\, V5L1X5\, Canada
END:VEVENT
BEGIN:VEVENT
DTSTART;TZID=America/Vancouver:20270404T110000
DTEND;TZID=America/Vancouver:20270404T123000
DTSTAMP:20260424T011533
CREATED:20241101T192102Z
LAST-MODIFIED:20241101T192243Z
UID:10000962-1806836400-1806841800@www.vancouversaicentre.org
SUMMARY:SSE Class
DESCRIPTION:
URL:https://www.vancouversaicentre.org/event/sse-class/2027-04-04/
LOCATION:BC
END:VEVENT
BEGIN:VEVENT
DTSTART;TZID=America/Vancouver:20270406T200000
DTEND;TZID=America/Vancouver:20270406T210000
DTSTAMP:20260424T011533
CREATED:20250103T184334Z
LAST-MODIFIED:20250103T184334Z
UID:10002177-1807041600-1807045200@www.vancouversaicentre.org
SUMMARY:Collective Reading of Spiritual Literature (Zoom)
DESCRIPTION:
URL:https://www.vancouversaicentre.org/event/collective-reading-of-spiritual-literature-zoom-2/2027-04-06/
LOCATION:BC
END:VEVENT
BEGIN:VEVENT
DTSTART;TZID=America/Vancouver:20270407T190000
DTEND;TZID=America/Vancouver:20270407T200000
DTSTAMP:20260424T011533
CREATED:20241101T193346Z
LAST-MODIFIED:20241101T193346Z
UID:10001229-1807124400-1807128000@www.vancouversaicentre.org
SUMMARY:Self Study Hub (Zoom)
DESCRIPTION:
URL:https://www.vancouversaicentre.org/event/self-study-hub-zoom/2027-04-07/
LOCATION:BC
END:VEVENT
BEGIN:VEVENT
DTSTART;TZID=America/Vancouver:20270408T193000
DTEND;TZID=America/Vancouver:20270408T203000
DTSTAMP:20260424T011533
CREATED:20251224T050706Z
LAST-MODIFIED:20251229T175558Z
UID:10001490-1807212600-1807216200@www.vancouversaicentre.org
SUMMARY:Thursday Bhajan
DESCRIPTION:
URL:https://www.vancouversaicentre.org/event/thursday-bhajan-2-2/2027-04-08/
LOCATION:BC
END:VEVENT
BEGIN:VEVENT
DTSTART;TZID=America/Vancouver:20270410T110000
DTEND;TZID=America/Vancouver:20270410T120000
DTSTAMP:20260424T011533
CREATED:20241101T190143Z
LAST-MODIFIED:20241101T193902Z
UID:10000693-1807354800-1807358400@www.vancouversaicentre.org
SUMMARY:Open House
DESCRIPTION:
URL:https://www.vancouversaicentre.org/event/open-house-2/2027-04-10/
LOCATION:Sri Sathya Sai Centre of BC\, 2215\, E Pender St\, Vancouver\, BC\, V5L1X5\, Canada
END:VEVENT
BEGIN:VEVENT
DTSTART;TZID=America/Vancouver:20270411T110000
DTEND;TZID=America/Vancouver:20270411T123000
DTSTAMP:20260424T011533
CREATED:20241101T192102Z
LAST-MODIFIED:20241101T192243Z
UID:10000963-1807441200-1807446600@www.vancouversaicentre.org
SUMMARY:SSE Class
DESCRIPTION:
URL:https://www.vancouversaicentre.org/event/sse-class/2027-04-11/
LOCATION:BC
END:VEVENT
BEGIN:VEVENT
DTSTART;TZID=America/Vancouver:20270413T200000
DTEND;TZID=America/Vancouver:20270413T210000
DTSTAMP:20260424T011533
CREATED:20250103T184334Z
LAST-MODIFIED:20250103T184334Z
UID:10002178-1807646400-1807650000@www.vancouversaicentre.org
SUMMARY:Collective Reading of Spiritual Literature (Zoom)
DESCRIPTION:
URL:https://www.vancouversaicentre.org/event/collective-reading-of-spiritual-literature-zoom-2/2027-04-13/
LOCATION:BC
END:VEVENT
BEGIN:VEVENT
DTSTART;TZID=America/Vancouver:20270414T190000
DTEND;TZID=America/Vancouver:20270414T200000
DTSTAMP:20260424T011533
CREATED:20241101T193346Z
LAST-MODIFIED:20241101T193346Z
UID:10001230-1807729200-1807732800@www.vancouversaicentre.org
SUMMARY:Self Study Hub (Zoom)
DESCRIPTION:
URL:https://www.vancouversaicentre.org/event/self-study-hub-zoom/2027-04-14/
LOCATION:BC
END:VEVENT
BEGIN:VEVENT
DTSTART;TZID=America/Vancouver:20270415T193000
DTEND;TZID=America/Vancouver:20270415T203000
DTSTAMP:20260424T011533
CREATED:20251224T050706Z
LAST-MODIFIED:20251229T175558Z
UID:10001491-1807817400-1807821000@www.vancouversaicentre.org
SUMMARY:Thursday Bhajan
DESCRIPTION:
URL:https://www.vancouversaicentre.org/event/thursday-bhajan-2-2/2027-04-15/
LOCATION:BC
END:VEVENT
BEGIN:VEVENT
DTSTART;TZID=America/Vancouver:20270417T110000
DTEND;TZID=America/Vancouver:20270417T120000
DTSTAMP:20260424T011533
CREATED:20241101T190143Z
LAST-MODIFIED:20241101T193902Z
UID:10000694-1807959600-1807963200@www.vancouversaicentre.org
SUMMARY:Open House
DESCRIPTION:
URL:https://www.vancouversaicentre.org/event/open-house-2/2027-04-17/
LOCATION:Sri Sathya Sai Centre of BC\, 2215\, E Pender St\, Vancouver\, BC\, V5L1X5\, Canada
END:VEVENT
BEGIN:VEVENT
DTSTART;TZID=America/Vancouver:20270418T110000
DTEND;TZID=America/Vancouver:20270418T123000
DTSTAMP:20260424T011533
CREATED:20241101T192102Z
LAST-MODIFIED:20241101T192243Z
UID:10000964-1808046000-1808051400@www.vancouversaicentre.org
SUMMARY:SSE Class
DESCRIPTION:
URL:https://www.vancouversaicentre.org/event/sse-class/2027-04-18/
LOCATION:BC
END:VEVENT
BEGIN:VEVENT
DTSTART;TZID=America/Vancouver:20270420T200000
DTEND;TZID=America/Vancouver:20270420T210000
DTSTAMP:20260424T011533
CREATED:20250103T184334Z
LAST-MODIFIED:20250103T184334Z
UID:10002179-1808251200-1808254800@www.vancouversaicentre.org
SUMMARY:Collective Reading of Spiritual Literature (Zoom)
DESCRIPTION:
URL:https://www.vancouversaicentre.org/event/collective-reading-of-spiritual-literature-zoom-2/2027-04-20/
LOCATION:BC
END:VEVENT
BEGIN:VEVENT
DTSTART;TZID=America/Vancouver:20270421T190000
DTEND;TZID=America/Vancouver:20270421T200000
DTSTAMP:20260424T011533
CREATED:20241101T193346Z
LAST-MODIFIED:20241101T193346Z
UID:10001231-1808334000-1808337600@www.vancouversaicentre.org
SUMMARY:Self Study Hub (Zoom)
DESCRIPTION:
URL:https://www.vancouversaicentre.org/event/self-study-hub-zoom/2027-04-21/
LOCATION:BC
END:VEVENT
BEGIN:VEVENT
DTSTART;TZID=America/Vancouver:20270422T193000
DTEND;TZID=America/Vancouver:20270422T203000
DTSTAMP:20260424T011533
CREATED:20251224T050706Z
LAST-MODIFIED:20251229T175558Z
UID:10001492-1808422200-1808425800@www.vancouversaicentre.org
SUMMARY:Thursday Bhajan
DESCRIPTION:
URL:https://www.vancouversaicentre.org/event/thursday-bhajan-2-2/2027-04-22/
LOCATION:BC
END:VEVENT
BEGIN:VEVENT
DTSTART;TZID=America/Vancouver:20270424T110000
DTEND;TZID=America/Vancouver:20270424T120000
DTSTAMP:20260424T011533
CREATED:20241101T190143Z
LAST-MODIFIED:20241101T193902Z
UID:10000695-1808564400-1808568000@www.vancouversaicentre.org
SUMMARY:Open House
DESCRIPTION:
URL:https://www.vancouversaicentre.org/event/open-house-2/2027-04-24/
LOCATION:Sri Sathya Sai Centre of BC\, 2215\, E Pender St\, Vancouver\, BC\, V5L1X5\, Canada
END:VEVENT
BEGIN:VEVENT
DTSTART;TZID=America/Vancouver:20270425T110000
DTEND;TZID=America/Vancouver:20270425T123000
DTSTAMP:20260424T011533
CREATED:20241101T192102Z
LAST-MODIFIED:20241101T192243Z
UID:10000965-1808650800-1808656200@www.vancouversaicentre.org
SUMMARY:SSE Class
DESCRIPTION:
URL:https://www.vancouversaicentre.org/event/sse-class/2027-04-25/
LOCATION:BC
END:VEVENT
BEGIN:VEVENT
DTSTART;TZID=America/Vancouver:20270427T200000
DTEND;TZID=America/Vancouver:20270427T210000
DTSTAMP:20260424T011533
CREATED:20250103T184334Z
LAST-MODIFIED:20250103T184334Z
UID:10002180-1808856000-1808859600@www.vancouversaicentre.org
SUMMARY:Collective Reading of Spiritual Literature (Zoom)
DESCRIPTION:
URL:https://www.vancouversaicentre.org/event/collective-reading-of-spiritual-literature-zoom-2/2027-04-27/
LOCATION:BC
END:VEVENT
BEGIN:VEVENT
DTSTART;TZID=America/Vancouver:20270428T190000
DTEND;TZID=America/Vancouver:20270428T200000
DTSTAMP:20260424T011533
CREATED:20241101T193346Z
LAST-MODIFIED:20241101T193346Z
UID:10001232-1808938800-1808942400@www.vancouversaicentre.org
SUMMARY:Self Study Hub (Zoom)
DESCRIPTION:
URL:https://www.vancouversaicentre.org/event/self-study-hub-zoom/2027-04-28/
LOCATION:BC
END:VEVENT
BEGIN:VEVENT
DTSTART;TZID=America/Vancouver:20270429T193000
DTEND;TZID=America/Vancouver:20270429T203000
DTSTAMP:20260424T011533
CREATED:20251224T050706Z
LAST-MODIFIED:20251229T175558Z
UID:10001493-1809027000-1809030600@www.vancouversaicentre.org
SUMMARY:Thursday Bhajan
DESCRIPTION:
URL:https://www.vancouversaicentre.org/event/thursday-bhajan-2-2/2027-04-29/
LOCATION:BC
END:VEVENT
END:VCALENDAR