BEGIN:VCALENDAR
VERSION:2.0
PRODID:-//Sri Sathya Sai Community Centre of British Columbia - ECPv6.15.20//NONSGML v1.0//EN
CALSCALE:GREGORIAN
METHOD:PUBLISH
X-ORIGINAL-URL:https://www.vancouversaicentre.org
X-WR-CALDESC:Events for Sri Sathya Sai Community Centre of British Columbia
REFRESH-INTERVAL;VALUE=DURATION:PT1H
X-Robots-Tag:noindex
X-PUBLISHED-TTL:PT1H
BEGIN:VTIMEZONE
TZID:America/Vancouver
BEGIN:DAYLIGHT
TZOFFSETFROM:-0800
TZOFFSETTO:-0700
TZNAME:PDT
DTSTART:20260308T100000
END:DAYLIGHT
BEGIN:STANDARD
TZOFFSETFROM:-0700
TZOFFSETTO:-0800
TZNAME:PST
DTSTART:20261101T090000
END:STANDARD
BEGIN:DAYLIGHT
TZOFFSETFROM:-0800
TZOFFSETTO:-0700
TZNAME:PDT
DTSTART:20270314T100000
END:DAYLIGHT
BEGIN:STANDARD
TZOFFSETFROM:-0700
TZOFFSETTO:-0800
TZNAME:PST
DTSTART:20271107T090000
END:STANDARD
BEGIN:DAYLIGHT
TZOFFSETFROM:-0800
TZOFFSETTO:-0700
TZNAME:PDT
DTSTART:20280312T100000
END:DAYLIGHT
BEGIN:STANDARD
TZOFFSETFROM:-0700
TZOFFSETTO:-0800
TZNAME:PST
DTSTART:20281105T090000
END:STANDARD
END:VTIMEZONE
BEGIN:VEVENT
DTSTART;TZID=America/Vancouver:20270501T110000
DTEND;TZID=America/Vancouver:20270501T120000
DTSTAMP:20260424T023743
CREATED:20241101T190143Z
LAST-MODIFIED:20241101T193902Z
UID:10000696-1809169200-1809172800@www.vancouversaicentre.org
SUMMARY:Open House
DESCRIPTION:
URL:https://www.vancouversaicentre.org/event/open-house-2/2027-05-01/
LOCATION:Sri Sathya Sai Centre of BC\, 2215\, E Pender St\, Vancouver\, BC\, V5L1X5\, Canada
END:VEVENT
BEGIN:VEVENT
DTSTART;TZID=America/Vancouver:20270502T110000
DTEND;TZID=America/Vancouver:20270502T123000
DTSTAMP:20260424T023743
CREATED:20241101T192102Z
LAST-MODIFIED:20241101T192243Z
UID:10000966-1809255600-1809261000@www.vancouversaicentre.org
SUMMARY:SSE Class
DESCRIPTION:
URL:https://www.vancouversaicentre.org/event/sse-class/2027-05-02/
LOCATION:BC
END:VEVENT
BEGIN:VEVENT
DTSTART;TZID=America/Vancouver:20270504T200000
DTEND;TZID=America/Vancouver:20270504T210000
DTSTAMP:20260424T023743
CREATED:20250103T184334Z
LAST-MODIFIED:20250103T184334Z
UID:10002181-1809460800-1809464400@www.vancouversaicentre.org
SUMMARY:Collective Reading of Spiritual Literature (Zoom)
DESCRIPTION:
URL:https://www.vancouversaicentre.org/event/collective-reading-of-spiritual-literature-zoom-2/2027-05-04/
LOCATION:BC
END:VEVENT
BEGIN:VEVENT
DTSTART;TZID=America/Vancouver:20270505T190000
DTEND;TZID=America/Vancouver:20270505T200000
DTSTAMP:20260424T023743
CREATED:20241101T193346Z
LAST-MODIFIED:20241101T193346Z
UID:10001233-1809543600-1809547200@www.vancouversaicentre.org
SUMMARY:Self Study Hub (Zoom)
DESCRIPTION:
URL:https://www.vancouversaicentre.org/event/self-study-hub-zoom/2027-05-05/
LOCATION:BC
END:VEVENT
BEGIN:VEVENT
DTSTART;TZID=America/Vancouver:20270506T193000
DTEND;TZID=America/Vancouver:20270506T203000
DTSTAMP:20260424T023743
CREATED:20251224T050706Z
LAST-MODIFIED:20251229T175558Z
UID:10001494-1809631800-1809635400@www.vancouversaicentre.org
SUMMARY:Thursday Bhajan
DESCRIPTION:
URL:https://www.vancouversaicentre.org/event/thursday-bhajan-2-2/2027-05-06/
LOCATION:BC
END:VEVENT
BEGIN:VEVENT
DTSTART;TZID=America/Vancouver:20270508T110000
DTEND;TZID=America/Vancouver:20270508T120000
DTSTAMP:20260424T023743
CREATED:20241101T190143Z
LAST-MODIFIED:20241101T193902Z
UID:10000697-1809774000-1809777600@www.vancouversaicentre.org
SUMMARY:Open House
DESCRIPTION:
URL:https://www.vancouversaicentre.org/event/open-house-2/2027-05-08/
LOCATION:Sri Sathya Sai Centre of BC\, 2215\, E Pender St\, Vancouver\, BC\, V5L1X5\, Canada
END:VEVENT
BEGIN:VEVENT
DTSTART;TZID=America/Vancouver:20270509T110000
DTEND;TZID=America/Vancouver:20270509T123000
DTSTAMP:20260424T023743
CREATED:20241101T192102Z
LAST-MODIFIED:20241101T192243Z
UID:10000967-1809860400-1809865800@www.vancouversaicentre.org
SUMMARY:SSE Class
DESCRIPTION:
URL:https://www.vancouversaicentre.org/event/sse-class/2027-05-09/
LOCATION:BC
END:VEVENT
BEGIN:VEVENT
DTSTART;TZID=America/Vancouver:20270511T200000
DTEND;TZID=America/Vancouver:20270511T210000
DTSTAMP:20260424T023743
CREATED:20250103T184334Z
LAST-MODIFIED:20250103T184334Z
UID:10002182-1810065600-1810069200@www.vancouversaicentre.org
SUMMARY:Collective Reading of Spiritual Literature (Zoom)
DESCRIPTION:
URL:https://www.vancouversaicentre.org/event/collective-reading-of-spiritual-literature-zoom-2/2027-05-11/
LOCATION:BC
END:VEVENT
BEGIN:VEVENT
DTSTART;TZID=America/Vancouver:20270512T190000
DTEND;TZID=America/Vancouver:20270512T200000
DTSTAMP:20260424T023743
CREATED:20241101T193346Z
LAST-MODIFIED:20241101T193346Z
UID:10001234-1810148400-1810152000@www.vancouversaicentre.org
SUMMARY:Self Study Hub (Zoom)
DESCRIPTION:
URL:https://www.vancouversaicentre.org/event/self-study-hub-zoom/2027-05-12/
LOCATION:BC
END:VEVENT
BEGIN:VEVENT
DTSTART;TZID=America/Vancouver:20270513T193000
DTEND;TZID=America/Vancouver:20270513T203000
DTSTAMP:20260424T023743
CREATED:20251224T050706Z
LAST-MODIFIED:20251229T175558Z
UID:10001495-1810236600-1810240200@www.vancouversaicentre.org
SUMMARY:Thursday Bhajan
DESCRIPTION:
URL:https://www.vancouversaicentre.org/event/thursday-bhajan-2-2/2027-05-13/
LOCATION:BC
END:VEVENT
BEGIN:VEVENT
DTSTART;TZID=America/Vancouver:20270515T110000
DTEND;TZID=America/Vancouver:20270515T120000
DTSTAMP:20260424T023743
CREATED:20241101T190143Z
LAST-MODIFIED:20241101T193902Z
UID:10000698-1810378800-1810382400@www.vancouversaicentre.org
SUMMARY:Open House
DESCRIPTION:
URL:https://www.vancouversaicentre.org/event/open-house-2/2027-05-15/
LOCATION:Sri Sathya Sai Centre of BC\, 2215\, E Pender St\, Vancouver\, BC\, V5L1X5\, Canada
END:VEVENT
BEGIN:VEVENT
DTSTART;TZID=America/Vancouver:20270516T110000
DTEND;TZID=America/Vancouver:20270516T123000
DTSTAMP:20260424T023743
CREATED:20241101T192102Z
LAST-MODIFIED:20241101T192243Z
UID:10000968-1810465200-1810470600@www.vancouversaicentre.org
SUMMARY:SSE Class
DESCRIPTION:
URL:https://www.vancouversaicentre.org/event/sse-class/2027-05-16/
LOCATION:BC
END:VEVENT
BEGIN:VEVENT
DTSTART;TZID=America/Vancouver:20270518T200000
DTEND;TZID=America/Vancouver:20270518T210000
DTSTAMP:20260424T023743
CREATED:20250103T184334Z
LAST-MODIFIED:20250103T184334Z
UID:10002183-1810670400-1810674000@www.vancouversaicentre.org
SUMMARY:Collective Reading of Spiritual Literature (Zoom)
DESCRIPTION:
URL:https://www.vancouversaicentre.org/event/collective-reading-of-spiritual-literature-zoom-2/2027-05-18/
LOCATION:BC
END:VEVENT
BEGIN:VEVENT
DTSTART;TZID=America/Vancouver:20270519T190000
DTEND;TZID=America/Vancouver:20270519T200000
DTSTAMP:20260424T023743
CREATED:20241101T193346Z
LAST-MODIFIED:20241101T193346Z
UID:10001235-1810753200-1810756800@www.vancouversaicentre.org
SUMMARY:Self Study Hub (Zoom)
DESCRIPTION:
URL:https://www.vancouversaicentre.org/event/self-study-hub-zoom/2027-05-19/
LOCATION:BC
END:VEVENT
BEGIN:VEVENT
DTSTART;TZID=America/Vancouver:20270520T193000
DTEND;TZID=America/Vancouver:20270520T203000
DTSTAMP:20260424T023743
CREATED:20251224T050706Z
LAST-MODIFIED:20251229T175558Z
UID:10001496-1810841400-1810845000@www.vancouversaicentre.org
SUMMARY:Thursday Bhajan
DESCRIPTION:
URL:https://www.vancouversaicentre.org/event/thursday-bhajan-2-2/2027-05-20/
LOCATION:BC
END:VEVENT
BEGIN:VEVENT
DTSTART;TZID=America/Vancouver:20270522T110000
DTEND;TZID=America/Vancouver:20270522T120000
DTSTAMP:20260424T023743
CREATED:20241101T190143Z
LAST-MODIFIED:20241101T193902Z
UID:10000699-1810983600-1810987200@www.vancouversaicentre.org
SUMMARY:Open House
DESCRIPTION:
URL:https://www.vancouversaicentre.org/event/open-house-2/2027-05-22/
LOCATION:Sri Sathya Sai Centre of BC\, 2215\, E Pender St\, Vancouver\, BC\, V5L1X5\, Canada
END:VEVENT
BEGIN:VEVENT
DTSTART;TZID=America/Vancouver:20270523T110000
DTEND;TZID=America/Vancouver:20270523T123000
DTSTAMP:20260424T023743
CREATED:20241101T192102Z
LAST-MODIFIED:20241101T192243Z
UID:10000969-1811070000-1811075400@www.vancouversaicentre.org
SUMMARY:SSE Class
DESCRIPTION:
URL:https://www.vancouversaicentre.org/event/sse-class/2027-05-23/
LOCATION:BC
END:VEVENT
BEGIN:VEVENT
DTSTART;TZID=America/Vancouver:20270525T200000
DTEND;TZID=America/Vancouver:20270525T210000
DTSTAMP:20260424T023743
CREATED:20250103T184334Z
LAST-MODIFIED:20250103T184334Z
UID:10002184-1811275200-1811278800@www.vancouversaicentre.org
SUMMARY:Collective Reading of Spiritual Literature (Zoom)
DESCRIPTION:
URL:https://www.vancouversaicentre.org/event/collective-reading-of-spiritual-literature-zoom-2/2027-05-25/
LOCATION:BC
END:VEVENT
BEGIN:VEVENT
DTSTART;TZID=America/Vancouver:20270526T190000
DTEND;TZID=America/Vancouver:20270526T200000
DTSTAMP:20260424T023743
CREATED:20241101T193346Z
LAST-MODIFIED:20241101T193346Z
UID:10001236-1811358000-1811361600@www.vancouversaicentre.org
SUMMARY:Self Study Hub (Zoom)
DESCRIPTION:
URL:https://www.vancouversaicentre.org/event/self-study-hub-zoom/2027-05-26/
LOCATION:BC
END:VEVENT
BEGIN:VEVENT
DTSTART;TZID=America/Vancouver:20270527T193000
DTEND;TZID=America/Vancouver:20270527T203000
DTSTAMP:20260424T023743
CREATED:20251224T050706Z
LAST-MODIFIED:20251229T175558Z
UID:10001497-1811446200-1811449800@www.vancouversaicentre.org
SUMMARY:Thursday Bhajan
DESCRIPTION:
URL:https://www.vancouversaicentre.org/event/thursday-bhajan-2-2/2027-05-27/
LOCATION:BC
END:VEVENT
BEGIN:VEVENT
DTSTART;TZID=America/Vancouver:20270529T110000
DTEND;TZID=America/Vancouver:20270529T120000
DTSTAMP:20260424T023743
CREATED:20241101T190143Z
LAST-MODIFIED:20241101T193902Z
UID:10000700-1811588400-1811592000@www.vancouversaicentre.org
SUMMARY:Open House
DESCRIPTION:
URL:https://www.vancouversaicentre.org/event/open-house-2/2027-05-29/
LOCATION:Sri Sathya Sai Centre of BC\, 2215\, E Pender St\, Vancouver\, BC\, V5L1X5\, Canada
END:VEVENT
BEGIN:VEVENT
DTSTART;TZID=America/Vancouver:20270530T110000
DTEND;TZID=America/Vancouver:20270530T123000
DTSTAMP:20260424T023743
CREATED:20241101T192102Z
LAST-MODIFIED:20241101T192243Z
UID:10000970-1811674800-1811680200@www.vancouversaicentre.org
SUMMARY:SSE Class
DESCRIPTION:
URL:https://www.vancouversaicentre.org/event/sse-class/2027-05-30/
LOCATION:BC
END:VEVENT
END:VCALENDAR