BEGIN:VCALENDAR
VERSION:2.0
PRODID:-//Sri Sathya Sai Community Centre of British Columbia - ECPv6.15.20//NONSGML v1.0//EN
CALSCALE:GREGORIAN
METHOD:PUBLISH
X-ORIGINAL-URL:https://www.vancouversaicentre.org
X-WR-CALDESC:Events for Sri Sathya Sai Community Centre of British Columbia
REFRESH-INTERVAL;VALUE=DURATION:PT1H
X-Robots-Tag:noindex
X-PUBLISHED-TTL:PT1H
BEGIN:VTIMEZONE
TZID:America/Vancouver
BEGIN:DAYLIGHT
TZOFFSETFROM:-0800
TZOFFSETTO:-0700
TZNAME:PDT
DTSTART:20260308T100000
END:DAYLIGHT
BEGIN:STANDARD
TZOFFSETFROM:-0700
TZOFFSETTO:-0800
TZNAME:PST
DTSTART:20261101T090000
END:STANDARD
BEGIN:DAYLIGHT
TZOFFSETFROM:-0800
TZOFFSETTO:-0700
TZNAME:PDT
DTSTART:20270314T100000
END:DAYLIGHT
BEGIN:STANDARD
TZOFFSETFROM:-0700
TZOFFSETTO:-0800
TZNAME:PST
DTSTART:20271107T090000
END:STANDARD
BEGIN:DAYLIGHT
TZOFFSETFROM:-0800
TZOFFSETTO:-0700
TZNAME:PDT
DTSTART:20280312T100000
END:DAYLIGHT
BEGIN:STANDARD
TZOFFSETFROM:-0700
TZOFFSETTO:-0800
TZNAME:PST
DTSTART:20281105T090000
END:STANDARD
END:VTIMEZONE
BEGIN:VEVENT
DTSTART;TZID=America/Vancouver:20270601T200000
DTEND;TZID=America/Vancouver:20270601T210000
DTSTAMP:20260424T035755
CREATED:20250103T184334Z
LAST-MODIFIED:20250103T184334Z
UID:10002185-1811880000-1811883600@www.vancouversaicentre.org
SUMMARY:Collective Reading of Spiritual Literature (Zoom)
DESCRIPTION:
URL:https://www.vancouversaicentre.org/event/collective-reading-of-spiritual-literature-zoom-2/2027-06-01/
LOCATION:BC
END:VEVENT
BEGIN:VEVENT
DTSTART;TZID=America/Vancouver:20270602T190000
DTEND;TZID=America/Vancouver:20270602T200000
DTSTAMP:20260424T035755
CREATED:20241101T193346Z
LAST-MODIFIED:20241101T193346Z
UID:10001237-1811962800-1811966400@www.vancouversaicentre.org
SUMMARY:Self Study Hub (Zoom)
DESCRIPTION:
URL:https://www.vancouversaicentre.org/event/self-study-hub-zoom/2027-06-02/
LOCATION:BC
END:VEVENT
BEGIN:VEVENT
DTSTART;TZID=America/Vancouver:20270603T193000
DTEND;TZID=America/Vancouver:20270603T203000
DTSTAMP:20260424T035755
CREATED:20251224T050706Z
LAST-MODIFIED:20251229T175558Z
UID:10001498-1812051000-1812054600@www.vancouversaicentre.org
SUMMARY:Thursday Bhajan
DESCRIPTION:
URL:https://www.vancouversaicentre.org/event/thursday-bhajan-2-2/2027-06-03/
LOCATION:BC
END:VEVENT
BEGIN:VEVENT
DTSTART;TZID=America/Vancouver:20270605T110000
DTEND;TZID=America/Vancouver:20270605T120000
DTSTAMP:20260424T035755
CREATED:20241101T190143Z
LAST-MODIFIED:20241101T193902Z
UID:10000701-1812193200-1812196800@www.vancouversaicentre.org
SUMMARY:Open House
DESCRIPTION:
URL:https://www.vancouversaicentre.org/event/open-house-2/2027-06-05/
LOCATION:Sri Sathya Sai Centre of BC\, 2215\, E Pender St\, Vancouver\, BC\, V5L1X5\, Canada
END:VEVENT
BEGIN:VEVENT
DTSTART;TZID=America/Vancouver:20270606T110000
DTEND;TZID=America/Vancouver:20270606T123000
DTSTAMP:20260424T035755
CREATED:20241101T192102Z
LAST-MODIFIED:20241101T192243Z
UID:10000971-1812279600-1812285000@www.vancouversaicentre.org
SUMMARY:SSE Class
DESCRIPTION:
URL:https://www.vancouversaicentre.org/event/sse-class/2027-06-06/
LOCATION:BC
END:VEVENT
BEGIN:VEVENT
DTSTART;TZID=America/Vancouver:20270608T200000
DTEND;TZID=America/Vancouver:20270608T210000
DTSTAMP:20260424T035755
CREATED:20250103T184334Z
LAST-MODIFIED:20250103T184334Z
UID:10002186-1812484800-1812488400@www.vancouversaicentre.org
SUMMARY:Collective Reading of Spiritual Literature (Zoom)
DESCRIPTION:
URL:https://www.vancouversaicentre.org/event/collective-reading-of-spiritual-literature-zoom-2/2027-06-08/
LOCATION:BC
END:VEVENT
BEGIN:VEVENT
DTSTART;TZID=America/Vancouver:20270609T190000
DTEND;TZID=America/Vancouver:20270609T200000
DTSTAMP:20260424T035755
CREATED:20241101T193346Z
LAST-MODIFIED:20241101T193346Z
UID:10001238-1812567600-1812571200@www.vancouversaicentre.org
SUMMARY:Self Study Hub (Zoom)
DESCRIPTION:
URL:https://www.vancouversaicentre.org/event/self-study-hub-zoom/2027-06-09/
LOCATION:BC
END:VEVENT
BEGIN:VEVENT
DTSTART;TZID=America/Vancouver:20270610T193000
DTEND;TZID=America/Vancouver:20270610T203000
DTSTAMP:20260424T035755
CREATED:20251224T050706Z
LAST-MODIFIED:20251229T175558Z
UID:10001499-1812655800-1812659400@www.vancouversaicentre.org
SUMMARY:Thursday Bhajan
DESCRIPTION:
URL:https://www.vancouversaicentre.org/event/thursday-bhajan-2-2/2027-06-10/
LOCATION:BC
END:VEVENT
BEGIN:VEVENT
DTSTART;TZID=America/Vancouver:20270612T110000
DTEND;TZID=America/Vancouver:20270612T120000
DTSTAMP:20260424T035755
CREATED:20241101T190143Z
LAST-MODIFIED:20241101T193902Z
UID:10000702-1812798000-1812801600@www.vancouversaicentre.org
SUMMARY:Open House
DESCRIPTION:
URL:https://www.vancouversaicentre.org/event/open-house-2/2027-06-12/
LOCATION:Sri Sathya Sai Centre of BC\, 2215\, E Pender St\, Vancouver\, BC\, V5L1X5\, Canada
END:VEVENT
BEGIN:VEVENT
DTSTART;TZID=America/Vancouver:20270613T110000
DTEND;TZID=America/Vancouver:20270613T123000
DTSTAMP:20260424T035755
CREATED:20241101T192102Z
LAST-MODIFIED:20241101T192243Z
UID:10000972-1812884400-1812889800@www.vancouversaicentre.org
SUMMARY:SSE Class
DESCRIPTION:
URL:https://www.vancouversaicentre.org/event/sse-class/2027-06-13/
LOCATION:BC
END:VEVENT
BEGIN:VEVENT
DTSTART;TZID=America/Vancouver:20270615T200000
DTEND;TZID=America/Vancouver:20270615T210000
DTSTAMP:20260424T035755
CREATED:20250103T184334Z
LAST-MODIFIED:20250103T184334Z
UID:10002187-1813089600-1813093200@www.vancouversaicentre.org
SUMMARY:Collective Reading of Spiritual Literature (Zoom)
DESCRIPTION:
URL:https://www.vancouversaicentre.org/event/collective-reading-of-spiritual-literature-zoom-2/2027-06-15/
LOCATION:BC
END:VEVENT
BEGIN:VEVENT
DTSTART;TZID=America/Vancouver:20270616T190000
DTEND;TZID=America/Vancouver:20270616T200000
DTSTAMP:20260424T035755
CREATED:20241101T193346Z
LAST-MODIFIED:20241101T193346Z
UID:10001239-1813172400-1813176000@www.vancouversaicentre.org
SUMMARY:Self Study Hub (Zoom)
DESCRIPTION:
URL:https://www.vancouversaicentre.org/event/self-study-hub-zoom/2027-06-16/
LOCATION:BC
END:VEVENT
BEGIN:VEVENT
DTSTART;TZID=America/Vancouver:20270617T193000
DTEND;TZID=America/Vancouver:20270617T203000
DTSTAMP:20260424T035755
CREATED:20251224T050706Z
LAST-MODIFIED:20251229T175558Z
UID:10001500-1813260600-1813264200@www.vancouversaicentre.org
SUMMARY:Thursday Bhajan
DESCRIPTION:
URL:https://www.vancouversaicentre.org/event/thursday-bhajan-2-2/2027-06-17/
LOCATION:BC
END:VEVENT
BEGIN:VEVENT
DTSTART;TZID=America/Vancouver:20270619T110000
DTEND;TZID=America/Vancouver:20270619T120000
DTSTAMP:20260424T035755
CREATED:20241101T190143Z
LAST-MODIFIED:20241101T193902Z
UID:10000703-1813402800-1813406400@www.vancouversaicentre.org
SUMMARY:Open House
DESCRIPTION:
URL:https://www.vancouversaicentre.org/event/open-house-2/2027-06-19/
LOCATION:Sri Sathya Sai Centre of BC\, 2215\, E Pender St\, Vancouver\, BC\, V5L1X5\, Canada
END:VEVENT
BEGIN:VEVENT
DTSTART;TZID=America/Vancouver:20270620T110000
DTEND;TZID=America/Vancouver:20270620T123000
DTSTAMP:20260424T035755
CREATED:20241101T192102Z
LAST-MODIFIED:20241101T192243Z
UID:10000973-1813489200-1813494600@www.vancouversaicentre.org
SUMMARY:SSE Class
DESCRIPTION:
URL:https://www.vancouversaicentre.org/event/sse-class/2027-06-20/
LOCATION:BC
END:VEVENT
BEGIN:VEVENT
DTSTART;TZID=America/Vancouver:20270622T200000
DTEND;TZID=America/Vancouver:20270622T210000
DTSTAMP:20260424T035755
CREATED:20250103T184334Z
LAST-MODIFIED:20250103T184334Z
UID:10002188-1813694400-1813698000@www.vancouversaicentre.org
SUMMARY:Collective Reading of Spiritual Literature (Zoom)
DESCRIPTION:
URL:https://www.vancouversaicentre.org/event/collective-reading-of-spiritual-literature-zoom-2/2027-06-22/
LOCATION:BC
END:VEVENT
BEGIN:VEVENT
DTSTART;TZID=America/Vancouver:20270623T190000
DTEND;TZID=America/Vancouver:20270623T200000
DTSTAMP:20260424T035755
CREATED:20241101T193346Z
LAST-MODIFIED:20241101T193346Z
UID:10001240-1813777200-1813780800@www.vancouversaicentre.org
SUMMARY:Self Study Hub (Zoom)
DESCRIPTION:
URL:https://www.vancouversaicentre.org/event/self-study-hub-zoom/2027-06-23/
LOCATION:BC
END:VEVENT
BEGIN:VEVENT
DTSTART;TZID=America/Vancouver:20270624T193000
DTEND;TZID=America/Vancouver:20270624T203000
DTSTAMP:20260424T035755
CREATED:20251224T050706Z
LAST-MODIFIED:20251229T175558Z
UID:10001501-1813865400-1813869000@www.vancouversaicentre.org
SUMMARY:Thursday Bhajan
DESCRIPTION:
URL:https://www.vancouversaicentre.org/event/thursday-bhajan-2-2/2027-06-24/
LOCATION:BC
END:VEVENT
BEGIN:VEVENT
DTSTART;TZID=America/Vancouver:20270626T110000
DTEND;TZID=America/Vancouver:20270626T120000
DTSTAMP:20260424T035755
CREATED:20241101T190143Z
LAST-MODIFIED:20241101T193902Z
UID:10000704-1814007600-1814011200@www.vancouversaicentre.org
SUMMARY:Open House
DESCRIPTION:
URL:https://www.vancouversaicentre.org/event/open-house-2/2027-06-26/
LOCATION:Sri Sathya Sai Centre of BC\, 2215\, E Pender St\, Vancouver\, BC\, V5L1X5\, Canada
END:VEVENT
BEGIN:VEVENT
DTSTART;TZID=America/Vancouver:20270627T110000
DTEND;TZID=America/Vancouver:20270627T123000
DTSTAMP:20260424T035755
CREATED:20241101T192102Z
LAST-MODIFIED:20241101T192243Z
UID:10000974-1814094000-1814099400@www.vancouversaicentre.org
SUMMARY:SSE Class
DESCRIPTION:
URL:https://www.vancouversaicentre.org/event/sse-class/2027-06-27/
LOCATION:BC
END:VEVENT
BEGIN:VEVENT
DTSTART;TZID=America/Vancouver:20270629T200000
DTEND;TZID=America/Vancouver:20270629T210000
DTSTAMP:20260424T035755
CREATED:20250103T184334Z
LAST-MODIFIED:20250103T184334Z
UID:10002189-1814299200-1814302800@www.vancouversaicentre.org
SUMMARY:Collective Reading of Spiritual Literature (Zoom)
DESCRIPTION:
URL:https://www.vancouversaicentre.org/event/collective-reading-of-spiritual-literature-zoom-2/2027-06-29/
LOCATION:BC
END:VEVENT
BEGIN:VEVENT
DTSTART;TZID=America/Vancouver:20270630T190000
DTEND;TZID=America/Vancouver:20270630T200000
DTSTAMP:20260424T035755
CREATED:20241101T193346Z
LAST-MODIFIED:20241101T193346Z
UID:10001241-1814382000-1814385600@www.vancouversaicentre.org
SUMMARY:Self Study Hub (Zoom)
DESCRIPTION:
URL:https://www.vancouversaicentre.org/event/self-study-hub-zoom/2027-06-30/
LOCATION:BC
END:VEVENT
END:VCALENDAR