BEGIN:VCALENDAR
VERSION:2.0
PRODID:-//Sri Sathya Sai Community Centre of British Columbia - ECPv6.15.20//NONSGML v1.0//EN
CALSCALE:GREGORIAN
METHOD:PUBLISH
X-WR-CALNAME:Sri Sathya Sai Community Centre of British Columbia
X-ORIGINAL-URL:https://www.vancouversaicentre.org
X-WR-CALDESC:Events for Sri Sathya Sai Community Centre of British Columbia
REFRESH-INTERVAL;VALUE=DURATION:PT1H
X-Robots-Tag:noindex
X-PUBLISHED-TTL:PT1H
BEGIN:VTIMEZONE
TZID:America/Vancouver
BEGIN:DAYLIGHT
TZOFFSETFROM:-0800
TZOFFSETTO:-0700
TZNAME:PDT
DTSTART:20260308T100000
END:DAYLIGHT
BEGIN:STANDARD
TZOFFSETFROM:-0700
TZOFFSETTO:-0800
TZNAME:PST
DTSTART:20261101T090000
END:STANDARD
BEGIN:DAYLIGHT
TZOFFSETFROM:-0800
TZOFFSETTO:-0700
TZNAME:PDT
DTSTART:20270314T100000
END:DAYLIGHT
BEGIN:STANDARD
TZOFFSETFROM:-0700
TZOFFSETTO:-0800
TZNAME:PST
DTSTART:20271107T090000
END:STANDARD
BEGIN:DAYLIGHT
TZOFFSETFROM:-0800
TZOFFSETTO:-0700
TZNAME:PDT
DTSTART:20280312T100000
END:DAYLIGHT
BEGIN:STANDARD
TZOFFSETFROM:-0700
TZOFFSETTO:-0800
TZNAME:PST
DTSTART:20281105T090000
END:STANDARD
END:VTIMEZONE
BEGIN:VEVENT
DTSTART;TZID=America/Vancouver:20270701T193000
DTEND;TZID=America/Vancouver:20270701T203000
DTSTAMP:20260424T053011
CREATED:20251224T050706Z
LAST-MODIFIED:20251229T175558Z
UID:10001502-1814470200-1814473800@www.vancouversaicentre.org
SUMMARY:Thursday Bhajan
DESCRIPTION:
URL:https://www.vancouversaicentre.org/event/thursday-bhajan-2-2/2027-07-01/
LOCATION:BC
END:VEVENT
BEGIN:VEVENT
DTSTART;TZID=America/Vancouver:20270703T110000
DTEND;TZID=America/Vancouver:20270703T120000
DTSTAMP:20260424T053011
CREATED:20241101T190143Z
LAST-MODIFIED:20241101T193902Z
UID:10000705-1814612400-1814616000@www.vancouversaicentre.org
SUMMARY:Open House
DESCRIPTION:
URL:https://www.vancouversaicentre.org/event/open-house-2/2027-07-03/
LOCATION:Sri Sathya Sai Centre of BC\, 2215\, E Pender St\, Vancouver\, BC\, V5L1X5\, Canada
END:VEVENT
BEGIN:VEVENT
DTSTART;TZID=America/Vancouver:20270704T110000
DTEND;TZID=America/Vancouver:20270704T123000
DTSTAMP:20260424T053011
CREATED:20241101T192102Z
LAST-MODIFIED:20241101T192243Z
UID:10000975-1814698800-1814704200@www.vancouversaicentre.org
SUMMARY:SSE Class
DESCRIPTION:
URL:https://www.vancouversaicentre.org/event/sse-class/2027-07-04/
LOCATION:BC
END:VEVENT
BEGIN:VEVENT
DTSTART;TZID=America/Vancouver:20270706T200000
DTEND;TZID=America/Vancouver:20270706T210000
DTSTAMP:20260424T053011
CREATED:20250103T184334Z
LAST-MODIFIED:20250103T184334Z
UID:10002190-1814904000-1814907600@www.vancouversaicentre.org
SUMMARY:Collective Reading of Spiritual Literature (Zoom)
DESCRIPTION:
URL:https://www.vancouversaicentre.org/event/collective-reading-of-spiritual-literature-zoom-2/2027-07-06/
LOCATION:BC
END:VEVENT
BEGIN:VEVENT
DTSTART;TZID=America/Vancouver:20270707T190000
DTEND;TZID=America/Vancouver:20270707T200000
DTSTAMP:20260424T053011
CREATED:20241101T193346Z
LAST-MODIFIED:20241101T193346Z
UID:10001242-1814986800-1814990400@www.vancouversaicentre.org
SUMMARY:Self Study Hub (Zoom)
DESCRIPTION:
URL:https://www.vancouversaicentre.org/event/self-study-hub-zoom/2027-07-07/
LOCATION:BC
END:VEVENT
BEGIN:VEVENT
DTSTART;TZID=America/Vancouver:20270708T193000
DTEND;TZID=America/Vancouver:20270708T203000
DTSTAMP:20260424T053011
CREATED:20251224T050706Z
LAST-MODIFIED:20251229T175558Z
UID:10001503-1815075000-1815078600@www.vancouversaicentre.org
SUMMARY:Thursday Bhajan
DESCRIPTION:
URL:https://www.vancouversaicentre.org/event/thursday-bhajan-2-2/2027-07-08/
LOCATION:BC
END:VEVENT
BEGIN:VEVENT
DTSTART;TZID=America/Vancouver:20270710T110000
DTEND;TZID=America/Vancouver:20270710T120000
DTSTAMP:20260424T053011
CREATED:20241101T190143Z
LAST-MODIFIED:20241101T193902Z
UID:10000706-1815217200-1815220800@www.vancouversaicentre.org
SUMMARY:Open House
DESCRIPTION:
URL:https://www.vancouversaicentre.org/event/open-house-2/2027-07-10/
LOCATION:Sri Sathya Sai Centre of BC\, 2215\, E Pender St\, Vancouver\, BC\, V5L1X5\, Canada
END:VEVENT
BEGIN:VEVENT
DTSTART;TZID=America/Vancouver:20270711T110000
DTEND;TZID=America/Vancouver:20270711T123000
DTSTAMP:20260424T053011
CREATED:20241101T192102Z
LAST-MODIFIED:20241101T192243Z
UID:10000976-1815303600-1815309000@www.vancouversaicentre.org
SUMMARY:SSE Class
DESCRIPTION:
URL:https://www.vancouversaicentre.org/event/sse-class/2027-07-11/
LOCATION:BC
END:VEVENT
BEGIN:VEVENT
DTSTART;TZID=America/Vancouver:20270713T200000
DTEND;TZID=America/Vancouver:20270713T210000
DTSTAMP:20260424T053011
CREATED:20250103T184334Z
LAST-MODIFIED:20250103T184334Z
UID:10002191-1815508800-1815512400@www.vancouversaicentre.org
SUMMARY:Collective Reading of Spiritual Literature (Zoom)
DESCRIPTION:
URL:https://www.vancouversaicentre.org/event/collective-reading-of-spiritual-literature-zoom-2/2027-07-13/
LOCATION:BC
END:VEVENT
BEGIN:VEVENT
DTSTART;TZID=America/Vancouver:20270714T190000
DTEND;TZID=America/Vancouver:20270714T200000
DTSTAMP:20260424T053011
CREATED:20241101T193346Z
LAST-MODIFIED:20241101T193346Z
UID:10001243-1815591600-1815595200@www.vancouversaicentre.org
SUMMARY:Self Study Hub (Zoom)
DESCRIPTION:
URL:https://www.vancouversaicentre.org/event/self-study-hub-zoom/2027-07-14/
LOCATION:BC
END:VEVENT
BEGIN:VEVENT
DTSTART;TZID=America/Vancouver:20270715T193000
DTEND;TZID=America/Vancouver:20270715T203000
DTSTAMP:20260424T053011
CREATED:20251224T050706Z
LAST-MODIFIED:20251229T175558Z
UID:10001504-1815679800-1815683400@www.vancouversaicentre.org
SUMMARY:Thursday Bhajan
DESCRIPTION:
URL:https://www.vancouversaicentre.org/event/thursday-bhajan-2-2/2027-07-15/
LOCATION:BC
END:VEVENT
BEGIN:VEVENT
DTSTART;TZID=America/Vancouver:20270717T110000
DTEND;TZID=America/Vancouver:20270717T120000
DTSTAMP:20260424T053011
CREATED:20241101T190143Z
LAST-MODIFIED:20241101T193902Z
UID:10000707-1815822000-1815825600@www.vancouversaicentre.org
SUMMARY:Open House
DESCRIPTION:
URL:https://www.vancouversaicentre.org/event/open-house-2/2027-07-17/
LOCATION:Sri Sathya Sai Centre of BC\, 2215\, E Pender St\, Vancouver\, BC\, V5L1X5\, Canada
END:VEVENT
BEGIN:VEVENT
DTSTART;TZID=America/Vancouver:20270718T110000
DTEND;TZID=America/Vancouver:20270718T123000
DTSTAMP:20260424T053011
CREATED:20241101T192102Z
LAST-MODIFIED:20241101T192243Z
UID:10000977-1815908400-1815913800@www.vancouversaicentre.org
SUMMARY:SSE Class
DESCRIPTION:
URL:https://www.vancouversaicentre.org/event/sse-class/2027-07-18/
LOCATION:BC
END:VEVENT
BEGIN:VEVENT
DTSTART;TZID=America/Vancouver:20270720T200000
DTEND;TZID=America/Vancouver:20270720T210000
DTSTAMP:20260424T053011
CREATED:20250103T184334Z
LAST-MODIFIED:20250103T184334Z
UID:10002192-1816113600-1816117200@www.vancouversaicentre.org
SUMMARY:Collective Reading of Spiritual Literature (Zoom)
DESCRIPTION:
URL:https://www.vancouversaicentre.org/event/collective-reading-of-spiritual-literature-zoom-2/2027-07-20/
LOCATION:BC
END:VEVENT
BEGIN:VEVENT
DTSTART;TZID=America/Vancouver:20270721T190000
DTEND;TZID=America/Vancouver:20270721T200000
DTSTAMP:20260424T053011
CREATED:20241101T193346Z
LAST-MODIFIED:20241101T193346Z
UID:10001244-1816196400-1816200000@www.vancouversaicentre.org
SUMMARY:Self Study Hub (Zoom)
DESCRIPTION:
URL:https://www.vancouversaicentre.org/event/self-study-hub-zoom/2027-07-21/
LOCATION:BC
END:VEVENT
BEGIN:VEVENT
DTSTART;TZID=America/Vancouver:20270722T193000
DTEND;TZID=America/Vancouver:20270722T203000
DTSTAMP:20260424T053011
CREATED:20251224T050706Z
LAST-MODIFIED:20251229T175558Z
UID:10001505-1816284600-1816288200@www.vancouversaicentre.org
SUMMARY:Thursday Bhajan
DESCRIPTION:
URL:https://www.vancouversaicentre.org/event/thursday-bhajan-2-2/2027-07-22/
LOCATION:BC
END:VEVENT
BEGIN:VEVENT
DTSTART;TZID=America/Vancouver:20270724T110000
DTEND;TZID=America/Vancouver:20270724T120000
DTSTAMP:20260424T053011
CREATED:20241101T190143Z
LAST-MODIFIED:20241101T193902Z
UID:10000708-1816426800-1816430400@www.vancouversaicentre.org
SUMMARY:Open House
DESCRIPTION:
URL:https://www.vancouversaicentre.org/event/open-house-2/2027-07-24/
LOCATION:Sri Sathya Sai Centre of BC\, 2215\, E Pender St\, Vancouver\, BC\, V5L1X5\, Canada
END:VEVENT
BEGIN:VEVENT
DTSTART;TZID=America/Vancouver:20270725T110000
DTEND;TZID=America/Vancouver:20270725T123000
DTSTAMP:20260424T053011
CREATED:20241101T192102Z
LAST-MODIFIED:20241101T192243Z
UID:10000978-1816513200-1816518600@www.vancouversaicentre.org
SUMMARY:SSE Class
DESCRIPTION:
URL:https://www.vancouversaicentre.org/event/sse-class/2027-07-25/
LOCATION:BC
END:VEVENT
BEGIN:VEVENT
DTSTART;TZID=America/Vancouver:20270727T200000
DTEND;TZID=America/Vancouver:20270727T210000
DTSTAMP:20260424T053011
CREATED:20250103T184334Z
LAST-MODIFIED:20250103T184334Z
UID:10002193-1816718400-1816722000@www.vancouversaicentre.org
SUMMARY:Collective Reading of Spiritual Literature (Zoom)
DESCRIPTION:
URL:https://www.vancouversaicentre.org/event/collective-reading-of-spiritual-literature-zoom-2/2027-07-27/
LOCATION:BC
END:VEVENT
BEGIN:VEVENT
DTSTART;TZID=America/Vancouver:20270728T190000
DTEND;TZID=America/Vancouver:20270728T200000
DTSTAMP:20260424T053011
CREATED:20241101T193346Z
LAST-MODIFIED:20241101T193346Z
UID:10001245-1816801200-1816804800@www.vancouversaicentre.org
SUMMARY:Self Study Hub (Zoom)
DESCRIPTION:
URL:https://www.vancouversaicentre.org/event/self-study-hub-zoom/2027-07-28/
LOCATION:BC
END:VEVENT
BEGIN:VEVENT
DTSTART;TZID=America/Vancouver:20270729T193000
DTEND;TZID=America/Vancouver:20270729T203000
DTSTAMP:20260424T053011
CREATED:20251224T050706Z
LAST-MODIFIED:20251229T175558Z
UID:10001506-1816889400-1816893000@www.vancouversaicentre.org
SUMMARY:Thursday Bhajan
DESCRIPTION:
URL:https://www.vancouversaicentre.org/event/thursday-bhajan-2-2/2027-07-29/
LOCATION:BC
END:VEVENT
BEGIN:VEVENT
DTSTART;TZID=America/Vancouver:20270731T110000
DTEND;TZID=America/Vancouver:20270731T120000
DTSTAMP:20260424T053011
CREATED:20241101T190143Z
LAST-MODIFIED:20241101T193902Z
UID:10000709-1817031600-1817035200@www.vancouversaicentre.org
SUMMARY:Open House
DESCRIPTION:
URL:https://www.vancouversaicentre.org/event/open-house-2/2027-07-31/
LOCATION:Sri Sathya Sai Centre of BC\, 2215\, E Pender St\, Vancouver\, BC\, V5L1X5\, Canada
END:VEVENT
END:VCALENDAR