BEGIN:VCALENDAR
VERSION:2.0
PRODID:-//Sri Sathya Sai Community Centre of British Columbia - ECPv6.15.20//NONSGML v1.0//EN
CALSCALE:GREGORIAN
METHOD:PUBLISH
X-WR-CALNAME:Sri Sathya Sai Community Centre of British Columbia
X-ORIGINAL-URL:https://www.vancouversaicentre.org
X-WR-CALDESC:Events for Sri Sathya Sai Community Centre of British Columbia
REFRESH-INTERVAL;VALUE=DURATION:PT1H
X-Robots-Tag:noindex
X-PUBLISHED-TTL:PT1H
BEGIN:VTIMEZONE
TZID:America/Vancouver
BEGIN:DAYLIGHT
TZOFFSETFROM:-0800
TZOFFSETTO:-0700
TZNAME:PDT
DTSTART:20270314T100000
END:DAYLIGHT
BEGIN:STANDARD
TZOFFSETFROM:-0700
TZOFFSETTO:-0800
TZNAME:PST
DTSTART:20271107T090000
END:STANDARD
BEGIN:DAYLIGHT
TZOFFSETFROM:-0800
TZOFFSETTO:-0700
TZNAME:PDT
DTSTART:20280312T100000
END:DAYLIGHT
BEGIN:STANDARD
TZOFFSETFROM:-0700
TZOFFSETTO:-0800
TZNAME:PST
DTSTART:20281105T090000
END:STANDARD
BEGIN:DAYLIGHT
TZOFFSETFROM:-0800
TZOFFSETTO:-0700
TZNAME:PDT
DTSTART:20290311T100000
END:DAYLIGHT
BEGIN:STANDARD
TZOFFSETFROM:-0700
TZOFFSETTO:-0800
TZNAME:PST
DTSTART:20291104T090000
END:STANDARD
END:VTIMEZONE
BEGIN:VEVENT
DTSTART;TZID=America/Vancouver:20280201T200000
DTEND;TZID=America/Vancouver:20280201T210000
DTSTAMP:20260424T161225
CREATED:20250103T184334Z
LAST-MODIFIED:20250103T184334Z
UID:10002220-1833048000-1833051600@www.vancouversaicentre.org
SUMMARY:Collective Reading of Spiritual Literature (Zoom)
DESCRIPTION:
URL:https://www.vancouversaicentre.org/event/collective-reading-of-spiritual-literature-zoom-2/2028-02-01/
LOCATION:BC
END:VEVENT
BEGIN:VEVENT
DTSTART;TZID=America/Vancouver:20280202T190000
DTEND;TZID=America/Vancouver:20280202T200000
DTSTAMP:20260424T161225
CREATED:20241101T193346Z
LAST-MODIFIED:20241101T193346Z
UID:10001272-1833130800-1833134400@www.vancouversaicentre.org
SUMMARY:Self Study Hub (Zoom)
DESCRIPTION:
URL:https://www.vancouversaicentre.org/event/self-study-hub-zoom/2028-02-02/
LOCATION:BC
END:VEVENT
BEGIN:VEVENT
DTSTART;TZID=America/Vancouver:20280203T193000
DTEND;TZID=America/Vancouver:20280203T203000
DTSTAMP:20260424T161225
CREATED:20251224T050706Z
LAST-MODIFIED:20251229T175558Z
UID:10001533-1833219000-1833222600@www.vancouversaicentre.org
SUMMARY:Thursday Bhajan
DESCRIPTION:
URL:https://www.vancouversaicentre.org/event/thursday-bhajan-2-2/2028-02-03/
LOCATION:BC
END:VEVENT
BEGIN:VEVENT
DTSTART;TZID=America/Vancouver:20280205T110000
DTEND;TZID=America/Vancouver:20280205T120000
DTSTAMP:20260424T161225
CREATED:20241101T190143Z
LAST-MODIFIED:20241101T193902Z
UID:10000736-1833361200-1833364800@www.vancouversaicentre.org
SUMMARY:Open House
DESCRIPTION:
URL:https://www.vancouversaicentre.org/event/open-house-2/2028-02-05/
LOCATION:Sri Sathya Sai Centre of BC\, 2215\, E Pender St\, Vancouver\, BC\, V5L1X5\, Canada
END:VEVENT
BEGIN:VEVENT
DTSTART;TZID=America/Vancouver:20280206T110000
DTEND;TZID=America/Vancouver:20280206T123000
DTSTAMP:20260424T161225
CREATED:20241101T192102Z
LAST-MODIFIED:20241101T192243Z
UID:10001006-1833447600-1833453000@www.vancouversaicentre.org
SUMMARY:SSE Class
DESCRIPTION:
URL:https://www.vancouversaicentre.org/event/sse-class/2028-02-06/
LOCATION:BC
END:VEVENT
BEGIN:VEVENT
DTSTART;TZID=America/Vancouver:20280208T200000
DTEND;TZID=America/Vancouver:20280208T210000
DTSTAMP:20260424T161225
CREATED:20250103T184334Z
LAST-MODIFIED:20250103T184334Z
UID:10002221-1833652800-1833656400@www.vancouversaicentre.org
SUMMARY:Collective Reading of Spiritual Literature (Zoom)
DESCRIPTION:
URL:https://www.vancouversaicentre.org/event/collective-reading-of-spiritual-literature-zoom-2/2028-02-08/
LOCATION:BC
END:VEVENT
BEGIN:VEVENT
DTSTART;TZID=America/Vancouver:20280209T190000
DTEND;TZID=America/Vancouver:20280209T200000
DTSTAMP:20260424T161225
CREATED:20241101T193346Z
LAST-MODIFIED:20241101T193346Z
UID:10001273-1833735600-1833739200@www.vancouversaicentre.org
SUMMARY:Self Study Hub (Zoom)
DESCRIPTION:
URL:https://www.vancouversaicentre.org/event/self-study-hub-zoom/2028-02-09/
LOCATION:BC
END:VEVENT
BEGIN:VEVENT
DTSTART;TZID=America/Vancouver:20280210T193000
DTEND;TZID=America/Vancouver:20280210T203000
DTSTAMP:20260424T161225
CREATED:20251224T050706Z
LAST-MODIFIED:20251229T175558Z
UID:10001534-1833823800-1833827400@www.vancouversaicentre.org
SUMMARY:Thursday Bhajan
DESCRIPTION:
URL:https://www.vancouversaicentre.org/event/thursday-bhajan-2-2/2028-02-10/
LOCATION:BC
END:VEVENT
BEGIN:VEVENT
DTSTART;TZID=America/Vancouver:20280212T110000
DTEND;TZID=America/Vancouver:20280212T120000
DTSTAMP:20260424T161225
CREATED:20241101T190143Z
LAST-MODIFIED:20241101T193902Z
UID:10000737-1833966000-1833969600@www.vancouversaicentre.org
SUMMARY:Open House
DESCRIPTION:
URL:https://www.vancouversaicentre.org/event/open-house-2/2028-02-12/
LOCATION:Sri Sathya Sai Centre of BC\, 2215\, E Pender St\, Vancouver\, BC\, V5L1X5\, Canada
END:VEVENT
BEGIN:VEVENT
DTSTART;TZID=America/Vancouver:20280213T110000
DTEND;TZID=America/Vancouver:20280213T123000
DTSTAMP:20260424T161225
CREATED:20241101T192102Z
LAST-MODIFIED:20241101T192243Z
UID:10001007-1834052400-1834057800@www.vancouversaicentre.org
SUMMARY:SSE Class
DESCRIPTION:
URL:https://www.vancouversaicentre.org/event/sse-class/2028-02-13/
LOCATION:BC
END:VEVENT
BEGIN:VEVENT
DTSTART;TZID=America/Vancouver:20280215T200000
DTEND;TZID=America/Vancouver:20280215T210000
DTSTAMP:20260424T161225
CREATED:20250103T184334Z
LAST-MODIFIED:20250103T184334Z
UID:10002222-1834257600-1834261200@www.vancouversaicentre.org
SUMMARY:Collective Reading of Spiritual Literature (Zoom)
DESCRIPTION:
URL:https://www.vancouversaicentre.org/event/collective-reading-of-spiritual-literature-zoom-2/2028-02-15/
LOCATION:BC
END:VEVENT
BEGIN:VEVENT
DTSTART;TZID=America/Vancouver:20280216T190000
DTEND;TZID=America/Vancouver:20280216T200000
DTSTAMP:20260424T161225
CREATED:20241101T193346Z
LAST-MODIFIED:20241101T193346Z
UID:10001274-1834340400-1834344000@www.vancouversaicentre.org
SUMMARY:Self Study Hub (Zoom)
DESCRIPTION:
URL:https://www.vancouversaicentre.org/event/self-study-hub-zoom/2028-02-16/
LOCATION:BC
END:VEVENT
BEGIN:VEVENT
DTSTART;TZID=America/Vancouver:20280217T193000
DTEND;TZID=America/Vancouver:20280217T203000
DTSTAMP:20260424T161225
CREATED:20251224T050706Z
LAST-MODIFIED:20251229T175558Z
UID:10001535-1834428600-1834432200@www.vancouversaicentre.org
SUMMARY:Thursday Bhajan
DESCRIPTION:
URL:https://www.vancouversaicentre.org/event/thursday-bhajan-2-2/2028-02-17/
LOCATION:BC
END:VEVENT
BEGIN:VEVENT
DTSTART;TZID=America/Vancouver:20280219T110000
DTEND;TZID=America/Vancouver:20280219T120000
DTSTAMP:20260424T161225
CREATED:20241101T190143Z
LAST-MODIFIED:20241101T193902Z
UID:10000738-1834570800-1834574400@www.vancouversaicentre.org
SUMMARY:Open House
DESCRIPTION:
URL:https://www.vancouversaicentre.org/event/open-house-2/2028-02-19/
LOCATION:Sri Sathya Sai Centre of BC\, 2215\, E Pender St\, Vancouver\, BC\, V5L1X5\, Canada
END:VEVENT
BEGIN:VEVENT
DTSTART;TZID=America/Vancouver:20280220T110000
DTEND;TZID=America/Vancouver:20280220T123000
DTSTAMP:20260424T161225
CREATED:20241101T192102Z
LAST-MODIFIED:20241101T192243Z
UID:10001008-1834657200-1834662600@www.vancouversaicentre.org
SUMMARY:SSE Class
DESCRIPTION:
URL:https://www.vancouversaicentre.org/event/sse-class/2028-02-20/
LOCATION:BC
END:VEVENT
BEGIN:VEVENT
DTSTART;TZID=America/Vancouver:20280222T200000
DTEND;TZID=America/Vancouver:20280222T210000
DTSTAMP:20260424T161225
CREATED:20250103T184334Z
LAST-MODIFIED:20250103T184334Z
UID:10002223-1834862400-1834866000@www.vancouversaicentre.org
SUMMARY:Collective Reading of Spiritual Literature (Zoom)
DESCRIPTION:
URL:https://www.vancouversaicentre.org/event/collective-reading-of-spiritual-literature-zoom-2/2028-02-22/
LOCATION:BC
END:VEVENT
BEGIN:VEVENT
DTSTART;TZID=America/Vancouver:20280223T190000
DTEND;TZID=America/Vancouver:20280223T200000
DTSTAMP:20260424T161225
CREATED:20241101T193346Z
LAST-MODIFIED:20241101T193346Z
UID:10001275-1834945200-1834948800@www.vancouversaicentre.org
SUMMARY:Self Study Hub (Zoom)
DESCRIPTION:
URL:https://www.vancouversaicentre.org/event/self-study-hub-zoom/2028-02-23/
LOCATION:BC
END:VEVENT
BEGIN:VEVENT
DTSTART;TZID=America/Vancouver:20280224T193000
DTEND;TZID=America/Vancouver:20280224T203000
DTSTAMP:20260424T161225
CREATED:20251224T050706Z
LAST-MODIFIED:20251229T175558Z
UID:10001536-1835033400-1835037000@www.vancouversaicentre.org
SUMMARY:Thursday Bhajan
DESCRIPTION:
URL:https://www.vancouversaicentre.org/event/thursday-bhajan-2-2/2028-02-24/
LOCATION:BC
END:VEVENT
BEGIN:VEVENT
DTSTART;TZID=America/Vancouver:20280226T110000
DTEND;TZID=America/Vancouver:20280226T120000
DTSTAMP:20260424T161225
CREATED:20241101T190143Z
LAST-MODIFIED:20241101T193902Z
UID:10000739-1835175600-1835179200@www.vancouversaicentre.org
SUMMARY:Open House
DESCRIPTION:
URL:https://www.vancouversaicentre.org/event/open-house-2/2028-02-26/
LOCATION:Sri Sathya Sai Centre of BC\, 2215\, E Pender St\, Vancouver\, BC\, V5L1X5\, Canada
END:VEVENT
BEGIN:VEVENT
DTSTART;TZID=America/Vancouver:20280227T110000
DTEND;TZID=America/Vancouver:20280227T123000
DTSTAMP:20260424T161225
CREATED:20241101T192102Z
LAST-MODIFIED:20241101T192243Z
UID:10001009-1835262000-1835267400@www.vancouversaicentre.org
SUMMARY:SSE Class
DESCRIPTION:
URL:https://www.vancouversaicentre.org/event/sse-class/2028-02-27/
LOCATION:BC
END:VEVENT
BEGIN:VEVENT
DTSTART;TZID=America/Vancouver:20280229T200000
DTEND;TZID=America/Vancouver:20280229T210000
DTSTAMP:20260424T161225
CREATED:20250103T184334Z
LAST-MODIFIED:20250103T184334Z
UID:10002224-1835467200-1835470800@www.vancouversaicentre.org
SUMMARY:Collective Reading of Spiritual Literature (Zoom)
DESCRIPTION:
URL:https://www.vancouversaicentre.org/event/collective-reading-of-spiritual-literature-zoom-2/2028-02-29/
LOCATION:BC
END:VEVENT
END:VCALENDAR