BEGIN:VCALENDAR
VERSION:2.0
PRODID:-//Sri Sathya Sai Community Centre of British Columbia - ECPv6.15.20//NONSGML v1.0//EN
CALSCALE:GREGORIAN
METHOD:PUBLISH
X-WR-CALNAME:Sri Sathya Sai Community Centre of British Columbia
X-ORIGINAL-URL:https://www.vancouversaicentre.org
X-WR-CALDESC:Events for Sri Sathya Sai Community Centre of British Columbia
REFRESH-INTERVAL;VALUE=DURATION:PT1H
X-Robots-Tag:noindex
X-PUBLISHED-TTL:PT1H
BEGIN:VTIMEZONE
TZID:America/Vancouver
BEGIN:DAYLIGHT
TZOFFSETFROM:-0800
TZOFFSETTO:-0700
TZNAME:PDT
DTSTART:20270314T100000
END:DAYLIGHT
BEGIN:STANDARD
TZOFFSETFROM:-0700
TZOFFSETTO:-0800
TZNAME:PST
DTSTART:20271107T090000
END:STANDARD
BEGIN:DAYLIGHT
TZOFFSETFROM:-0800
TZOFFSETTO:-0700
TZNAME:PDT
DTSTART:20280312T100000
END:DAYLIGHT
BEGIN:STANDARD
TZOFFSETFROM:-0700
TZOFFSETTO:-0800
TZNAME:PST
DTSTART:20281105T090000
END:STANDARD
BEGIN:DAYLIGHT
TZOFFSETFROM:-0800
TZOFFSETTO:-0700
TZNAME:PDT
DTSTART:20290311T100000
END:DAYLIGHT
BEGIN:STANDARD
TZOFFSETFROM:-0700
TZOFFSETTO:-0800
TZNAME:PST
DTSTART:20291104T090000
END:STANDARD
END:VTIMEZONE
BEGIN:VEVENT
DTSTART;TZID=America/Vancouver:20280301T190000
DTEND;TZID=America/Vancouver:20280301T200000
DTSTAMP:20260424T175304
CREATED:20241101T193346Z
LAST-MODIFIED:20241101T193346Z
UID:10001276-1835550000-1835553600@www.vancouversaicentre.org
SUMMARY:Self Study Hub (Zoom)
DESCRIPTION:
URL:https://www.vancouversaicentre.org/event/self-study-hub-zoom/2028-03-01/
LOCATION:BC
END:VEVENT
BEGIN:VEVENT
DTSTART;TZID=America/Vancouver:20280302T193000
DTEND;TZID=America/Vancouver:20280302T203000
DTSTAMP:20260424T175304
CREATED:20251224T050706Z
LAST-MODIFIED:20251229T175558Z
UID:10001537-1835638200-1835641800@www.vancouversaicentre.org
SUMMARY:Thursday Bhajan
DESCRIPTION:
URL:https://www.vancouversaicentre.org/event/thursday-bhajan-2-2/2028-03-02/
LOCATION:BC
END:VEVENT
BEGIN:VEVENT
DTSTART;TZID=America/Vancouver:20280304T110000
DTEND;TZID=America/Vancouver:20280304T120000
DTSTAMP:20260424T175304
CREATED:20241101T190143Z
LAST-MODIFIED:20241101T193902Z
UID:10000740-1835780400-1835784000@www.vancouversaicentre.org
SUMMARY:Open House
DESCRIPTION:
URL:https://www.vancouversaicentre.org/event/open-house-2/2028-03-04/
LOCATION:Sri Sathya Sai Centre of BC\, 2215\, E Pender St\, Vancouver\, BC\, V5L1X5\, Canada
END:VEVENT
BEGIN:VEVENT
DTSTART;TZID=America/Vancouver:20280305T110000
DTEND;TZID=America/Vancouver:20280305T123000
DTSTAMP:20260424T175304
CREATED:20241101T192102Z
LAST-MODIFIED:20241101T192243Z
UID:10001010-1835866800-1835872200@www.vancouversaicentre.org
SUMMARY:SSE Class
DESCRIPTION:
URL:https://www.vancouversaicentre.org/event/sse-class/2028-03-05/
LOCATION:BC
END:VEVENT
BEGIN:VEVENT
DTSTART;TZID=America/Vancouver:20280307T200000
DTEND;TZID=America/Vancouver:20280307T210000
DTSTAMP:20260424T175304
CREATED:20250103T184334Z
LAST-MODIFIED:20250103T184334Z
UID:10002225-1836072000-1836075600@www.vancouversaicentre.org
SUMMARY:Collective Reading of Spiritual Literature (Zoom)
DESCRIPTION:
URL:https://www.vancouversaicentre.org/event/collective-reading-of-spiritual-literature-zoom-2/2028-03-07/
LOCATION:BC
END:VEVENT
BEGIN:VEVENT
DTSTART;TZID=America/Vancouver:20280308T190000
DTEND;TZID=America/Vancouver:20280308T200000
DTSTAMP:20260424T175304
CREATED:20241101T193346Z
LAST-MODIFIED:20241101T193346Z
UID:10001277-1836154800-1836158400@www.vancouversaicentre.org
SUMMARY:Self Study Hub (Zoom)
DESCRIPTION:
URL:https://www.vancouversaicentre.org/event/self-study-hub-zoom/2028-03-08/
LOCATION:BC
END:VEVENT
BEGIN:VEVENT
DTSTART;TZID=America/Vancouver:20280309T193000
DTEND;TZID=America/Vancouver:20280309T203000
DTSTAMP:20260424T175304
CREATED:20251224T050706Z
LAST-MODIFIED:20251229T175558Z
UID:10001538-1836243000-1836246600@www.vancouversaicentre.org
SUMMARY:Thursday Bhajan
DESCRIPTION:
URL:https://www.vancouversaicentre.org/event/thursday-bhajan-2-2/2028-03-09/
LOCATION:BC
END:VEVENT
BEGIN:VEVENT
DTSTART;TZID=America/Vancouver:20280311T110000
DTEND;TZID=America/Vancouver:20280311T120000
DTSTAMP:20260424T175304
CREATED:20241101T190143Z
LAST-MODIFIED:20241101T193902Z
UID:10000741-1836385200-1836388800@www.vancouversaicentre.org
SUMMARY:Open House
DESCRIPTION:
URL:https://www.vancouversaicentre.org/event/open-house-2/2028-03-11/
LOCATION:Sri Sathya Sai Centre of BC\, 2215\, E Pender St\, Vancouver\, BC\, V5L1X5\, Canada
END:VEVENT
BEGIN:VEVENT
DTSTART;TZID=America/Vancouver:20280312T110000
DTEND;TZID=America/Vancouver:20280312T123000
DTSTAMP:20260424T175304
CREATED:20241101T192102Z
LAST-MODIFIED:20241101T192243Z
UID:10001011-1836471600-1836477000@www.vancouversaicentre.org
SUMMARY:SSE Class
DESCRIPTION:
URL:https://www.vancouversaicentre.org/event/sse-class/2028-03-12/
LOCATION:BC
END:VEVENT
BEGIN:VEVENT
DTSTART;TZID=America/Vancouver:20280314T200000
DTEND;TZID=America/Vancouver:20280314T210000
DTSTAMP:20260424T175304
CREATED:20250103T184334Z
LAST-MODIFIED:20250103T184334Z
UID:10002226-1836676800-1836680400@www.vancouversaicentre.org
SUMMARY:Collective Reading of Spiritual Literature (Zoom)
DESCRIPTION:
URL:https://www.vancouversaicentre.org/event/collective-reading-of-spiritual-literature-zoom-2/2028-03-14/
LOCATION:BC
END:VEVENT
BEGIN:VEVENT
DTSTART;TZID=America/Vancouver:20280315T190000
DTEND;TZID=America/Vancouver:20280315T200000
DTSTAMP:20260424T175304
CREATED:20241101T193346Z
LAST-MODIFIED:20241101T193346Z
UID:10001278-1836759600-1836763200@www.vancouversaicentre.org
SUMMARY:Self Study Hub (Zoom)
DESCRIPTION:
URL:https://www.vancouversaicentre.org/event/self-study-hub-zoom/2028-03-15/
LOCATION:BC
END:VEVENT
BEGIN:VEVENT
DTSTART;TZID=America/Vancouver:20280316T193000
DTEND;TZID=America/Vancouver:20280316T203000
DTSTAMP:20260424T175304
CREATED:20251224T050706Z
LAST-MODIFIED:20251229T175558Z
UID:10001539-1836847800-1836851400@www.vancouversaicentre.org
SUMMARY:Thursday Bhajan
DESCRIPTION:
URL:https://www.vancouversaicentre.org/event/thursday-bhajan-2-2/2028-03-16/
LOCATION:BC
END:VEVENT
BEGIN:VEVENT
DTSTART;TZID=America/Vancouver:20280318T110000
DTEND;TZID=America/Vancouver:20280318T120000
DTSTAMP:20260424T175304
CREATED:20241101T190143Z
LAST-MODIFIED:20241101T193902Z
UID:10000742-1836990000-1836993600@www.vancouversaicentre.org
SUMMARY:Open House
DESCRIPTION:
URL:https://www.vancouversaicentre.org/event/open-house-2/2028-03-18/
LOCATION:Sri Sathya Sai Centre of BC\, 2215\, E Pender St\, Vancouver\, BC\, V5L1X5\, Canada
END:VEVENT
BEGIN:VEVENT
DTSTART;TZID=America/Vancouver:20280319T110000
DTEND;TZID=America/Vancouver:20280319T123000
DTSTAMP:20260424T175304
CREATED:20241101T192102Z
LAST-MODIFIED:20241101T192243Z
UID:10001012-1837076400-1837081800@www.vancouversaicentre.org
SUMMARY:SSE Class
DESCRIPTION:
URL:https://www.vancouversaicentre.org/event/sse-class/2028-03-19/
LOCATION:BC
END:VEVENT
BEGIN:VEVENT
DTSTART;TZID=America/Vancouver:20280321T200000
DTEND;TZID=America/Vancouver:20280321T210000
DTSTAMP:20260424T175304
CREATED:20250103T184334Z
LAST-MODIFIED:20250103T184334Z
UID:10002227-1837281600-1837285200@www.vancouversaicentre.org
SUMMARY:Collective Reading of Spiritual Literature (Zoom)
DESCRIPTION:
URL:https://www.vancouversaicentre.org/event/collective-reading-of-spiritual-literature-zoom-2/2028-03-21/
LOCATION:BC
END:VEVENT
BEGIN:VEVENT
DTSTART;TZID=America/Vancouver:20280322T190000
DTEND;TZID=America/Vancouver:20280322T200000
DTSTAMP:20260424T175304
CREATED:20241101T193346Z
LAST-MODIFIED:20241101T193346Z
UID:10001279-1837364400-1837368000@www.vancouversaicentre.org
SUMMARY:Self Study Hub (Zoom)
DESCRIPTION:
URL:https://www.vancouversaicentre.org/event/self-study-hub-zoom/2028-03-22/
LOCATION:BC
END:VEVENT
BEGIN:VEVENT
DTSTART;TZID=America/Vancouver:20280323T193000
DTEND;TZID=America/Vancouver:20280323T203000
DTSTAMP:20260424T175304
CREATED:20251224T050706Z
LAST-MODIFIED:20251229T175558Z
UID:10001540-1837452600-1837456200@www.vancouversaicentre.org
SUMMARY:Thursday Bhajan
DESCRIPTION:
URL:https://www.vancouversaicentre.org/event/thursday-bhajan-2-2/2028-03-23/
LOCATION:BC
END:VEVENT
BEGIN:VEVENT
DTSTART;TZID=America/Vancouver:20280325T110000
DTEND;TZID=America/Vancouver:20280325T120000
DTSTAMP:20260424T175304
CREATED:20241101T190143Z
LAST-MODIFIED:20241101T193902Z
UID:10000743-1837594800-1837598400@www.vancouversaicentre.org
SUMMARY:Open House
DESCRIPTION:
URL:https://www.vancouversaicentre.org/event/open-house-2/2028-03-25/
LOCATION:Sri Sathya Sai Centre of BC\, 2215\, E Pender St\, Vancouver\, BC\, V5L1X5\, Canada
END:VEVENT
BEGIN:VEVENT
DTSTART;TZID=America/Vancouver:20280326T110000
DTEND;TZID=America/Vancouver:20280326T123000
DTSTAMP:20260424T175304
CREATED:20241101T192102Z
LAST-MODIFIED:20241101T192243Z
UID:10001013-1837681200-1837686600@www.vancouversaicentre.org
SUMMARY:SSE Class
DESCRIPTION:
URL:https://www.vancouversaicentre.org/event/sse-class/2028-03-26/
LOCATION:BC
END:VEVENT
BEGIN:VEVENT
DTSTART;TZID=America/Vancouver:20280328T200000
DTEND;TZID=America/Vancouver:20280328T210000
DTSTAMP:20260424T175304
CREATED:20250103T184334Z
LAST-MODIFIED:20250103T184334Z
UID:10002228-1837886400-1837890000@www.vancouversaicentre.org
SUMMARY:Collective Reading of Spiritual Literature (Zoom)
DESCRIPTION:
URL:https://www.vancouversaicentre.org/event/collective-reading-of-spiritual-literature-zoom-2/2028-03-28/
LOCATION:BC
END:VEVENT
BEGIN:VEVENT
DTSTART;TZID=America/Vancouver:20280329T190000
DTEND;TZID=America/Vancouver:20280329T200000
DTSTAMP:20260424T175304
CREATED:20241101T193346Z
LAST-MODIFIED:20241101T193346Z
UID:10001280-1837969200-1837972800@www.vancouversaicentre.org
SUMMARY:Self Study Hub (Zoom)
DESCRIPTION:
URL:https://www.vancouversaicentre.org/event/self-study-hub-zoom/2028-03-29/
LOCATION:BC
END:VEVENT
BEGIN:VEVENT
DTSTART;TZID=America/Vancouver:20280330T193000
DTEND;TZID=America/Vancouver:20280330T203000
DTSTAMP:20260424T175304
CREATED:20251224T050706Z
LAST-MODIFIED:20251229T175558Z
UID:10001541-1838057400-1838061000@www.vancouversaicentre.org
SUMMARY:Thursday Bhajan
DESCRIPTION:
URL:https://www.vancouversaicentre.org/event/thursday-bhajan-2-2/2028-03-30/
LOCATION:BC
END:VEVENT
END:VCALENDAR