BEGIN:VCALENDAR
VERSION:2.0
PRODID:-//Sri Sathya Sai Community Centre of British Columbia - ECPv6.15.20//NONSGML v1.0//EN
CALSCALE:GREGORIAN
METHOD:PUBLISH
X-ORIGINAL-URL:https://www.vancouversaicentre.org
X-WR-CALDESC:Events for Sri Sathya Sai Community Centre of British Columbia
REFRESH-INTERVAL;VALUE=DURATION:PT1H
X-Robots-Tag:noindex
X-PUBLISHED-TTL:PT1H
BEGIN:VTIMEZONE
TZID:America/Vancouver
BEGIN:DAYLIGHT
TZOFFSETFROM:-0800
TZOFFSETTO:-0700
TZNAME:PDT
DTSTART:20270314T100000
END:DAYLIGHT
BEGIN:STANDARD
TZOFFSETFROM:-0700
TZOFFSETTO:-0800
TZNAME:PST
DTSTART:20271107T090000
END:STANDARD
BEGIN:DAYLIGHT
TZOFFSETFROM:-0800
TZOFFSETTO:-0700
TZNAME:PDT
DTSTART:20280312T100000
END:DAYLIGHT
BEGIN:STANDARD
TZOFFSETFROM:-0700
TZOFFSETTO:-0800
TZNAME:PST
DTSTART:20281105T090000
END:STANDARD
BEGIN:DAYLIGHT
TZOFFSETFROM:-0800
TZOFFSETTO:-0700
TZNAME:PDT
DTSTART:20290311T100000
END:DAYLIGHT
BEGIN:STANDARD
TZOFFSETFROM:-0700
TZOFFSETTO:-0800
TZNAME:PST
DTSTART:20291104T090000
END:STANDARD
END:VTIMEZONE
BEGIN:VEVENT
DTSTART;TZID=America/Vancouver:20280401T110000
DTEND;TZID=America/Vancouver:20280401T120000
DTSTAMP:20260424T193152
CREATED:20241101T190143Z
LAST-MODIFIED:20241101T193902Z
UID:10000744-1838199600-1838203200@www.vancouversaicentre.org
SUMMARY:Open House
DESCRIPTION:
URL:https://www.vancouversaicentre.org/event/open-house-2/2028-04-01/
LOCATION:Sri Sathya Sai Centre of BC\, 2215\, E Pender St\, Vancouver\, BC\, V5L1X5\, Canada
END:VEVENT
BEGIN:VEVENT
DTSTART;TZID=America/Vancouver:20280402T110000
DTEND;TZID=America/Vancouver:20280402T123000
DTSTAMP:20260424T193152
CREATED:20241101T192102Z
LAST-MODIFIED:20241101T192243Z
UID:10001014-1838286000-1838291400@www.vancouversaicentre.org
SUMMARY:SSE Class
DESCRIPTION:
URL:https://www.vancouversaicentre.org/event/sse-class/2028-04-02/
LOCATION:BC
END:VEVENT
BEGIN:VEVENT
DTSTART;TZID=America/Vancouver:20280404T200000
DTEND;TZID=America/Vancouver:20280404T210000
DTSTAMP:20260424T193152
CREATED:20250103T184334Z
LAST-MODIFIED:20250103T184334Z
UID:10002229-1838491200-1838494800@www.vancouversaicentre.org
SUMMARY:Collective Reading of Spiritual Literature (Zoom)
DESCRIPTION:
URL:https://www.vancouversaicentre.org/event/collective-reading-of-spiritual-literature-zoom-2/2028-04-04/
LOCATION:BC
END:VEVENT
BEGIN:VEVENT
DTSTART;TZID=America/Vancouver:20280405T190000
DTEND;TZID=America/Vancouver:20280405T200000
DTSTAMP:20260424T193152
CREATED:20241101T193346Z
LAST-MODIFIED:20241101T193346Z
UID:10001281-1838574000-1838577600@www.vancouversaicentre.org
SUMMARY:Self Study Hub (Zoom)
DESCRIPTION:
URL:https://www.vancouversaicentre.org/event/self-study-hub-zoom/2028-04-05/
LOCATION:BC
END:VEVENT
BEGIN:VEVENT
DTSTART;TZID=America/Vancouver:20280406T193000
DTEND;TZID=America/Vancouver:20280406T203000
DTSTAMP:20260424T193152
CREATED:20251224T050706Z
LAST-MODIFIED:20251229T175558Z
UID:10001542-1838662200-1838665800@www.vancouversaicentre.org
SUMMARY:Thursday Bhajan
DESCRIPTION:
URL:https://www.vancouversaicentre.org/event/thursday-bhajan-2-2/2028-04-06/
LOCATION:BC
END:VEVENT
BEGIN:VEVENT
DTSTART;TZID=America/Vancouver:20280408T110000
DTEND;TZID=America/Vancouver:20280408T120000
DTSTAMP:20260424T193152
CREATED:20241101T190143Z
LAST-MODIFIED:20241101T193902Z
UID:10000745-1838804400-1838808000@www.vancouversaicentre.org
SUMMARY:Open House
DESCRIPTION:
URL:https://www.vancouversaicentre.org/event/open-house-2/2028-04-08/
LOCATION:Sri Sathya Sai Centre of BC\, 2215\, E Pender St\, Vancouver\, BC\, V5L1X5\, Canada
END:VEVENT
BEGIN:VEVENT
DTSTART;TZID=America/Vancouver:20280409T110000
DTEND;TZID=America/Vancouver:20280409T123000
DTSTAMP:20260424T193152
CREATED:20241101T192102Z
LAST-MODIFIED:20241101T192243Z
UID:10001015-1838890800-1838896200@www.vancouversaicentre.org
SUMMARY:SSE Class
DESCRIPTION:
URL:https://www.vancouversaicentre.org/event/sse-class/2028-04-09/
LOCATION:BC
END:VEVENT
BEGIN:VEVENT
DTSTART;TZID=America/Vancouver:20280411T200000
DTEND;TZID=America/Vancouver:20280411T210000
DTSTAMP:20260424T193152
CREATED:20250103T184334Z
LAST-MODIFIED:20250103T184334Z
UID:10002230-1839096000-1839099600@www.vancouversaicentre.org
SUMMARY:Collective Reading of Spiritual Literature (Zoom)
DESCRIPTION:
URL:https://www.vancouversaicentre.org/event/collective-reading-of-spiritual-literature-zoom-2/2028-04-11/
LOCATION:BC
END:VEVENT
BEGIN:VEVENT
DTSTART;TZID=America/Vancouver:20280412T190000
DTEND;TZID=America/Vancouver:20280412T200000
DTSTAMP:20260424T193152
CREATED:20241101T193346Z
LAST-MODIFIED:20241101T193346Z
UID:10001282-1839178800-1839182400@www.vancouversaicentre.org
SUMMARY:Self Study Hub (Zoom)
DESCRIPTION:
URL:https://www.vancouversaicentre.org/event/self-study-hub-zoom/2028-04-12/
LOCATION:BC
END:VEVENT
BEGIN:VEVENT
DTSTART;TZID=America/Vancouver:20280413T193000
DTEND;TZID=America/Vancouver:20280413T203000
DTSTAMP:20260424T193152
CREATED:20251224T050706Z
LAST-MODIFIED:20251229T175558Z
UID:10001543-1839267000-1839270600@www.vancouversaicentre.org
SUMMARY:Thursday Bhajan
DESCRIPTION:
URL:https://www.vancouversaicentre.org/event/thursday-bhajan-2-2/2028-04-13/
LOCATION:BC
END:VEVENT
BEGIN:VEVENT
DTSTART;TZID=America/Vancouver:20280415T110000
DTEND;TZID=America/Vancouver:20280415T120000
DTSTAMP:20260424T193152
CREATED:20241101T190143Z
LAST-MODIFIED:20241101T193902Z
UID:10000746-1839409200-1839412800@www.vancouversaicentre.org
SUMMARY:Open House
DESCRIPTION:
URL:https://www.vancouversaicentre.org/event/open-house-2/2028-04-15/
LOCATION:Sri Sathya Sai Centre of BC\, 2215\, E Pender St\, Vancouver\, BC\, V5L1X5\, Canada
END:VEVENT
BEGIN:VEVENT
DTSTART;TZID=America/Vancouver:20280416T110000
DTEND;TZID=America/Vancouver:20280416T123000
DTSTAMP:20260424T193152
CREATED:20241101T192102Z
LAST-MODIFIED:20241101T192243Z
UID:10001016-1839495600-1839501000@www.vancouversaicentre.org
SUMMARY:SSE Class
DESCRIPTION:
URL:https://www.vancouversaicentre.org/event/sse-class/2028-04-16/
LOCATION:BC
END:VEVENT
BEGIN:VEVENT
DTSTART;TZID=America/Vancouver:20280418T200000
DTEND;TZID=America/Vancouver:20280418T210000
DTSTAMP:20260424T193152
CREATED:20250103T184334Z
LAST-MODIFIED:20250103T184334Z
UID:10002231-1839700800-1839704400@www.vancouversaicentre.org
SUMMARY:Collective Reading of Spiritual Literature (Zoom)
DESCRIPTION:
URL:https://www.vancouversaicentre.org/event/collective-reading-of-spiritual-literature-zoom-2/2028-04-18/
LOCATION:BC
END:VEVENT
BEGIN:VEVENT
DTSTART;TZID=America/Vancouver:20280419T190000
DTEND;TZID=America/Vancouver:20280419T200000
DTSTAMP:20260424T193152
CREATED:20241101T193346Z
LAST-MODIFIED:20241101T193346Z
UID:10001283-1839783600-1839787200@www.vancouversaicentre.org
SUMMARY:Self Study Hub (Zoom)
DESCRIPTION:
URL:https://www.vancouversaicentre.org/event/self-study-hub-zoom/2028-04-19/
LOCATION:BC
END:VEVENT
BEGIN:VEVENT
DTSTART;TZID=America/Vancouver:20280420T193000
DTEND;TZID=America/Vancouver:20280420T203000
DTSTAMP:20260424T193152
CREATED:20251224T050706Z
LAST-MODIFIED:20251229T175558Z
UID:10001544-1839871800-1839875400@www.vancouversaicentre.org
SUMMARY:Thursday Bhajan
DESCRIPTION:
URL:https://www.vancouversaicentre.org/event/thursday-bhajan-2-2/2028-04-20/
LOCATION:BC
END:VEVENT
BEGIN:VEVENT
DTSTART;TZID=America/Vancouver:20280422T110000
DTEND;TZID=America/Vancouver:20280422T120000
DTSTAMP:20260424T193152
CREATED:20241101T190143Z
LAST-MODIFIED:20241101T193902Z
UID:10000747-1840014000-1840017600@www.vancouversaicentre.org
SUMMARY:Open House
DESCRIPTION:
URL:https://www.vancouversaicentre.org/event/open-house-2/2028-04-22/
LOCATION:Sri Sathya Sai Centre of BC\, 2215\, E Pender St\, Vancouver\, BC\, V5L1X5\, Canada
END:VEVENT
BEGIN:VEVENT
DTSTART;TZID=America/Vancouver:20280423T110000
DTEND;TZID=America/Vancouver:20280423T123000
DTSTAMP:20260424T193152
CREATED:20241101T192102Z
LAST-MODIFIED:20241101T192243Z
UID:10001017-1840100400-1840105800@www.vancouversaicentre.org
SUMMARY:SSE Class
DESCRIPTION:
URL:https://www.vancouversaicentre.org/event/sse-class/2028-04-23/
LOCATION:BC
END:VEVENT
BEGIN:VEVENT
DTSTART;TZID=America/Vancouver:20280425T200000
DTEND;TZID=America/Vancouver:20280425T210000
DTSTAMP:20260424T193152
CREATED:20250103T184334Z
LAST-MODIFIED:20250103T184334Z
UID:10002232-1840305600-1840309200@www.vancouversaicentre.org
SUMMARY:Collective Reading of Spiritual Literature (Zoom)
DESCRIPTION:
URL:https://www.vancouversaicentre.org/event/collective-reading-of-spiritual-literature-zoom-2/2028-04-25/
LOCATION:BC
END:VEVENT
BEGIN:VEVENT
DTSTART;TZID=America/Vancouver:20280426T190000
DTEND;TZID=America/Vancouver:20280426T200000
DTSTAMP:20260424T193152
CREATED:20241101T193346Z
LAST-MODIFIED:20241101T193346Z
UID:10001284-1840388400-1840392000@www.vancouversaicentre.org
SUMMARY:Self Study Hub (Zoom)
DESCRIPTION:
URL:https://www.vancouversaicentre.org/event/self-study-hub-zoom/2028-04-26/
LOCATION:BC
END:VEVENT
BEGIN:VEVENT
DTSTART;TZID=America/Vancouver:20280427T193000
DTEND;TZID=America/Vancouver:20280427T203000
DTSTAMP:20260424T193152
CREATED:20251224T050706Z
LAST-MODIFIED:20251229T175558Z
UID:10001545-1840476600-1840480200@www.vancouversaicentre.org
SUMMARY:Thursday Bhajan
DESCRIPTION:
URL:https://www.vancouversaicentre.org/event/thursday-bhajan-2-2/2028-04-27/
LOCATION:BC
END:VEVENT
BEGIN:VEVENT
DTSTART;TZID=America/Vancouver:20280429T110000
DTEND;TZID=America/Vancouver:20280429T120000
DTSTAMP:20260424T193152
CREATED:20241101T190143Z
LAST-MODIFIED:20241101T193902Z
UID:10000748-1840618800-1840622400@www.vancouversaicentre.org
SUMMARY:Open House
DESCRIPTION:
URL:https://www.vancouversaicentre.org/event/open-house-2/2028-04-29/
LOCATION:Sri Sathya Sai Centre of BC\, 2215\, E Pender St\, Vancouver\, BC\, V5L1X5\, Canada
END:VEVENT
BEGIN:VEVENT
DTSTART;TZID=America/Vancouver:20280430T110000
DTEND;TZID=America/Vancouver:20280430T123000
DTSTAMP:20260424T193152
CREATED:20241101T192102Z
LAST-MODIFIED:20241101T192243Z
UID:10001018-1840705200-1840710600@www.vancouversaicentre.org
SUMMARY:SSE Class
DESCRIPTION:
URL:https://www.vancouversaicentre.org/event/sse-class/2028-04-30/
LOCATION:BC
END:VEVENT
END:VCALENDAR