BEGIN:VCALENDAR
VERSION:2.0
PRODID:-//Sri Sathya Sai Community Centre of British Columbia - ECPv6.15.20//NONSGML v1.0//EN
CALSCALE:GREGORIAN
METHOD:PUBLISH
X-ORIGINAL-URL:https://www.vancouversaicentre.org
X-WR-CALDESC:Events for Sri Sathya Sai Community Centre of British Columbia
REFRESH-INTERVAL;VALUE=DURATION:PT1H
X-Robots-Tag:noindex
X-PUBLISHED-TTL:PT1H
BEGIN:VTIMEZONE
TZID:America/Vancouver
BEGIN:DAYLIGHT
TZOFFSETFROM:-0800
TZOFFSETTO:-0700
TZNAME:PDT
DTSTART:20270314T100000
END:DAYLIGHT
BEGIN:STANDARD
TZOFFSETFROM:-0700
TZOFFSETTO:-0800
TZNAME:PST
DTSTART:20271107T090000
END:STANDARD
BEGIN:DAYLIGHT
TZOFFSETFROM:-0800
TZOFFSETTO:-0700
TZNAME:PDT
DTSTART:20280312T100000
END:DAYLIGHT
BEGIN:STANDARD
TZOFFSETFROM:-0700
TZOFFSETTO:-0800
TZNAME:PST
DTSTART:20281105T090000
END:STANDARD
BEGIN:DAYLIGHT
TZOFFSETFROM:-0800
TZOFFSETTO:-0700
TZNAME:PDT
DTSTART:20290311T100000
END:DAYLIGHT
BEGIN:STANDARD
TZOFFSETFROM:-0700
TZOFFSETTO:-0800
TZNAME:PST
DTSTART:20291104T090000
END:STANDARD
END:VTIMEZONE
BEGIN:VEVENT
DTSTART;TZID=America/Vancouver:20280502T200000
DTEND;TZID=America/Vancouver:20280502T210000
DTSTAMP:20260424T210952
CREATED:20250103T184334Z
LAST-MODIFIED:20250103T184334Z
UID:10002233-1840910400-1840914000@www.vancouversaicentre.org
SUMMARY:Collective Reading of Spiritual Literature (Zoom)
DESCRIPTION:
URL:https://www.vancouversaicentre.org/event/collective-reading-of-spiritual-literature-zoom-2/2028-05-02/
LOCATION:BC
END:VEVENT
BEGIN:VEVENT
DTSTART;TZID=America/Vancouver:20280503T190000
DTEND;TZID=America/Vancouver:20280503T200000
DTSTAMP:20260424T210952
CREATED:20241101T193346Z
LAST-MODIFIED:20241101T193346Z
UID:10001285-1840993200-1840996800@www.vancouversaicentre.org
SUMMARY:Self Study Hub (Zoom)
DESCRIPTION:
URL:https://www.vancouversaicentre.org/event/self-study-hub-zoom/2028-05-03/
LOCATION:BC
END:VEVENT
BEGIN:VEVENT
DTSTART;TZID=America/Vancouver:20280504T193000
DTEND;TZID=America/Vancouver:20280504T203000
DTSTAMP:20260424T210952
CREATED:20251224T050706Z
LAST-MODIFIED:20251229T175558Z
UID:10001546-1841081400-1841085000@www.vancouversaicentre.org
SUMMARY:Thursday Bhajan
DESCRIPTION:
URL:https://www.vancouversaicentre.org/event/thursday-bhajan-2-2/2028-05-04/
LOCATION:BC
END:VEVENT
BEGIN:VEVENT
DTSTART;TZID=America/Vancouver:20280506T110000
DTEND;TZID=America/Vancouver:20280506T120000
DTSTAMP:20260424T210952
CREATED:20241101T190143Z
LAST-MODIFIED:20241101T193902Z
UID:10000749-1841223600-1841227200@www.vancouversaicentre.org
SUMMARY:Open House
DESCRIPTION:
URL:https://www.vancouversaicentre.org/event/open-house-2/2028-05-06/
LOCATION:Sri Sathya Sai Centre of BC\, 2215\, E Pender St\, Vancouver\, BC\, V5L1X5\, Canada
END:VEVENT
BEGIN:VEVENT
DTSTART;TZID=America/Vancouver:20280507T110000
DTEND;TZID=America/Vancouver:20280507T123000
DTSTAMP:20260424T210952
CREATED:20241101T192102Z
LAST-MODIFIED:20241101T192243Z
UID:10001019-1841310000-1841315400@www.vancouversaicentre.org
SUMMARY:SSE Class
DESCRIPTION:
URL:https://www.vancouversaicentre.org/event/sse-class/2028-05-07/
LOCATION:BC
END:VEVENT
BEGIN:VEVENT
DTSTART;TZID=America/Vancouver:20280509T200000
DTEND;TZID=America/Vancouver:20280509T210000
DTSTAMP:20260424T210952
CREATED:20250103T184334Z
LAST-MODIFIED:20250103T184334Z
UID:10002234-1841515200-1841518800@www.vancouversaicentre.org
SUMMARY:Collective Reading of Spiritual Literature (Zoom)
DESCRIPTION:
URL:https://www.vancouversaicentre.org/event/collective-reading-of-spiritual-literature-zoom-2/2028-05-09/
LOCATION:BC
END:VEVENT
BEGIN:VEVENT
DTSTART;TZID=America/Vancouver:20280510T190000
DTEND;TZID=America/Vancouver:20280510T200000
DTSTAMP:20260424T210952
CREATED:20241101T193346Z
LAST-MODIFIED:20241101T193346Z
UID:10001286-1841598000-1841601600@www.vancouversaicentre.org
SUMMARY:Self Study Hub (Zoom)
DESCRIPTION:
URL:https://www.vancouversaicentre.org/event/self-study-hub-zoom/2028-05-10/
LOCATION:BC
END:VEVENT
BEGIN:VEVENT
DTSTART;TZID=America/Vancouver:20280511T193000
DTEND;TZID=America/Vancouver:20280511T203000
DTSTAMP:20260424T210952
CREATED:20251224T050706Z
LAST-MODIFIED:20251229T175558Z
UID:10001547-1841686200-1841689800@www.vancouversaicentre.org
SUMMARY:Thursday Bhajan
DESCRIPTION:
URL:https://www.vancouversaicentre.org/event/thursday-bhajan-2-2/2028-05-11/
LOCATION:BC
END:VEVENT
BEGIN:VEVENT
DTSTART;TZID=America/Vancouver:20280513T110000
DTEND;TZID=America/Vancouver:20280513T120000
DTSTAMP:20260424T210952
CREATED:20241101T190143Z
LAST-MODIFIED:20241101T193902Z
UID:10000750-1841828400-1841832000@www.vancouversaicentre.org
SUMMARY:Open House
DESCRIPTION:
URL:https://www.vancouversaicentre.org/event/open-house-2/2028-05-13/
LOCATION:Sri Sathya Sai Centre of BC\, 2215\, E Pender St\, Vancouver\, BC\, V5L1X5\, Canada
END:VEVENT
BEGIN:VEVENT
DTSTART;TZID=America/Vancouver:20280514T110000
DTEND;TZID=America/Vancouver:20280514T123000
DTSTAMP:20260424T210952
CREATED:20241101T192102Z
LAST-MODIFIED:20241101T192243Z
UID:10001020-1841914800-1841920200@www.vancouversaicentre.org
SUMMARY:SSE Class
DESCRIPTION:
URL:https://www.vancouversaicentre.org/event/sse-class/2028-05-14/
LOCATION:BC
END:VEVENT
BEGIN:VEVENT
DTSTART;TZID=America/Vancouver:20280516T200000
DTEND;TZID=America/Vancouver:20280516T210000
DTSTAMP:20260424T210952
CREATED:20250103T184334Z
LAST-MODIFIED:20250103T184334Z
UID:10002235-1842120000-1842123600@www.vancouversaicentre.org
SUMMARY:Collective Reading of Spiritual Literature (Zoom)
DESCRIPTION:
URL:https://www.vancouversaicentre.org/event/collective-reading-of-spiritual-literature-zoom-2/2028-05-16/
LOCATION:BC
END:VEVENT
BEGIN:VEVENT
DTSTART;TZID=America/Vancouver:20280517T190000
DTEND;TZID=America/Vancouver:20280517T200000
DTSTAMP:20260424T210952
CREATED:20241101T193346Z
LAST-MODIFIED:20241101T193346Z
UID:10001287-1842202800-1842206400@www.vancouversaicentre.org
SUMMARY:Self Study Hub (Zoom)
DESCRIPTION:
URL:https://www.vancouversaicentre.org/event/self-study-hub-zoom/2028-05-17/
LOCATION:BC
END:VEVENT
BEGIN:VEVENT
DTSTART;TZID=America/Vancouver:20280518T193000
DTEND;TZID=America/Vancouver:20280518T203000
DTSTAMP:20260424T210952
CREATED:20251224T050706Z
LAST-MODIFIED:20251229T175558Z
UID:10001548-1842291000-1842294600@www.vancouversaicentre.org
SUMMARY:Thursday Bhajan
DESCRIPTION:
URL:https://www.vancouversaicentre.org/event/thursday-bhajan-2-2/2028-05-18/
LOCATION:BC
END:VEVENT
BEGIN:VEVENT
DTSTART;TZID=America/Vancouver:20280520T110000
DTEND;TZID=America/Vancouver:20280520T120000
DTSTAMP:20260424T210952
CREATED:20241101T190143Z
LAST-MODIFIED:20241101T193902Z
UID:10000751-1842433200-1842436800@www.vancouversaicentre.org
SUMMARY:Open House
DESCRIPTION:
URL:https://www.vancouversaicentre.org/event/open-house-2/2028-05-20/
LOCATION:Sri Sathya Sai Centre of BC\, 2215\, E Pender St\, Vancouver\, BC\, V5L1X5\, Canada
END:VEVENT
BEGIN:VEVENT
DTSTART;TZID=America/Vancouver:20280521T110000
DTEND;TZID=America/Vancouver:20280521T123000
DTSTAMP:20260424T210952
CREATED:20241101T192102Z
LAST-MODIFIED:20241101T192243Z
UID:10001021-1842519600-1842525000@www.vancouversaicentre.org
SUMMARY:SSE Class
DESCRIPTION:
URL:https://www.vancouversaicentre.org/event/sse-class/2028-05-21/
LOCATION:BC
END:VEVENT
BEGIN:VEVENT
DTSTART;TZID=America/Vancouver:20280523T200000
DTEND;TZID=America/Vancouver:20280523T210000
DTSTAMP:20260424T210952
CREATED:20250103T184334Z
LAST-MODIFIED:20250103T184334Z
UID:10002236-1842724800-1842728400@www.vancouversaicentre.org
SUMMARY:Collective Reading of Spiritual Literature (Zoom)
DESCRIPTION:
URL:https://www.vancouversaicentre.org/event/collective-reading-of-spiritual-literature-zoom-2/2028-05-23/
LOCATION:BC
END:VEVENT
BEGIN:VEVENT
DTSTART;TZID=America/Vancouver:20280524T190000
DTEND;TZID=America/Vancouver:20280524T200000
DTSTAMP:20260424T210952
CREATED:20241101T193346Z
LAST-MODIFIED:20241101T193346Z
UID:10001288-1842807600-1842811200@www.vancouversaicentre.org
SUMMARY:Self Study Hub (Zoom)
DESCRIPTION:
URL:https://www.vancouversaicentre.org/event/self-study-hub-zoom/2028-05-24/
LOCATION:BC
END:VEVENT
BEGIN:VEVENT
DTSTART;TZID=America/Vancouver:20280525T193000
DTEND;TZID=America/Vancouver:20280525T203000
DTSTAMP:20260424T210952
CREATED:20251224T050706Z
LAST-MODIFIED:20251229T175558Z
UID:10001549-1842895800-1842899400@www.vancouversaicentre.org
SUMMARY:Thursday Bhajan
DESCRIPTION:
URL:https://www.vancouversaicentre.org/event/thursday-bhajan-2-2/2028-05-25/
LOCATION:BC
END:VEVENT
BEGIN:VEVENT
DTSTART;TZID=America/Vancouver:20280527T110000
DTEND;TZID=America/Vancouver:20280527T120000
DTSTAMP:20260424T210952
CREATED:20241101T190143Z
LAST-MODIFIED:20241101T193902Z
UID:10000752-1843038000-1843041600@www.vancouversaicentre.org
SUMMARY:Open House
DESCRIPTION:
URL:https://www.vancouversaicentre.org/event/open-house-2/2028-05-27/
LOCATION:Sri Sathya Sai Centre of BC\, 2215\, E Pender St\, Vancouver\, BC\, V5L1X5\, Canada
END:VEVENT
BEGIN:VEVENT
DTSTART;TZID=America/Vancouver:20280528T110000
DTEND;TZID=America/Vancouver:20280528T123000
DTSTAMP:20260424T210952
CREATED:20241101T192102Z
LAST-MODIFIED:20241101T192243Z
UID:10001022-1843124400-1843129800@www.vancouversaicentre.org
SUMMARY:SSE Class
DESCRIPTION:
URL:https://www.vancouversaicentre.org/event/sse-class/2028-05-28/
LOCATION:BC
END:VEVENT
BEGIN:VEVENT
DTSTART;TZID=America/Vancouver:20280530T200000
DTEND;TZID=America/Vancouver:20280530T210000
DTSTAMP:20260424T210952
CREATED:20250103T184334Z
LAST-MODIFIED:20250103T184334Z
UID:10002237-1843329600-1843333200@www.vancouversaicentre.org
SUMMARY:Collective Reading of Spiritual Literature (Zoom)
DESCRIPTION:
URL:https://www.vancouversaicentre.org/event/collective-reading-of-spiritual-literature-zoom-2/2028-05-30/
LOCATION:BC
END:VEVENT
BEGIN:VEVENT
DTSTART;TZID=America/Vancouver:20280531T190000
DTEND;TZID=America/Vancouver:20280531T200000
DTSTAMP:20260424T210952
CREATED:20241101T193346Z
LAST-MODIFIED:20241101T193346Z
UID:10001289-1843412400-1843416000@www.vancouversaicentre.org
SUMMARY:Self Study Hub (Zoom)
DESCRIPTION:
URL:https://www.vancouversaicentre.org/event/self-study-hub-zoom/2028-05-31/
LOCATION:BC
END:VEVENT
END:VCALENDAR