BEGIN:VCALENDAR
VERSION:2.0
PRODID:-//Sri Sathya Sai Community Centre of British Columbia - ECPv6.15.20//NONSGML v1.0//EN
CALSCALE:GREGORIAN
METHOD:PUBLISH
X-ORIGINAL-URL:https://www.vancouversaicentre.org
X-WR-CALDESC:Events for Sri Sathya Sai Community Centre of British Columbia
REFRESH-INTERVAL;VALUE=DURATION:PT1H
X-Robots-Tag:noindex
X-PUBLISHED-TTL:PT1H
BEGIN:VTIMEZONE
TZID:America/Vancouver
BEGIN:DAYLIGHT
TZOFFSETFROM:-0800
TZOFFSETTO:-0700
TZNAME:PDT
DTSTART:20270314T100000
END:DAYLIGHT
BEGIN:STANDARD
TZOFFSETFROM:-0700
TZOFFSETTO:-0800
TZNAME:PST
DTSTART:20271107T090000
END:STANDARD
BEGIN:DAYLIGHT
TZOFFSETFROM:-0800
TZOFFSETTO:-0700
TZNAME:PDT
DTSTART:20280312T100000
END:DAYLIGHT
BEGIN:STANDARD
TZOFFSETFROM:-0700
TZOFFSETTO:-0800
TZNAME:PST
DTSTART:20281105T090000
END:STANDARD
BEGIN:DAYLIGHT
TZOFFSETFROM:-0800
TZOFFSETTO:-0700
TZNAME:PDT
DTSTART:20290311T100000
END:DAYLIGHT
BEGIN:STANDARD
TZOFFSETFROM:-0700
TZOFFSETTO:-0800
TZNAME:PST
DTSTART:20291104T090000
END:STANDARD
END:VTIMEZONE
BEGIN:VEVENT
DTSTART;TZID=America/Vancouver:20280902T110000
DTEND;TZID=America/Vancouver:20280902T120000
DTSTAMP:20260425T040355
CREATED:20241101T190143Z
LAST-MODIFIED:20241101T193902Z
UID:10000766-1851505200-1851508800@www.vancouversaicentre.org
SUMMARY:Open House
DESCRIPTION:
URL:https://www.vancouversaicentre.org/event/open-house-2/2028-09-02/
LOCATION:Sri Sathya Sai Centre of BC\, 2215\, E Pender St\, Vancouver\, BC\, V5L1X5\, Canada
END:VEVENT
BEGIN:VEVENT
DTSTART;TZID=America/Vancouver:20280903T110000
DTEND;TZID=America/Vancouver:20280903T123000
DTSTAMP:20260425T040355
CREATED:20241101T192102Z
LAST-MODIFIED:20241101T192243Z
UID:10001036-1851591600-1851597000@www.vancouversaicentre.org
SUMMARY:SSE Class
DESCRIPTION:
URL:https://www.vancouversaicentre.org/event/sse-class/2028-09-03/
LOCATION:BC
END:VEVENT
BEGIN:VEVENT
DTSTART;TZID=America/Vancouver:20280905T200000
DTEND;TZID=America/Vancouver:20280905T210000
DTSTAMP:20260425T040355
CREATED:20250103T184334Z
LAST-MODIFIED:20250103T184334Z
UID:10002251-1851796800-1851800400@www.vancouversaicentre.org
SUMMARY:Collective Reading of Spiritual Literature (Zoom)
DESCRIPTION:
URL:https://www.vancouversaicentre.org/event/collective-reading-of-spiritual-literature-zoom-2/2028-09-05/
LOCATION:BC
END:VEVENT
BEGIN:VEVENT
DTSTART;TZID=America/Vancouver:20280906T190000
DTEND;TZID=America/Vancouver:20280906T200000
DTSTAMP:20260425T040355
CREATED:20241101T193346Z
LAST-MODIFIED:20241101T193346Z
UID:10001303-1851879600-1851883200@www.vancouversaicentre.org
SUMMARY:Self Study Hub (Zoom)
DESCRIPTION:
URL:https://www.vancouversaicentre.org/event/self-study-hub-zoom/2028-09-06/
LOCATION:BC
END:VEVENT
BEGIN:VEVENT
DTSTART;TZID=America/Vancouver:20280907T193000
DTEND;TZID=America/Vancouver:20280907T203000
DTSTAMP:20260425T040355
CREATED:20251224T050706Z
LAST-MODIFIED:20251229T175558Z
UID:10001564-1851967800-1851971400@www.vancouversaicentre.org
SUMMARY:Thursday Bhajan
DESCRIPTION:
URL:https://www.vancouversaicentre.org/event/thursday-bhajan-2-2/2028-09-07/
LOCATION:BC
END:VEVENT
BEGIN:VEVENT
DTSTART;TZID=America/Vancouver:20280909T110000
DTEND;TZID=America/Vancouver:20280909T120000
DTSTAMP:20260425T040355
CREATED:20241101T190143Z
LAST-MODIFIED:20241101T193902Z
UID:10000767-1852110000-1852113600@www.vancouversaicentre.org
SUMMARY:Open House
DESCRIPTION:
URL:https://www.vancouversaicentre.org/event/open-house-2/2028-09-09/
LOCATION:Sri Sathya Sai Centre of BC\, 2215\, E Pender St\, Vancouver\, BC\, V5L1X5\, Canada
END:VEVENT
BEGIN:VEVENT
DTSTART;TZID=America/Vancouver:20280910T110000
DTEND;TZID=America/Vancouver:20280910T123000
DTSTAMP:20260425T040355
CREATED:20241101T192102Z
LAST-MODIFIED:20241101T192243Z
UID:10001037-1852196400-1852201800@www.vancouversaicentre.org
SUMMARY:SSE Class
DESCRIPTION:
URL:https://www.vancouversaicentre.org/event/sse-class/2028-09-10/
LOCATION:BC
END:VEVENT
BEGIN:VEVENT
DTSTART;TZID=America/Vancouver:20280912T200000
DTEND;TZID=America/Vancouver:20280912T210000
DTSTAMP:20260425T040355
CREATED:20250103T184334Z
LAST-MODIFIED:20250103T184334Z
UID:10002252-1852401600-1852405200@www.vancouversaicentre.org
SUMMARY:Collective Reading of Spiritual Literature (Zoom)
DESCRIPTION:
URL:https://www.vancouversaicentre.org/event/collective-reading-of-spiritual-literature-zoom-2/2028-09-12/
LOCATION:BC
END:VEVENT
BEGIN:VEVENT
DTSTART;TZID=America/Vancouver:20280913T190000
DTEND;TZID=America/Vancouver:20280913T200000
DTSTAMP:20260425T040355
CREATED:20241101T193346Z
LAST-MODIFIED:20241101T193346Z
UID:10001304-1852484400-1852488000@www.vancouversaicentre.org
SUMMARY:Self Study Hub (Zoom)
DESCRIPTION:
URL:https://www.vancouversaicentre.org/event/self-study-hub-zoom/2028-09-13/
LOCATION:BC
END:VEVENT
BEGIN:VEVENT
DTSTART;TZID=America/Vancouver:20280914T193000
DTEND;TZID=America/Vancouver:20280914T203000
DTSTAMP:20260425T040355
CREATED:20251224T050706Z
LAST-MODIFIED:20251229T175558Z
UID:10001565-1852572600-1852576200@www.vancouversaicentre.org
SUMMARY:Thursday Bhajan
DESCRIPTION:
URL:https://www.vancouversaicentre.org/event/thursday-bhajan-2-2/2028-09-14/
LOCATION:BC
END:VEVENT
BEGIN:VEVENT
DTSTART;TZID=America/Vancouver:20280916T110000
DTEND;TZID=America/Vancouver:20280916T120000
DTSTAMP:20260425T040355
CREATED:20241101T190143Z
LAST-MODIFIED:20241101T193902Z
UID:10000768-1852714800-1852718400@www.vancouversaicentre.org
SUMMARY:Open House
DESCRIPTION:
URL:https://www.vancouversaicentre.org/event/open-house-2/2028-09-16/
LOCATION:Sri Sathya Sai Centre of BC\, 2215\, E Pender St\, Vancouver\, BC\, V5L1X5\, Canada
END:VEVENT
BEGIN:VEVENT
DTSTART;TZID=America/Vancouver:20280917T110000
DTEND;TZID=America/Vancouver:20280917T123000
DTSTAMP:20260425T040355
CREATED:20241101T192102Z
LAST-MODIFIED:20241101T192243Z
UID:10001038-1852801200-1852806600@www.vancouversaicentre.org
SUMMARY:SSE Class
DESCRIPTION:
URL:https://www.vancouversaicentre.org/event/sse-class/2028-09-17/
LOCATION:BC
END:VEVENT
BEGIN:VEVENT
DTSTART;TZID=America/Vancouver:20280919T200000
DTEND;TZID=America/Vancouver:20280919T210000
DTSTAMP:20260425T040355
CREATED:20250103T184334Z
LAST-MODIFIED:20250103T184334Z
UID:10002253-1853006400-1853010000@www.vancouversaicentre.org
SUMMARY:Collective Reading of Spiritual Literature (Zoom)
DESCRIPTION:
URL:https://www.vancouversaicentre.org/event/collective-reading-of-spiritual-literature-zoom-2/2028-09-19/
LOCATION:BC
END:VEVENT
BEGIN:VEVENT
DTSTART;TZID=America/Vancouver:20280920T190000
DTEND;TZID=America/Vancouver:20280920T200000
DTSTAMP:20260425T040355
CREATED:20241101T193346Z
LAST-MODIFIED:20241101T193346Z
UID:10001305-1853089200-1853092800@www.vancouversaicentre.org
SUMMARY:Self Study Hub (Zoom)
DESCRIPTION:
URL:https://www.vancouversaicentre.org/event/self-study-hub-zoom/2028-09-20/
LOCATION:BC
END:VEVENT
BEGIN:VEVENT
DTSTART;TZID=America/Vancouver:20280921T193000
DTEND;TZID=America/Vancouver:20280921T203000
DTSTAMP:20260425T040355
CREATED:20251224T050706Z
LAST-MODIFIED:20251229T175558Z
UID:10001566-1853177400-1853181000@www.vancouversaicentre.org
SUMMARY:Thursday Bhajan
DESCRIPTION:
URL:https://www.vancouversaicentre.org/event/thursday-bhajan-2-2/2028-09-21/
LOCATION:BC
END:VEVENT
BEGIN:VEVENT
DTSTART;TZID=America/Vancouver:20280923T110000
DTEND;TZID=America/Vancouver:20280923T120000
DTSTAMP:20260425T040355
CREATED:20241101T190143Z
LAST-MODIFIED:20241101T193902Z
UID:10000769-1853319600-1853323200@www.vancouversaicentre.org
SUMMARY:Open House
DESCRIPTION:
URL:https://www.vancouversaicentre.org/event/open-house-2/2028-09-23/
LOCATION:Sri Sathya Sai Centre of BC\, 2215\, E Pender St\, Vancouver\, BC\, V5L1X5\, Canada
END:VEVENT
BEGIN:VEVENT
DTSTART;TZID=America/Vancouver:20280924T110000
DTEND;TZID=America/Vancouver:20280924T123000
DTSTAMP:20260425T040355
CREATED:20241101T192102Z
LAST-MODIFIED:20241101T192243Z
UID:10001039-1853406000-1853411400@www.vancouversaicentre.org
SUMMARY:SSE Class
DESCRIPTION:
URL:https://www.vancouversaicentre.org/event/sse-class/2028-09-24/
LOCATION:BC
END:VEVENT
BEGIN:VEVENT
DTSTART;TZID=America/Vancouver:20280926T200000
DTEND;TZID=America/Vancouver:20280926T210000
DTSTAMP:20260425T040355
CREATED:20250103T184334Z
LAST-MODIFIED:20250103T184334Z
UID:10002254-1853611200-1853614800@www.vancouversaicentre.org
SUMMARY:Collective Reading of Spiritual Literature (Zoom)
DESCRIPTION:
URL:https://www.vancouversaicentre.org/event/collective-reading-of-spiritual-literature-zoom-2/2028-09-26/
LOCATION:BC
END:VEVENT
BEGIN:VEVENT
DTSTART;TZID=America/Vancouver:20280927T190000
DTEND;TZID=America/Vancouver:20280927T200000
DTSTAMP:20260425T040355
CREATED:20241101T193346Z
LAST-MODIFIED:20241101T193346Z
UID:10001306-1853694000-1853697600@www.vancouversaicentre.org
SUMMARY:Self Study Hub (Zoom)
DESCRIPTION:
URL:https://www.vancouversaicentre.org/event/self-study-hub-zoom/2028-09-27/
LOCATION:BC
END:VEVENT
BEGIN:VEVENT
DTSTART;TZID=America/Vancouver:20280928T193000
DTEND;TZID=America/Vancouver:20280928T203000
DTSTAMP:20260425T040355
CREATED:20251224T050706Z
LAST-MODIFIED:20251229T175558Z
UID:10001567-1853782200-1853785800@www.vancouversaicentre.org
SUMMARY:Thursday Bhajan
DESCRIPTION:
URL:https://www.vancouversaicentre.org/event/thursday-bhajan-2-2/2028-09-28/
LOCATION:BC
END:VEVENT
BEGIN:VEVENT
DTSTART;TZID=America/Vancouver:20280930T110000
DTEND;TZID=America/Vancouver:20280930T120000
DTSTAMP:20260425T040355
CREATED:20241101T190143Z
LAST-MODIFIED:20241101T193902Z
UID:10000770-1853924400-1853928000@www.vancouversaicentre.org
SUMMARY:Open House
DESCRIPTION:
URL:https://www.vancouversaicentre.org/event/open-house-2/2028-09-30/
LOCATION:Sri Sathya Sai Centre of BC\, 2215\, E Pender St\, Vancouver\, BC\, V5L1X5\, Canada
END:VEVENT
END:VCALENDAR