BEGIN:VCALENDAR
VERSION:2.0
PRODID:-//Sri Sathya Sai Community Centre of British Columbia - ECPv6.15.20//NONSGML v1.0//EN
CALSCALE:GREGORIAN
METHOD:PUBLISH
X-ORIGINAL-URL:https://www.vancouversaicentre.org
X-WR-CALDESC:Events for Sri Sathya Sai Community Centre of British Columbia
REFRESH-INTERVAL;VALUE=DURATION:PT1H
X-Robots-Tag:noindex
X-PUBLISHED-TTL:PT1H
BEGIN:VTIMEZONE
TZID:America/Vancouver
BEGIN:DAYLIGHT
TZOFFSETFROM:-0800
TZOFFSETTO:-0700
TZNAME:PDT
DTSTART:20270314T100000
END:DAYLIGHT
BEGIN:STANDARD
TZOFFSETFROM:-0700
TZOFFSETTO:-0800
TZNAME:PST
DTSTART:20271107T090000
END:STANDARD
BEGIN:DAYLIGHT
TZOFFSETFROM:-0800
TZOFFSETTO:-0700
TZNAME:PDT
DTSTART:20280312T100000
END:DAYLIGHT
BEGIN:STANDARD
TZOFFSETFROM:-0700
TZOFFSETTO:-0800
TZNAME:PST
DTSTART:20281105T090000
END:STANDARD
BEGIN:DAYLIGHT
TZOFFSETFROM:-0800
TZOFFSETTO:-0700
TZNAME:PDT
DTSTART:20290311T100000
END:DAYLIGHT
BEGIN:STANDARD
TZOFFSETFROM:-0700
TZOFFSETTO:-0800
TZNAME:PST
DTSTART:20291104T090000
END:STANDARD
END:VTIMEZONE
BEGIN:VEVENT
DTSTART;TZID=America/Vancouver:20281001T110000
DTEND;TZID=America/Vancouver:20281001T123000
DTSTAMP:20260425T052840
CREATED:20241101T192102Z
LAST-MODIFIED:20241101T192243Z
UID:10001040-1854010800-1854016200@www.vancouversaicentre.org
SUMMARY:SSE Class
DESCRIPTION:
URL:https://www.vancouversaicentre.org/event/sse-class/2028-10-01/
LOCATION:BC
END:VEVENT
BEGIN:VEVENT
DTSTART;TZID=America/Vancouver:20281003T200000
DTEND;TZID=America/Vancouver:20281003T210000
DTSTAMP:20260425T052840
CREATED:20250103T184334Z
LAST-MODIFIED:20250103T184334Z
UID:10002255-1854216000-1854219600@www.vancouversaicentre.org
SUMMARY:Collective Reading of Spiritual Literature (Zoom)
DESCRIPTION:
URL:https://www.vancouversaicentre.org/event/collective-reading-of-spiritual-literature-zoom-2/2028-10-03/
LOCATION:BC
END:VEVENT
BEGIN:VEVENT
DTSTART;TZID=America/Vancouver:20281004T190000
DTEND;TZID=America/Vancouver:20281004T200000
DTSTAMP:20260425T052840
CREATED:20241101T193346Z
LAST-MODIFIED:20241101T193346Z
UID:10001307-1854298800-1854302400@www.vancouversaicentre.org
SUMMARY:Self Study Hub (Zoom)
DESCRIPTION:
URL:https://www.vancouversaicentre.org/event/self-study-hub-zoom/2028-10-04/
LOCATION:BC
END:VEVENT
BEGIN:VEVENT
DTSTART;TZID=America/Vancouver:20281005T193000
DTEND;TZID=America/Vancouver:20281005T203000
DTSTAMP:20260425T052840
CREATED:20251224T050706Z
LAST-MODIFIED:20251229T175558Z
UID:10001568-1854387000-1854390600@www.vancouversaicentre.org
SUMMARY:Thursday Bhajan
DESCRIPTION:
URL:https://www.vancouversaicentre.org/event/thursday-bhajan-2-2/2028-10-05/
LOCATION:BC
END:VEVENT
BEGIN:VEVENT
DTSTART;TZID=America/Vancouver:20281007T110000
DTEND;TZID=America/Vancouver:20281007T120000
DTSTAMP:20260425T052840
CREATED:20241101T190143Z
LAST-MODIFIED:20241101T193902Z
UID:10000771-1854529200-1854532800@www.vancouversaicentre.org
SUMMARY:Open House
DESCRIPTION:
URL:https://www.vancouversaicentre.org/event/open-house-2/2028-10-07/
LOCATION:Sri Sathya Sai Centre of BC\, 2215\, E Pender St\, Vancouver\, BC\, V5L1X5\, Canada
END:VEVENT
BEGIN:VEVENT
DTSTART;TZID=America/Vancouver:20281008T110000
DTEND;TZID=America/Vancouver:20281008T123000
DTSTAMP:20260425T052840
CREATED:20241101T192102Z
LAST-MODIFIED:20241101T192243Z
UID:10001041-1854615600-1854621000@www.vancouversaicentre.org
SUMMARY:SSE Class
DESCRIPTION:
URL:https://www.vancouversaicentre.org/event/sse-class/2028-10-08/
LOCATION:BC
END:VEVENT
BEGIN:VEVENT
DTSTART;TZID=America/Vancouver:20281010T200000
DTEND;TZID=America/Vancouver:20281010T210000
DTSTAMP:20260425T052840
CREATED:20250103T184334Z
LAST-MODIFIED:20250103T184334Z
UID:10002256-1854820800-1854824400@www.vancouversaicentre.org
SUMMARY:Collective Reading of Spiritual Literature (Zoom)
DESCRIPTION:
URL:https://www.vancouversaicentre.org/event/collective-reading-of-spiritual-literature-zoom-2/2028-10-10/
LOCATION:BC
END:VEVENT
BEGIN:VEVENT
DTSTART;TZID=America/Vancouver:20281011T190000
DTEND;TZID=America/Vancouver:20281011T200000
DTSTAMP:20260425T052840
CREATED:20241101T193346Z
LAST-MODIFIED:20241101T193346Z
UID:10001308-1854903600-1854907200@www.vancouversaicentre.org
SUMMARY:Self Study Hub (Zoom)
DESCRIPTION:
URL:https://www.vancouversaicentre.org/event/self-study-hub-zoom/2028-10-11/
LOCATION:BC
END:VEVENT
BEGIN:VEVENT
DTSTART;TZID=America/Vancouver:20281012T193000
DTEND;TZID=America/Vancouver:20281012T203000
DTSTAMP:20260425T052840
CREATED:20251224T050706Z
LAST-MODIFIED:20251229T175558Z
UID:10001569-1854991800-1854995400@www.vancouversaicentre.org
SUMMARY:Thursday Bhajan
DESCRIPTION:
URL:https://www.vancouversaicentre.org/event/thursday-bhajan-2-2/2028-10-12/
LOCATION:BC
END:VEVENT
BEGIN:VEVENT
DTSTART;TZID=America/Vancouver:20281014T110000
DTEND;TZID=America/Vancouver:20281014T120000
DTSTAMP:20260425T052840
CREATED:20241101T190143Z
LAST-MODIFIED:20241101T193902Z
UID:10000772-1855134000-1855137600@www.vancouversaicentre.org
SUMMARY:Open House
DESCRIPTION:
URL:https://www.vancouversaicentre.org/event/open-house-2/2028-10-14/
LOCATION:Sri Sathya Sai Centre of BC\, 2215\, E Pender St\, Vancouver\, BC\, V5L1X5\, Canada
END:VEVENT
BEGIN:VEVENT
DTSTART;TZID=America/Vancouver:20281015T110000
DTEND;TZID=America/Vancouver:20281015T123000
DTSTAMP:20260425T052840
CREATED:20241101T192102Z
LAST-MODIFIED:20241101T192243Z
UID:10001042-1855220400-1855225800@www.vancouversaicentre.org
SUMMARY:SSE Class
DESCRIPTION:
URL:https://www.vancouversaicentre.org/event/sse-class/2028-10-15/
LOCATION:BC
END:VEVENT
BEGIN:VEVENT
DTSTART;TZID=America/Vancouver:20281017T200000
DTEND;TZID=America/Vancouver:20281017T210000
DTSTAMP:20260425T052840
CREATED:20250103T184334Z
LAST-MODIFIED:20250103T184334Z
UID:10002257-1855425600-1855429200@www.vancouversaicentre.org
SUMMARY:Collective Reading of Spiritual Literature (Zoom)
DESCRIPTION:
URL:https://www.vancouversaicentre.org/event/collective-reading-of-spiritual-literature-zoom-2/2028-10-17/
LOCATION:BC
END:VEVENT
BEGIN:VEVENT
DTSTART;TZID=America/Vancouver:20281018T190000
DTEND;TZID=America/Vancouver:20281018T200000
DTSTAMP:20260425T052840
CREATED:20241101T193346Z
LAST-MODIFIED:20241101T193346Z
UID:10001309-1855508400-1855512000@www.vancouversaicentre.org
SUMMARY:Self Study Hub (Zoom)
DESCRIPTION:
URL:https://www.vancouversaicentre.org/event/self-study-hub-zoom/2028-10-18/
LOCATION:BC
END:VEVENT
BEGIN:VEVENT
DTSTART;TZID=America/Vancouver:20281019T193000
DTEND;TZID=America/Vancouver:20281019T203000
DTSTAMP:20260425T052840
CREATED:20251224T050706Z
LAST-MODIFIED:20251229T175558Z
UID:10001570-1855596600-1855600200@www.vancouversaicentre.org
SUMMARY:Thursday Bhajan
DESCRIPTION:
URL:https://www.vancouversaicentre.org/event/thursday-bhajan-2-2/2028-10-19/
LOCATION:BC
END:VEVENT
BEGIN:VEVENT
DTSTART;TZID=America/Vancouver:20281021T110000
DTEND;TZID=America/Vancouver:20281021T120000
DTSTAMP:20260425T052840
CREATED:20241101T190143Z
LAST-MODIFIED:20241101T193902Z
UID:10000773-1855738800-1855742400@www.vancouversaicentre.org
SUMMARY:Open House
DESCRIPTION:
URL:https://www.vancouversaicentre.org/event/open-house-2/2028-10-21/
LOCATION:Sri Sathya Sai Centre of BC\, 2215\, E Pender St\, Vancouver\, BC\, V5L1X5\, Canada
END:VEVENT
BEGIN:VEVENT
DTSTART;TZID=America/Vancouver:20281022T110000
DTEND;TZID=America/Vancouver:20281022T123000
DTSTAMP:20260425T052840
CREATED:20241101T192102Z
LAST-MODIFIED:20241101T192243Z
UID:10001043-1855825200-1855830600@www.vancouversaicentre.org
SUMMARY:SSE Class
DESCRIPTION:
URL:https://www.vancouversaicentre.org/event/sse-class/2028-10-22/
LOCATION:BC
END:VEVENT
BEGIN:VEVENT
DTSTART;TZID=America/Vancouver:20281024T200000
DTEND;TZID=America/Vancouver:20281024T210000
DTSTAMP:20260425T052840
CREATED:20250103T184334Z
LAST-MODIFIED:20250103T184334Z
UID:10002258-1856030400-1856034000@www.vancouversaicentre.org
SUMMARY:Collective Reading of Spiritual Literature (Zoom)
DESCRIPTION:
URL:https://www.vancouversaicentre.org/event/collective-reading-of-spiritual-literature-zoom-2/2028-10-24/
LOCATION:BC
END:VEVENT
BEGIN:VEVENT
DTSTART;TZID=America/Vancouver:20281025T190000
DTEND;TZID=America/Vancouver:20281025T200000
DTSTAMP:20260425T052840
CREATED:20241101T193346Z
LAST-MODIFIED:20241101T193346Z
UID:10001310-1856113200-1856116800@www.vancouversaicentre.org
SUMMARY:Self Study Hub (Zoom)
DESCRIPTION:
URL:https://www.vancouversaicentre.org/event/self-study-hub-zoom/2028-10-25/
LOCATION:BC
END:VEVENT
BEGIN:VEVENT
DTSTART;TZID=America/Vancouver:20281026T193000
DTEND;TZID=America/Vancouver:20281026T203000
DTSTAMP:20260425T052840
CREATED:20251224T050706Z
LAST-MODIFIED:20251229T175558Z
UID:10001571-1856201400-1856205000@www.vancouversaicentre.org
SUMMARY:Thursday Bhajan
DESCRIPTION:
URL:https://www.vancouversaicentre.org/event/thursday-bhajan-2-2/2028-10-26/
LOCATION:BC
END:VEVENT
BEGIN:VEVENT
DTSTART;TZID=America/Vancouver:20281028T110000
DTEND;TZID=America/Vancouver:20281028T120000
DTSTAMP:20260425T052840
CREATED:20241101T190143Z
LAST-MODIFIED:20241101T193902Z
UID:10000774-1856343600-1856347200@www.vancouversaicentre.org
SUMMARY:Open House
DESCRIPTION:
URL:https://www.vancouversaicentre.org/event/open-house-2/2028-10-28/
LOCATION:Sri Sathya Sai Centre of BC\, 2215\, E Pender St\, Vancouver\, BC\, V5L1X5\, Canada
END:VEVENT
BEGIN:VEVENT
DTSTART;TZID=America/Vancouver:20281029T110000
DTEND;TZID=America/Vancouver:20281029T123000
DTSTAMP:20260425T052840
CREATED:20241101T192102Z
LAST-MODIFIED:20241101T192243Z
UID:10001044-1856430000-1856435400@www.vancouversaicentre.org
SUMMARY:SSE Class
DESCRIPTION:
URL:https://www.vancouversaicentre.org/event/sse-class/2028-10-29/
LOCATION:BC
END:VEVENT
BEGIN:VEVENT
DTSTART;TZID=America/Vancouver:20281031T200000
DTEND;TZID=America/Vancouver:20281031T210000
DTSTAMP:20260425T052840
CREATED:20250103T184334Z
LAST-MODIFIED:20250103T184334Z
UID:10002259-1856635200-1856638800@www.vancouversaicentre.org
SUMMARY:Collective Reading of Spiritual Literature (Zoom)
DESCRIPTION:
URL:https://www.vancouversaicentre.org/event/collective-reading-of-spiritual-literature-zoom-2/2028-10-31/
LOCATION:BC
END:VEVENT
END:VCALENDAR