BEGIN:VCALENDAR
VERSION:2.0
PRODID:-//Sri Sathya Sai Community Centre of British Columbia - ECPv6.15.20//NONSGML v1.0//EN
CALSCALE:GREGORIAN
METHOD:PUBLISH
X-WR-CALNAME:Sri Sathya Sai Community Centre of British Columbia
X-ORIGINAL-URL:https://www.vancouversaicentre.org
X-WR-CALDESC:Events for Sri Sathya Sai Community Centre of British Columbia
REFRESH-INTERVAL;VALUE=DURATION:PT1H
X-Robots-Tag:noindex
X-PUBLISHED-TTL:PT1H
BEGIN:VTIMEZONE
TZID:America/Vancouver
BEGIN:DAYLIGHT
TZOFFSETFROM:-0800
TZOFFSETTO:-0700
TZNAME:PDT
DTSTART:20270314T100000
END:DAYLIGHT
BEGIN:STANDARD
TZOFFSETFROM:-0700
TZOFFSETTO:-0800
TZNAME:PST
DTSTART:20271107T090000
END:STANDARD
BEGIN:DAYLIGHT
TZOFFSETFROM:-0800
TZOFFSETTO:-0700
TZNAME:PDT
DTSTART:20280312T100000
END:DAYLIGHT
BEGIN:STANDARD
TZOFFSETFROM:-0700
TZOFFSETTO:-0800
TZNAME:PST
DTSTART:20281105T090000
END:STANDARD
BEGIN:DAYLIGHT
TZOFFSETFROM:-0800
TZOFFSETTO:-0700
TZNAME:PDT
DTSTART:20290311T100000
END:DAYLIGHT
BEGIN:STANDARD
TZOFFSETFROM:-0700
TZOFFSETTO:-0800
TZNAME:PST
DTSTART:20291104T090000
END:STANDARD
END:VTIMEZONE
BEGIN:VEVENT
DTSTART;TZID=America/Vancouver:20281202T110000
DTEND;TZID=America/Vancouver:20281202T120000
DTSTAMP:20260425T085023
CREATED:20241101T190143Z
LAST-MODIFIED:20241101T193902Z
UID:10000779-1859367600-1859371200@www.vancouversaicentre.org
SUMMARY:Open House
DESCRIPTION:
URL:https://www.vancouversaicentre.org/event/open-house-2/2028-12-02/
LOCATION:Sri Sathya Sai Centre of BC\, 2215\, E Pender St\, Vancouver\, BC\, V5L1X5\, Canada
END:VEVENT
BEGIN:VEVENT
DTSTART;TZID=America/Vancouver:20281203T110000
DTEND;TZID=America/Vancouver:20281203T123000
DTSTAMP:20260425T085023
CREATED:20241101T192102Z
LAST-MODIFIED:20241101T192243Z
UID:10001049-1859454000-1859459400@www.vancouversaicentre.org
SUMMARY:SSE Class
DESCRIPTION:
URL:https://www.vancouversaicentre.org/event/sse-class/2028-12-03/
LOCATION:BC
END:VEVENT
BEGIN:VEVENT
DTSTART;TZID=America/Vancouver:20281205T200000
DTEND;TZID=America/Vancouver:20281205T210000
DTSTAMP:20260425T085023
CREATED:20250103T184334Z
LAST-MODIFIED:20250103T184334Z
UID:10002264-1859659200-1859662800@www.vancouversaicentre.org
SUMMARY:Collective Reading of Spiritual Literature (Zoom)
DESCRIPTION:
URL:https://www.vancouversaicentre.org/event/collective-reading-of-spiritual-literature-zoom-2/2028-12-05/
LOCATION:BC
END:VEVENT
BEGIN:VEVENT
DTSTART;TZID=America/Vancouver:20281206T190000
DTEND;TZID=America/Vancouver:20281206T200000
DTSTAMP:20260425T085023
CREATED:20241101T193346Z
LAST-MODIFIED:20241101T193346Z
UID:10001316-1859742000-1859745600@www.vancouversaicentre.org
SUMMARY:Self Study Hub (Zoom)
DESCRIPTION:
URL:https://www.vancouversaicentre.org/event/self-study-hub-zoom/2028-12-06/
LOCATION:BC
END:VEVENT
BEGIN:VEVENT
DTSTART;TZID=America/Vancouver:20281207T193000
DTEND;TZID=America/Vancouver:20281207T203000
DTSTAMP:20260425T085023
CREATED:20251224T050706Z
LAST-MODIFIED:20251229T175558Z
UID:10001577-1859830200-1859833800@www.vancouversaicentre.org
SUMMARY:Thursday Bhajan
DESCRIPTION:
URL:https://www.vancouversaicentre.org/event/thursday-bhajan-2-2/2028-12-07/
LOCATION:BC
END:VEVENT
BEGIN:VEVENT
DTSTART;TZID=America/Vancouver:20281209T110000
DTEND;TZID=America/Vancouver:20281209T120000
DTSTAMP:20260425T085023
CREATED:20241101T190143Z
LAST-MODIFIED:20241101T193902Z
UID:10000780-1859972400-1859976000@www.vancouversaicentre.org
SUMMARY:Open House
DESCRIPTION:
URL:https://www.vancouversaicentre.org/event/open-house-2/2028-12-09/
LOCATION:Sri Sathya Sai Centre of BC\, 2215\, E Pender St\, Vancouver\, BC\, V5L1X5\, Canada
END:VEVENT
BEGIN:VEVENT
DTSTART;TZID=America/Vancouver:20281210T110000
DTEND;TZID=America/Vancouver:20281210T123000
DTSTAMP:20260425T085023
CREATED:20241101T192102Z
LAST-MODIFIED:20241101T192243Z
UID:10001050-1860058800-1860064200@www.vancouversaicentre.org
SUMMARY:SSE Class
DESCRIPTION:
URL:https://www.vancouversaicentre.org/event/sse-class/2028-12-10/
LOCATION:BC
END:VEVENT
BEGIN:VEVENT
DTSTART;TZID=America/Vancouver:20281212T200000
DTEND;TZID=America/Vancouver:20281212T210000
DTSTAMP:20260425T085023
CREATED:20250103T184334Z
LAST-MODIFIED:20250103T184334Z
UID:10002265-1860264000-1860267600@www.vancouversaicentre.org
SUMMARY:Collective Reading of Spiritual Literature (Zoom)
DESCRIPTION:
URL:https://www.vancouversaicentre.org/event/collective-reading-of-spiritual-literature-zoom-2/2028-12-12/
LOCATION:BC
END:VEVENT
BEGIN:VEVENT
DTSTART;TZID=America/Vancouver:20281213T190000
DTEND;TZID=America/Vancouver:20281213T200000
DTSTAMP:20260425T085023
CREATED:20241101T193346Z
LAST-MODIFIED:20241101T193346Z
UID:10001317-1860346800-1860350400@www.vancouversaicentre.org
SUMMARY:Self Study Hub (Zoom)
DESCRIPTION:
URL:https://www.vancouversaicentre.org/event/self-study-hub-zoom/2028-12-13/
LOCATION:BC
END:VEVENT
BEGIN:VEVENT
DTSTART;TZID=America/Vancouver:20281214T193000
DTEND;TZID=America/Vancouver:20281214T203000
DTSTAMP:20260425T085023
CREATED:20251224T050706Z
LAST-MODIFIED:20251229T175558Z
UID:10001578-1860435000-1860438600@www.vancouversaicentre.org
SUMMARY:Thursday Bhajan
DESCRIPTION:
URL:https://www.vancouversaicentre.org/event/thursday-bhajan-2-2/2028-12-14/
LOCATION:BC
END:VEVENT
BEGIN:VEVENT
DTSTART;TZID=America/Vancouver:20281216T110000
DTEND;TZID=America/Vancouver:20281216T120000
DTSTAMP:20260425T085023
CREATED:20241101T190143Z
LAST-MODIFIED:20241101T193902Z
UID:10000781-1860577200-1860580800@www.vancouversaicentre.org
SUMMARY:Open House
DESCRIPTION:
URL:https://www.vancouversaicentre.org/event/open-house-2/2028-12-16/
LOCATION:Sri Sathya Sai Centre of BC\, 2215\, E Pender St\, Vancouver\, BC\, V5L1X5\, Canada
END:VEVENT
BEGIN:VEVENT
DTSTART;TZID=America/Vancouver:20281217T110000
DTEND;TZID=America/Vancouver:20281217T123000
DTSTAMP:20260425T085023
CREATED:20241101T192102Z
LAST-MODIFIED:20241101T192243Z
UID:10001051-1860663600-1860669000@www.vancouversaicentre.org
SUMMARY:SSE Class
DESCRIPTION:
URL:https://www.vancouversaicentre.org/event/sse-class/2028-12-17/
LOCATION:BC
END:VEVENT
BEGIN:VEVENT
DTSTART;TZID=America/Vancouver:20281219T200000
DTEND;TZID=America/Vancouver:20281219T210000
DTSTAMP:20260425T085023
CREATED:20250103T184334Z
LAST-MODIFIED:20250103T184334Z
UID:10002266-1860868800-1860872400@www.vancouversaicentre.org
SUMMARY:Collective Reading of Spiritual Literature (Zoom)
DESCRIPTION:
URL:https://www.vancouversaicentre.org/event/collective-reading-of-spiritual-literature-zoom-2/2028-12-19/
LOCATION:BC
END:VEVENT
BEGIN:VEVENT
DTSTART;TZID=America/Vancouver:20281220T190000
DTEND;TZID=America/Vancouver:20281220T200000
DTSTAMP:20260425T085023
CREATED:20241101T193346Z
LAST-MODIFIED:20241101T193346Z
UID:10001318-1860951600-1860955200@www.vancouversaicentre.org
SUMMARY:Self Study Hub (Zoom)
DESCRIPTION:
URL:https://www.vancouversaicentre.org/event/self-study-hub-zoom/2028-12-20/
LOCATION:BC
END:VEVENT
BEGIN:VEVENT
DTSTART;TZID=America/Vancouver:20281221T193000
DTEND;TZID=America/Vancouver:20281221T203000
DTSTAMP:20260425T085023
CREATED:20251224T050706Z
LAST-MODIFIED:20251229T175558Z
UID:10001579-1861039800-1861043400@www.vancouversaicentre.org
SUMMARY:Thursday Bhajan
DESCRIPTION:
URL:https://www.vancouversaicentre.org/event/thursday-bhajan-2-2/2028-12-21/
LOCATION:BC
END:VEVENT
BEGIN:VEVENT
DTSTART;TZID=America/Vancouver:20281223T110000
DTEND;TZID=America/Vancouver:20281223T120000
DTSTAMP:20260425T085023
CREATED:20241101T190143Z
LAST-MODIFIED:20241101T193902Z
UID:10000782-1861182000-1861185600@www.vancouversaicentre.org
SUMMARY:Open House
DESCRIPTION:
URL:https://www.vancouversaicentre.org/event/open-house-2/2028-12-23/
LOCATION:Sri Sathya Sai Centre of BC\, 2215\, E Pender St\, Vancouver\, BC\, V5L1X5\, Canada
END:VEVENT
BEGIN:VEVENT
DTSTART;TZID=America/Vancouver:20281224T110000
DTEND;TZID=America/Vancouver:20281224T123000
DTSTAMP:20260425T085023
CREATED:20241101T192102Z
LAST-MODIFIED:20241101T192243Z
UID:10001052-1861268400-1861273800@www.vancouversaicentre.org
SUMMARY:SSE Class
DESCRIPTION:
URL:https://www.vancouversaicentre.org/event/sse-class/2028-12-24/
LOCATION:BC
END:VEVENT
BEGIN:VEVENT
DTSTART;TZID=America/Vancouver:20281226T200000
DTEND;TZID=America/Vancouver:20281226T210000
DTSTAMP:20260425T085023
CREATED:20250103T184334Z
LAST-MODIFIED:20250103T184334Z
UID:10002267-1861473600-1861477200@www.vancouversaicentre.org
SUMMARY:Collective Reading of Spiritual Literature (Zoom)
DESCRIPTION:
URL:https://www.vancouversaicentre.org/event/collective-reading-of-spiritual-literature-zoom-2/2028-12-26/
LOCATION:BC
END:VEVENT
BEGIN:VEVENT
DTSTART;TZID=America/Vancouver:20281227T190000
DTEND;TZID=America/Vancouver:20281227T200000
DTSTAMP:20260425T085023
CREATED:20241101T193346Z
LAST-MODIFIED:20241101T193346Z
UID:10001319-1861556400-1861560000@www.vancouversaicentre.org
SUMMARY:Self Study Hub (Zoom)
DESCRIPTION:
URL:https://www.vancouversaicentre.org/event/self-study-hub-zoom/2028-12-27/
LOCATION:BC
END:VEVENT
BEGIN:VEVENT
DTSTART;TZID=America/Vancouver:20281228T193000
DTEND;TZID=America/Vancouver:20281228T203000
DTSTAMP:20260425T085023
CREATED:20251224T050706Z
LAST-MODIFIED:20251229T175558Z
UID:10001580-1861644600-1861648200@www.vancouversaicentre.org
SUMMARY:Thursday Bhajan
DESCRIPTION:
URL:https://www.vancouversaicentre.org/event/thursday-bhajan-2-2/2028-12-28/
LOCATION:BC
END:VEVENT
BEGIN:VEVENT
DTSTART;TZID=America/Vancouver:20281230T110000
DTEND;TZID=America/Vancouver:20281230T120000
DTSTAMP:20260425T085023
CREATED:20241101T190143Z
LAST-MODIFIED:20241101T193902Z
UID:10000783-1861786800-1861790400@www.vancouversaicentre.org
SUMMARY:Open House
DESCRIPTION:
URL:https://www.vancouversaicentre.org/event/open-house-2/2028-12-30/
LOCATION:Sri Sathya Sai Centre of BC\, 2215\, E Pender St\, Vancouver\, BC\, V5L1X5\, Canada
END:VEVENT
BEGIN:VEVENT
DTSTART;TZID=America/Vancouver:20281231T110000
DTEND;TZID=America/Vancouver:20281231T123000
DTSTAMP:20260425T085023
CREATED:20241101T192102Z
LAST-MODIFIED:20241101T192243Z
UID:10001053-1861873200-1861878600@www.vancouversaicentre.org
SUMMARY:SSE Class
DESCRIPTION:
URL:https://www.vancouversaicentre.org/event/sse-class/2028-12-31/
LOCATION:BC
END:VEVENT
END:VCALENDAR