BEGIN:VCALENDAR
VERSION:2.0
PRODID:-//Sri Sathya Sai Community Centre of British Columbia - ECPv6.15.20//NONSGML v1.0//EN
CALSCALE:GREGORIAN
METHOD:PUBLISH
X-WR-CALNAME:Sri Sathya Sai Community Centre of British Columbia
X-ORIGINAL-URL:https://www.vancouversaicentre.org
X-WR-CALDESC:Events for Sri Sathya Sai Community Centre of British Columbia
REFRESH-INTERVAL;VALUE=DURATION:PT1H
X-Robots-Tag:noindex
X-PUBLISHED-TTL:PT1H
BEGIN:VTIMEZONE
TZID:America/Vancouver
BEGIN:DAYLIGHT
TZOFFSETFROM:-0800
TZOFFSETTO:-0700
TZNAME:PDT
DTSTART:20280312T100000
END:DAYLIGHT
BEGIN:STANDARD
TZOFFSETFROM:-0700
TZOFFSETTO:-0800
TZNAME:PST
DTSTART:20281105T090000
END:STANDARD
BEGIN:DAYLIGHT
TZOFFSETFROM:-0800
TZOFFSETTO:-0700
TZNAME:PDT
DTSTART:20290311T100000
END:DAYLIGHT
BEGIN:STANDARD
TZOFFSETFROM:-0700
TZOFFSETTO:-0800
TZNAME:PST
DTSTART:20291104T090000
END:STANDARD
BEGIN:DAYLIGHT
TZOFFSETFROM:-0800
TZOFFSETTO:-0700
TZNAME:PDT
DTSTART:20300310T100000
END:DAYLIGHT
BEGIN:STANDARD
TZOFFSETFROM:-0700
TZOFFSETTO:-0800
TZNAME:PST
DTSTART:20301103T090000
END:STANDARD
END:VTIMEZONE
BEGIN:VEVENT
DTSTART;TZID=America/Vancouver:20290102T200000
DTEND;TZID=America/Vancouver:20290102T210000
DTSTAMP:20260425T101733
CREATED:20250103T184334Z
LAST-MODIFIED:20250103T184334Z
UID:10002268-1862078400-1862082000@www.vancouversaicentre.org
SUMMARY:Collective Reading of Spiritual Literature (Zoom)
DESCRIPTION:
URL:https://www.vancouversaicentre.org/event/collective-reading-of-spiritual-literature-zoom-2/2029-01-02/
LOCATION:BC
END:VEVENT
BEGIN:VEVENT
DTSTART;TZID=America/Vancouver:20290103T190000
DTEND;TZID=America/Vancouver:20290103T200000
DTSTAMP:20260425T101733
CREATED:20241101T193346Z
LAST-MODIFIED:20241101T193346Z
UID:10001320-1862161200-1862164800@www.vancouversaicentre.org
SUMMARY:Self Study Hub (Zoom)
DESCRIPTION:
URL:https://www.vancouversaicentre.org/event/self-study-hub-zoom/2029-01-03/
LOCATION:BC
END:VEVENT
BEGIN:VEVENT
DTSTART;TZID=America/Vancouver:20290104T193000
DTEND;TZID=America/Vancouver:20290104T203000
DTSTAMP:20260425T101733
CREATED:20251224T050706Z
LAST-MODIFIED:20251229T175558Z
UID:10001581-1862249400-1862253000@www.vancouversaicentre.org
SUMMARY:Thursday Bhajan
DESCRIPTION:
URL:https://www.vancouversaicentre.org/event/thursday-bhajan-2-2/2029-01-04/
LOCATION:BC
END:VEVENT
BEGIN:VEVENT
DTSTART;TZID=America/Vancouver:20290106T110000
DTEND;TZID=America/Vancouver:20290106T120000
DTSTAMP:20260425T101733
CREATED:20241101T190143Z
LAST-MODIFIED:20241101T193902Z
UID:10000784-1862391600-1862395200@www.vancouversaicentre.org
SUMMARY:Open House
DESCRIPTION:
URL:https://www.vancouversaicentre.org/event/open-house-2/2029-01-06/
LOCATION:Sri Sathya Sai Centre of BC\, 2215\, E Pender St\, Vancouver\, BC\, V5L1X5\, Canada
END:VEVENT
BEGIN:VEVENT
DTSTART;TZID=America/Vancouver:20290107T110000
DTEND;TZID=America/Vancouver:20290107T123000
DTSTAMP:20260425T101733
CREATED:20241101T192102Z
LAST-MODIFIED:20241101T192243Z
UID:10001054-1862478000-1862483400@www.vancouversaicentre.org
SUMMARY:SSE Class
DESCRIPTION:
URL:https://www.vancouversaicentre.org/event/sse-class/2029-01-07/
LOCATION:BC
END:VEVENT
BEGIN:VEVENT
DTSTART;TZID=America/Vancouver:20290109T200000
DTEND;TZID=America/Vancouver:20290109T210000
DTSTAMP:20260425T101733
CREATED:20250103T184334Z
LAST-MODIFIED:20250103T184334Z
UID:10002269-1862683200-1862686800@www.vancouversaicentre.org
SUMMARY:Collective Reading of Spiritual Literature (Zoom)
DESCRIPTION:
URL:https://www.vancouversaicentre.org/event/collective-reading-of-spiritual-literature-zoom-2/2029-01-09/
LOCATION:BC
END:VEVENT
BEGIN:VEVENT
DTSTART;TZID=America/Vancouver:20290110T190000
DTEND;TZID=America/Vancouver:20290110T200000
DTSTAMP:20260425T101733
CREATED:20241101T193346Z
LAST-MODIFIED:20241101T193346Z
UID:10001321-1862766000-1862769600@www.vancouversaicentre.org
SUMMARY:Self Study Hub (Zoom)
DESCRIPTION:
URL:https://www.vancouversaicentre.org/event/self-study-hub-zoom/2029-01-10/
LOCATION:BC
END:VEVENT
BEGIN:VEVENT
DTSTART;TZID=America/Vancouver:20290111T193000
DTEND;TZID=America/Vancouver:20290111T203000
DTSTAMP:20260425T101733
CREATED:20251224T050706Z
LAST-MODIFIED:20251229T175558Z
UID:10001582-1862854200-1862857800@www.vancouversaicentre.org
SUMMARY:Thursday Bhajan
DESCRIPTION:
URL:https://www.vancouversaicentre.org/event/thursday-bhajan-2-2/2029-01-11/
LOCATION:BC
END:VEVENT
BEGIN:VEVENT
DTSTART;TZID=America/Vancouver:20290113T110000
DTEND;TZID=America/Vancouver:20290113T120000
DTSTAMP:20260425T101733
CREATED:20241101T190143Z
LAST-MODIFIED:20241101T193902Z
UID:10000785-1862996400-1863000000@www.vancouversaicentre.org
SUMMARY:Open House
DESCRIPTION:
URL:https://www.vancouversaicentre.org/event/open-house-2/2029-01-13/
LOCATION:Sri Sathya Sai Centre of BC\, 2215\, E Pender St\, Vancouver\, BC\, V5L1X5\, Canada
END:VEVENT
BEGIN:VEVENT
DTSTART;TZID=America/Vancouver:20290114T110000
DTEND;TZID=America/Vancouver:20290114T123000
DTSTAMP:20260425T101733
CREATED:20241101T192102Z
LAST-MODIFIED:20241101T192243Z
UID:10001055-1863082800-1863088200@www.vancouversaicentre.org
SUMMARY:SSE Class
DESCRIPTION:
URL:https://www.vancouversaicentre.org/event/sse-class/2029-01-14/
LOCATION:BC
END:VEVENT
BEGIN:VEVENT
DTSTART;TZID=America/Vancouver:20290116T200000
DTEND;TZID=America/Vancouver:20290116T210000
DTSTAMP:20260425T101733
CREATED:20250103T184334Z
LAST-MODIFIED:20250103T184334Z
UID:10002270-1863288000-1863291600@www.vancouversaicentre.org
SUMMARY:Collective Reading of Spiritual Literature (Zoom)
DESCRIPTION:
URL:https://www.vancouversaicentre.org/event/collective-reading-of-spiritual-literature-zoom-2/2029-01-16/
LOCATION:BC
END:VEVENT
BEGIN:VEVENT
DTSTART;TZID=America/Vancouver:20290117T190000
DTEND;TZID=America/Vancouver:20290117T200000
DTSTAMP:20260425T101733
CREATED:20241101T193346Z
LAST-MODIFIED:20241101T193346Z
UID:10001322-1863370800-1863374400@www.vancouversaicentre.org
SUMMARY:Self Study Hub (Zoom)
DESCRIPTION:
URL:https://www.vancouversaicentre.org/event/self-study-hub-zoom/2029-01-17/
LOCATION:BC
END:VEVENT
BEGIN:VEVENT
DTSTART;TZID=America/Vancouver:20290118T193000
DTEND;TZID=America/Vancouver:20290118T203000
DTSTAMP:20260425T101733
CREATED:20251224T050706Z
LAST-MODIFIED:20251229T175558Z
UID:10001583-1863459000-1863462600@www.vancouversaicentre.org
SUMMARY:Thursday Bhajan
DESCRIPTION:
URL:https://www.vancouversaicentre.org/event/thursday-bhajan-2-2/2029-01-18/
LOCATION:BC
END:VEVENT
BEGIN:VEVENT
DTSTART;TZID=America/Vancouver:20290120T110000
DTEND;TZID=America/Vancouver:20290120T120000
DTSTAMP:20260425T101733
CREATED:20241101T190143Z
LAST-MODIFIED:20241101T193902Z
UID:10000786-1863601200-1863604800@www.vancouversaicentre.org
SUMMARY:Open House
DESCRIPTION:
URL:https://www.vancouversaicentre.org/event/open-house-2/2029-01-20/
LOCATION:Sri Sathya Sai Centre of BC\, 2215\, E Pender St\, Vancouver\, BC\, V5L1X5\, Canada
END:VEVENT
BEGIN:VEVENT
DTSTART;TZID=America/Vancouver:20290121T110000
DTEND;TZID=America/Vancouver:20290121T123000
DTSTAMP:20260425T101733
CREATED:20241101T192102Z
LAST-MODIFIED:20241101T192243Z
UID:10001056-1863687600-1863693000@www.vancouversaicentre.org
SUMMARY:SSE Class
DESCRIPTION:
URL:https://www.vancouversaicentre.org/event/sse-class/2029-01-21/
LOCATION:BC
END:VEVENT
BEGIN:VEVENT
DTSTART;TZID=America/Vancouver:20290123T200000
DTEND;TZID=America/Vancouver:20290123T210000
DTSTAMP:20260425T101733
CREATED:20250103T184334Z
LAST-MODIFIED:20250103T184334Z
UID:10002271-1863892800-1863896400@www.vancouversaicentre.org
SUMMARY:Collective Reading of Spiritual Literature (Zoom)
DESCRIPTION:
URL:https://www.vancouversaicentre.org/event/collective-reading-of-spiritual-literature-zoom-2/2029-01-23/
LOCATION:BC
END:VEVENT
BEGIN:VEVENT
DTSTART;TZID=America/Vancouver:20290124T190000
DTEND;TZID=America/Vancouver:20290124T200000
DTSTAMP:20260425T101733
CREATED:20241101T193346Z
LAST-MODIFIED:20241101T193346Z
UID:10001323-1863975600-1863979200@www.vancouversaicentre.org
SUMMARY:Self Study Hub (Zoom)
DESCRIPTION:
URL:https://www.vancouversaicentre.org/event/self-study-hub-zoom/2029-01-24/
LOCATION:BC
END:VEVENT
BEGIN:VEVENT
DTSTART;TZID=America/Vancouver:20290125T193000
DTEND;TZID=America/Vancouver:20290125T203000
DTSTAMP:20260425T101733
CREATED:20251224T050706Z
LAST-MODIFIED:20251229T175558Z
UID:10001584-1864063800-1864067400@www.vancouversaicentre.org
SUMMARY:Thursday Bhajan
DESCRIPTION:
URL:https://www.vancouversaicentre.org/event/thursday-bhajan-2-2/2029-01-25/
LOCATION:BC
END:VEVENT
BEGIN:VEVENT
DTSTART;TZID=America/Vancouver:20290127T110000
DTEND;TZID=America/Vancouver:20290127T120000
DTSTAMP:20260425T101733
CREATED:20241101T190143Z
LAST-MODIFIED:20241101T193902Z
UID:10000787-1864206000-1864209600@www.vancouversaicentre.org
SUMMARY:Open House
DESCRIPTION:
URL:https://www.vancouversaicentre.org/event/open-house-2/2029-01-27/
LOCATION:Sri Sathya Sai Centre of BC\, 2215\, E Pender St\, Vancouver\, BC\, V5L1X5\, Canada
END:VEVENT
BEGIN:VEVENT
DTSTART;TZID=America/Vancouver:20290128T110000
DTEND;TZID=America/Vancouver:20290128T123000
DTSTAMP:20260425T101733
CREATED:20241101T192102Z
LAST-MODIFIED:20241101T192243Z
UID:10001057-1864292400-1864297800@www.vancouversaicentre.org
SUMMARY:SSE Class
DESCRIPTION:
URL:https://www.vancouversaicentre.org/event/sse-class/2029-01-28/
LOCATION:BC
END:VEVENT
BEGIN:VEVENT
DTSTART;TZID=America/Vancouver:20290130T200000
DTEND;TZID=America/Vancouver:20290130T210000
DTSTAMP:20260425T101733
CREATED:20250103T184334Z
LAST-MODIFIED:20250103T184334Z
UID:10002272-1864497600-1864501200@www.vancouversaicentre.org
SUMMARY:Collective Reading of Spiritual Literature (Zoom)
DESCRIPTION:
URL:https://www.vancouversaicentre.org/event/collective-reading-of-spiritual-literature-zoom-2/2029-01-30/
LOCATION:BC
END:VEVENT
BEGIN:VEVENT
DTSTART;TZID=America/Vancouver:20290131T190000
DTEND;TZID=America/Vancouver:20290131T200000
DTSTAMP:20260425T101733
CREATED:20241101T193346Z
LAST-MODIFIED:20241101T193346Z
UID:10001324-1864580400-1864584000@www.vancouversaicentre.org
SUMMARY:Self Study Hub (Zoom)
DESCRIPTION:
URL:https://www.vancouversaicentre.org/event/self-study-hub-zoom/2029-01-31/
LOCATION:BC
END:VEVENT
END:VCALENDAR