BEGIN:VCALENDAR
VERSION:2.0
PRODID:-//Sri Sathya Sai Community Centre of British Columbia - ECPv6.15.20//NONSGML v1.0//EN
CALSCALE:GREGORIAN
METHOD:PUBLISH
X-WR-CALNAME:Sri Sathya Sai Community Centre of British Columbia
X-ORIGINAL-URL:https://www.vancouversaicentre.org
X-WR-CALDESC:Events for Sri Sathya Sai Community Centre of British Columbia
REFRESH-INTERVAL;VALUE=DURATION:PT1H
X-Robots-Tag:noindex
X-PUBLISHED-TTL:PT1H
BEGIN:VTIMEZONE
TZID:America/Vancouver
BEGIN:DAYLIGHT
TZOFFSETFROM:-0800
TZOFFSETTO:-0700
TZNAME:PDT
DTSTART:20280312T100000
END:DAYLIGHT
BEGIN:STANDARD
TZOFFSETFROM:-0700
TZOFFSETTO:-0800
TZNAME:PST
DTSTART:20281105T090000
END:STANDARD
BEGIN:DAYLIGHT
TZOFFSETFROM:-0800
TZOFFSETTO:-0700
TZNAME:PDT
DTSTART:20290311T100000
END:DAYLIGHT
BEGIN:STANDARD
TZOFFSETFROM:-0700
TZOFFSETTO:-0800
TZNAME:PST
DTSTART:20291104T090000
END:STANDARD
BEGIN:DAYLIGHT
TZOFFSETFROM:-0800
TZOFFSETTO:-0700
TZNAME:PDT
DTSTART:20300310T100000
END:DAYLIGHT
BEGIN:STANDARD
TZOFFSETFROM:-0700
TZOFFSETTO:-0800
TZNAME:PST
DTSTART:20301103T090000
END:STANDARD
END:VTIMEZONE
BEGIN:VEVENT
DTSTART;TZID=America/Vancouver:20290301T193000
DTEND;TZID=America/Vancouver:20290301T203000
DTSTAMP:20260425T131224
CREATED:20251224T050706Z
LAST-MODIFIED:20251229T175558Z
UID:10001589-1867087800-1867091400@www.vancouversaicentre.org
SUMMARY:Thursday Bhajan
DESCRIPTION:
URL:https://www.vancouversaicentre.org/event/thursday-bhajan-2-2/2029-03-01/
LOCATION:BC
END:VEVENT
BEGIN:VEVENT
DTSTART;TZID=America/Vancouver:20290303T110000
DTEND;TZID=America/Vancouver:20290303T120000
DTSTAMP:20260425T131224
CREATED:20241101T190143Z
LAST-MODIFIED:20241101T193902Z
UID:10000792-1867230000-1867233600@www.vancouversaicentre.org
SUMMARY:Open House
DESCRIPTION:
URL:https://www.vancouversaicentre.org/event/open-house-2/2029-03-03/
LOCATION:Sri Sathya Sai Centre of BC\, 2215\, E Pender St\, Vancouver\, BC\, V5L1X5\, Canada
END:VEVENT
BEGIN:VEVENT
DTSTART;TZID=America/Vancouver:20290304T110000
DTEND;TZID=America/Vancouver:20290304T123000
DTSTAMP:20260425T131224
CREATED:20241101T192102Z
LAST-MODIFIED:20241101T192243Z
UID:10001062-1867316400-1867321800@www.vancouversaicentre.org
SUMMARY:SSE Class
DESCRIPTION:
URL:https://www.vancouversaicentre.org/event/sse-class/2029-03-04/
LOCATION:BC
END:VEVENT
BEGIN:VEVENT
DTSTART;TZID=America/Vancouver:20290306T200000
DTEND;TZID=America/Vancouver:20290306T210000
DTSTAMP:20260425T131224
CREATED:20250103T184334Z
LAST-MODIFIED:20250103T184334Z
UID:10002277-1867521600-1867525200@www.vancouversaicentre.org
SUMMARY:Collective Reading of Spiritual Literature (Zoom)
DESCRIPTION:
URL:https://www.vancouversaicentre.org/event/collective-reading-of-spiritual-literature-zoom-2/2029-03-06/
LOCATION:BC
END:VEVENT
BEGIN:VEVENT
DTSTART;TZID=America/Vancouver:20290307T190000
DTEND;TZID=America/Vancouver:20290307T200000
DTSTAMP:20260425T131224
CREATED:20241101T193346Z
LAST-MODIFIED:20241101T193346Z
UID:10001329-1867604400-1867608000@www.vancouversaicentre.org
SUMMARY:Self Study Hub (Zoom)
DESCRIPTION:
URL:https://www.vancouversaicentre.org/event/self-study-hub-zoom/2029-03-07/
LOCATION:BC
END:VEVENT
BEGIN:VEVENT
DTSTART;TZID=America/Vancouver:20290308T193000
DTEND;TZID=America/Vancouver:20290308T203000
DTSTAMP:20260425T131224
CREATED:20251224T050706Z
LAST-MODIFIED:20251229T175558Z
UID:10001590-1867692600-1867696200@www.vancouversaicentre.org
SUMMARY:Thursday Bhajan
DESCRIPTION:
URL:https://www.vancouversaicentre.org/event/thursday-bhajan-2-2/2029-03-08/
LOCATION:BC
END:VEVENT
BEGIN:VEVENT
DTSTART;TZID=America/Vancouver:20290310T110000
DTEND;TZID=America/Vancouver:20290310T120000
DTSTAMP:20260425T131224
CREATED:20241101T190143Z
LAST-MODIFIED:20241101T193902Z
UID:10000793-1867834800-1867838400@www.vancouversaicentre.org
SUMMARY:Open House
DESCRIPTION:
URL:https://www.vancouversaicentre.org/event/open-house-2/2029-03-10/
LOCATION:Sri Sathya Sai Centre of BC\, 2215\, E Pender St\, Vancouver\, BC\, V5L1X5\, Canada
END:VEVENT
BEGIN:VEVENT
DTSTART;TZID=America/Vancouver:20290311T110000
DTEND;TZID=America/Vancouver:20290311T123000
DTSTAMP:20260425T131224
CREATED:20241101T192102Z
LAST-MODIFIED:20241101T192243Z
UID:10001063-1867921200-1867926600@www.vancouversaicentre.org
SUMMARY:SSE Class
DESCRIPTION:
URL:https://www.vancouversaicentre.org/event/sse-class/2029-03-11/
LOCATION:BC
END:VEVENT
BEGIN:VEVENT
DTSTART;TZID=America/Vancouver:20290313T200000
DTEND;TZID=America/Vancouver:20290313T210000
DTSTAMP:20260425T131224
CREATED:20250103T184334Z
LAST-MODIFIED:20250103T184334Z
UID:10002278-1868126400-1868130000@www.vancouversaicentre.org
SUMMARY:Collective Reading of Spiritual Literature (Zoom)
DESCRIPTION:
URL:https://www.vancouversaicentre.org/event/collective-reading-of-spiritual-literature-zoom-2/2029-03-13/
LOCATION:BC
END:VEVENT
BEGIN:VEVENT
DTSTART;TZID=America/Vancouver:20290314T190000
DTEND;TZID=America/Vancouver:20290314T200000
DTSTAMP:20260425T131224
CREATED:20241101T193346Z
LAST-MODIFIED:20241101T193346Z
UID:10001330-1868209200-1868212800@www.vancouversaicentre.org
SUMMARY:Self Study Hub (Zoom)
DESCRIPTION:
URL:https://www.vancouversaicentre.org/event/self-study-hub-zoom/2029-03-14/
LOCATION:BC
END:VEVENT
BEGIN:VEVENT
DTSTART;TZID=America/Vancouver:20290315T193000
DTEND;TZID=America/Vancouver:20290315T203000
DTSTAMP:20260425T131224
CREATED:20251224T050706Z
LAST-MODIFIED:20251229T175558Z
UID:10001591-1868297400-1868301000@www.vancouversaicentre.org
SUMMARY:Thursday Bhajan
DESCRIPTION:
URL:https://www.vancouversaicentre.org/event/thursday-bhajan-2-2/2029-03-15/
LOCATION:BC
END:VEVENT
BEGIN:VEVENT
DTSTART;TZID=America/Vancouver:20290317T110000
DTEND;TZID=America/Vancouver:20290317T120000
DTSTAMP:20260425T131224
CREATED:20241101T190143Z
LAST-MODIFIED:20241101T193902Z
UID:10000794-1868439600-1868443200@www.vancouversaicentre.org
SUMMARY:Open House
DESCRIPTION:
URL:https://www.vancouversaicentre.org/event/open-house-2/2029-03-17/
LOCATION:Sri Sathya Sai Centre of BC\, 2215\, E Pender St\, Vancouver\, BC\, V5L1X5\, Canada
END:VEVENT
BEGIN:VEVENT
DTSTART;TZID=America/Vancouver:20290318T110000
DTEND;TZID=America/Vancouver:20290318T123000
DTSTAMP:20260425T131224
CREATED:20241101T192102Z
LAST-MODIFIED:20241101T192243Z
UID:10001064-1868526000-1868531400@www.vancouversaicentre.org
SUMMARY:SSE Class
DESCRIPTION:
URL:https://www.vancouversaicentre.org/event/sse-class/2029-03-18/
LOCATION:BC
END:VEVENT
BEGIN:VEVENT
DTSTART;TZID=America/Vancouver:20290320T200000
DTEND;TZID=America/Vancouver:20290320T210000
DTSTAMP:20260425T131224
CREATED:20250103T184334Z
LAST-MODIFIED:20250103T184334Z
UID:10002279-1868731200-1868734800@www.vancouversaicentre.org
SUMMARY:Collective Reading of Spiritual Literature (Zoom)
DESCRIPTION:
URL:https://www.vancouversaicentre.org/event/collective-reading-of-spiritual-literature-zoom-2/2029-03-20/
LOCATION:BC
END:VEVENT
BEGIN:VEVENT
DTSTART;TZID=America/Vancouver:20290321T190000
DTEND;TZID=America/Vancouver:20290321T200000
DTSTAMP:20260425T131224
CREATED:20241101T193346Z
LAST-MODIFIED:20241101T193346Z
UID:10001331-1868814000-1868817600@www.vancouversaicentre.org
SUMMARY:Self Study Hub (Zoom)
DESCRIPTION:
URL:https://www.vancouversaicentre.org/event/self-study-hub-zoom/2029-03-21/
LOCATION:BC
END:VEVENT
BEGIN:VEVENT
DTSTART;TZID=America/Vancouver:20290322T193000
DTEND;TZID=America/Vancouver:20290322T203000
DTSTAMP:20260425T131224
CREATED:20251224T050706Z
LAST-MODIFIED:20251229T175558Z
UID:10001592-1868902200-1868905800@www.vancouversaicentre.org
SUMMARY:Thursday Bhajan
DESCRIPTION:
URL:https://www.vancouversaicentre.org/event/thursday-bhajan-2-2/2029-03-22/
LOCATION:BC
END:VEVENT
BEGIN:VEVENT
DTSTART;TZID=America/Vancouver:20290324T110000
DTEND;TZID=America/Vancouver:20290324T120000
DTSTAMP:20260425T131224
CREATED:20241101T190143Z
LAST-MODIFIED:20241101T193902Z
UID:10000795-1869044400-1869048000@www.vancouversaicentre.org
SUMMARY:Open House
DESCRIPTION:
URL:https://www.vancouversaicentre.org/event/open-house-2/2029-03-24/
LOCATION:Sri Sathya Sai Centre of BC\, 2215\, E Pender St\, Vancouver\, BC\, V5L1X5\, Canada
END:VEVENT
BEGIN:VEVENT
DTSTART;TZID=America/Vancouver:20290325T110000
DTEND;TZID=America/Vancouver:20290325T123000
DTSTAMP:20260425T131224
CREATED:20241101T192102Z
LAST-MODIFIED:20241101T192243Z
UID:10001065-1869130800-1869136200@www.vancouversaicentre.org
SUMMARY:SSE Class
DESCRIPTION:
URL:https://www.vancouversaicentre.org/event/sse-class/2029-03-25/
LOCATION:BC
END:VEVENT
BEGIN:VEVENT
DTSTART;TZID=America/Vancouver:20290327T200000
DTEND;TZID=America/Vancouver:20290327T210000
DTSTAMP:20260425T131224
CREATED:20250103T184334Z
LAST-MODIFIED:20250103T184334Z
UID:10002280-1869336000-1869339600@www.vancouversaicentre.org
SUMMARY:Collective Reading of Spiritual Literature (Zoom)
DESCRIPTION:
URL:https://www.vancouversaicentre.org/event/collective-reading-of-spiritual-literature-zoom-2/2029-03-27/
LOCATION:BC
END:VEVENT
BEGIN:VEVENT
DTSTART;TZID=America/Vancouver:20290328T190000
DTEND;TZID=America/Vancouver:20290328T200000
DTSTAMP:20260425T131224
CREATED:20241101T193346Z
LAST-MODIFIED:20241101T193346Z
UID:10001332-1869418800-1869422400@www.vancouversaicentre.org
SUMMARY:Self Study Hub (Zoom)
DESCRIPTION:
URL:https://www.vancouversaicentre.org/event/self-study-hub-zoom/2029-03-28/
LOCATION:BC
END:VEVENT
BEGIN:VEVENT
DTSTART;TZID=America/Vancouver:20290329T193000
DTEND;TZID=America/Vancouver:20290329T203000
DTSTAMP:20260425T131224
CREATED:20251224T050706Z
LAST-MODIFIED:20251229T175558Z
UID:10001593-1869507000-1869510600@www.vancouversaicentre.org
SUMMARY:Thursday Bhajan
DESCRIPTION:
URL:https://www.vancouversaicentre.org/event/thursday-bhajan-2-2/2029-03-29/
LOCATION:BC
END:VEVENT
BEGIN:VEVENT
DTSTART;TZID=America/Vancouver:20290331T110000
DTEND;TZID=America/Vancouver:20290331T120000
DTSTAMP:20260425T131224
CREATED:20241101T190143Z
LAST-MODIFIED:20241101T193902Z
UID:10000796-1869649200-1869652800@www.vancouversaicentre.org
SUMMARY:Open House
DESCRIPTION:
URL:https://www.vancouversaicentre.org/event/open-house-2/2029-03-31/
LOCATION:Sri Sathya Sai Centre of BC\, 2215\, E Pender St\, Vancouver\, BC\, V5L1X5\, Canada
END:VEVENT
END:VCALENDAR