BEGIN:VCALENDAR
VERSION:2.0
PRODID:-//Sri Sathya Sai Community Centre of British Columbia - ECPv6.15.20//NONSGML v1.0//EN
CALSCALE:GREGORIAN
METHOD:PUBLISH
X-WR-CALNAME:Sri Sathya Sai Community Centre of British Columbia
X-ORIGINAL-URL:https://www.vancouversaicentre.org
X-WR-CALDESC:Events for Sri Sathya Sai Community Centre of British Columbia
REFRESH-INTERVAL;VALUE=DURATION:PT1H
X-Robots-Tag:noindex
X-PUBLISHED-TTL:PT1H
BEGIN:VTIMEZONE
TZID:America/Vancouver
BEGIN:DAYLIGHT
TZOFFSETFROM:-0800
TZOFFSETTO:-0700
TZNAME:PDT
DTSTART:20280312T100000
END:DAYLIGHT
BEGIN:STANDARD
TZOFFSETFROM:-0700
TZOFFSETTO:-0800
TZNAME:PST
DTSTART:20281105T090000
END:STANDARD
BEGIN:DAYLIGHT
TZOFFSETFROM:-0800
TZOFFSETTO:-0700
TZNAME:PDT
DTSTART:20290311T100000
END:DAYLIGHT
BEGIN:STANDARD
TZOFFSETFROM:-0700
TZOFFSETTO:-0800
TZNAME:PST
DTSTART:20291104T090000
END:STANDARD
BEGIN:DAYLIGHT
TZOFFSETFROM:-0800
TZOFFSETTO:-0700
TZNAME:PDT
DTSTART:20300310T100000
END:DAYLIGHT
BEGIN:STANDARD
TZOFFSETFROM:-0700
TZOFFSETTO:-0800
TZNAME:PST
DTSTART:20301103T090000
END:STANDARD
END:VTIMEZONE
BEGIN:VEVENT
DTSTART;TZID=America/Vancouver:20290501T200000
DTEND;TZID=America/Vancouver:20290501T210000
DTSTAMP:20260425T163608
CREATED:20250103T184334Z
LAST-MODIFIED:20250103T184334Z
UID:10002285-1872360000-1872363600@www.vancouversaicentre.org
SUMMARY:Collective Reading of Spiritual Literature (Zoom)
DESCRIPTION:
URL:https://www.vancouversaicentre.org/event/collective-reading-of-spiritual-literature-zoom-2/2029-05-01/
LOCATION:BC
END:VEVENT
BEGIN:VEVENT
DTSTART;TZID=America/Vancouver:20290502T190000
DTEND;TZID=America/Vancouver:20290502T200000
DTSTAMP:20260425T163608
CREATED:20241101T193346Z
LAST-MODIFIED:20241101T193346Z
UID:10001337-1872442800-1872446400@www.vancouversaicentre.org
SUMMARY:Self Study Hub (Zoom)
DESCRIPTION:
URL:https://www.vancouversaicentre.org/event/self-study-hub-zoom/2029-05-02/
LOCATION:BC
END:VEVENT
BEGIN:VEVENT
DTSTART;TZID=America/Vancouver:20290503T193000
DTEND;TZID=America/Vancouver:20290503T203000
DTSTAMP:20260425T163608
CREATED:20251224T050706Z
LAST-MODIFIED:20251229T175558Z
UID:10001598-1872531000-1872534600@www.vancouversaicentre.org
SUMMARY:Thursday Bhajan
DESCRIPTION:
URL:https://www.vancouversaicentre.org/event/thursday-bhajan-2-2/2029-05-03/
LOCATION:BC
END:VEVENT
BEGIN:VEVENT
DTSTART;TZID=America/Vancouver:20290505T110000
DTEND;TZID=America/Vancouver:20290505T120000
DTSTAMP:20260425T163608
CREATED:20241101T190143Z
LAST-MODIFIED:20241101T193902Z
UID:10000801-1872673200-1872676800@www.vancouversaicentre.org
SUMMARY:Open House
DESCRIPTION:
URL:https://www.vancouversaicentre.org/event/open-house-2/2029-05-05/
LOCATION:Sri Sathya Sai Centre of BC\, 2215\, E Pender St\, Vancouver\, BC\, V5L1X5\, Canada
END:VEVENT
BEGIN:VEVENT
DTSTART;TZID=America/Vancouver:20290506T110000
DTEND;TZID=America/Vancouver:20290506T123000
DTSTAMP:20260425T163608
CREATED:20241101T192102Z
LAST-MODIFIED:20241101T192243Z
UID:10001071-1872759600-1872765000@www.vancouversaicentre.org
SUMMARY:SSE Class
DESCRIPTION:
URL:https://www.vancouversaicentre.org/event/sse-class/2029-05-06/
LOCATION:BC
END:VEVENT
BEGIN:VEVENT
DTSTART;TZID=America/Vancouver:20290508T200000
DTEND;TZID=America/Vancouver:20290508T210000
DTSTAMP:20260425T163608
CREATED:20250103T184334Z
LAST-MODIFIED:20250103T184334Z
UID:10002286-1872964800-1872968400@www.vancouversaicentre.org
SUMMARY:Collective Reading of Spiritual Literature (Zoom)
DESCRIPTION:
URL:https://www.vancouversaicentre.org/event/collective-reading-of-spiritual-literature-zoom-2/2029-05-08/
LOCATION:BC
END:VEVENT
BEGIN:VEVENT
DTSTART;TZID=America/Vancouver:20290509T190000
DTEND;TZID=America/Vancouver:20290509T200000
DTSTAMP:20260425T163608
CREATED:20241101T193346Z
LAST-MODIFIED:20241101T193346Z
UID:10001338-1873047600-1873051200@www.vancouversaicentre.org
SUMMARY:Self Study Hub (Zoom)
DESCRIPTION:
URL:https://www.vancouversaicentre.org/event/self-study-hub-zoom/2029-05-09/
LOCATION:BC
END:VEVENT
BEGIN:VEVENT
DTSTART;TZID=America/Vancouver:20290510T193000
DTEND;TZID=America/Vancouver:20290510T203000
DTSTAMP:20260425T163608
CREATED:20251224T050706Z
LAST-MODIFIED:20251229T175558Z
UID:10001599-1873135800-1873139400@www.vancouversaicentre.org
SUMMARY:Thursday Bhajan
DESCRIPTION:
URL:https://www.vancouversaicentre.org/event/thursday-bhajan-2-2/2029-05-10/
LOCATION:BC
END:VEVENT
BEGIN:VEVENT
DTSTART;TZID=America/Vancouver:20290512T110000
DTEND;TZID=America/Vancouver:20290512T120000
DTSTAMP:20260425T163608
CREATED:20241101T190143Z
LAST-MODIFIED:20241101T193902Z
UID:10000802-1873278000-1873281600@www.vancouversaicentre.org
SUMMARY:Open House
DESCRIPTION:
URL:https://www.vancouversaicentre.org/event/open-house-2/2029-05-12/
LOCATION:Sri Sathya Sai Centre of BC\, 2215\, E Pender St\, Vancouver\, BC\, V5L1X5\, Canada
END:VEVENT
BEGIN:VEVENT
DTSTART;TZID=America/Vancouver:20290513T110000
DTEND;TZID=America/Vancouver:20290513T123000
DTSTAMP:20260425T163608
CREATED:20241101T192102Z
LAST-MODIFIED:20241101T192243Z
UID:10001072-1873364400-1873369800@www.vancouversaicentre.org
SUMMARY:SSE Class
DESCRIPTION:
URL:https://www.vancouversaicentre.org/event/sse-class/2029-05-13/
LOCATION:BC
END:VEVENT
BEGIN:VEVENT
DTSTART;TZID=America/Vancouver:20290515T200000
DTEND;TZID=America/Vancouver:20290515T210000
DTSTAMP:20260425T163608
CREATED:20250103T184334Z
LAST-MODIFIED:20250103T184334Z
UID:10002287-1873569600-1873573200@www.vancouversaicentre.org
SUMMARY:Collective Reading of Spiritual Literature (Zoom)
DESCRIPTION:
URL:https://www.vancouversaicentre.org/event/collective-reading-of-spiritual-literature-zoom-2/2029-05-15/
LOCATION:BC
END:VEVENT
BEGIN:VEVENT
DTSTART;TZID=America/Vancouver:20290516T190000
DTEND;TZID=America/Vancouver:20290516T200000
DTSTAMP:20260425T163608
CREATED:20241101T193346Z
LAST-MODIFIED:20241101T193346Z
UID:10001339-1873652400-1873656000@www.vancouversaicentre.org
SUMMARY:Self Study Hub (Zoom)
DESCRIPTION:
URL:https://www.vancouversaicentre.org/event/self-study-hub-zoom/2029-05-16/
LOCATION:BC
END:VEVENT
BEGIN:VEVENT
DTSTART;TZID=America/Vancouver:20290517T193000
DTEND;TZID=America/Vancouver:20290517T203000
DTSTAMP:20260425T163608
CREATED:20251224T050706Z
LAST-MODIFIED:20251229T175558Z
UID:10001600-1873740600-1873744200@www.vancouversaicentre.org
SUMMARY:Thursday Bhajan
DESCRIPTION:
URL:https://www.vancouversaicentre.org/event/thursday-bhajan-2-2/2029-05-17/
LOCATION:BC
END:VEVENT
BEGIN:VEVENT
DTSTART;TZID=America/Vancouver:20290519T110000
DTEND;TZID=America/Vancouver:20290519T120000
DTSTAMP:20260425T163608
CREATED:20241101T190143Z
LAST-MODIFIED:20241101T193902Z
UID:10000803-1873882800-1873886400@www.vancouversaicentre.org
SUMMARY:Open House
DESCRIPTION:
URL:https://www.vancouversaicentre.org/event/open-house-2/2029-05-19/
LOCATION:Sri Sathya Sai Centre of BC\, 2215\, E Pender St\, Vancouver\, BC\, V5L1X5\, Canada
END:VEVENT
BEGIN:VEVENT
DTSTART;TZID=America/Vancouver:20290520T110000
DTEND;TZID=America/Vancouver:20290520T123000
DTSTAMP:20260425T163608
CREATED:20241101T192102Z
LAST-MODIFIED:20241101T192243Z
UID:10001073-1873969200-1873974600@www.vancouversaicentre.org
SUMMARY:SSE Class
DESCRIPTION:
URL:https://www.vancouversaicentre.org/event/sse-class/2029-05-20/
LOCATION:BC
END:VEVENT
BEGIN:VEVENT
DTSTART;TZID=America/Vancouver:20290522T200000
DTEND;TZID=America/Vancouver:20290522T210000
DTSTAMP:20260425T163608
CREATED:20250103T184334Z
LAST-MODIFIED:20250103T184334Z
UID:10002288-1874174400-1874178000@www.vancouversaicentre.org
SUMMARY:Collective Reading of Spiritual Literature (Zoom)
DESCRIPTION:
URL:https://www.vancouversaicentre.org/event/collective-reading-of-spiritual-literature-zoom-2/2029-05-22/
LOCATION:BC
END:VEVENT
BEGIN:VEVENT
DTSTART;TZID=America/Vancouver:20290523T190000
DTEND;TZID=America/Vancouver:20290523T200000
DTSTAMP:20260425T163608
CREATED:20241101T193346Z
LAST-MODIFIED:20241101T193346Z
UID:10001340-1874257200-1874260800@www.vancouversaicentre.org
SUMMARY:Self Study Hub (Zoom)
DESCRIPTION:
URL:https://www.vancouversaicentre.org/event/self-study-hub-zoom/2029-05-23/
LOCATION:BC
END:VEVENT
BEGIN:VEVENT
DTSTART;TZID=America/Vancouver:20290524T193000
DTEND;TZID=America/Vancouver:20290524T203000
DTSTAMP:20260425T163608
CREATED:20251224T050706Z
LAST-MODIFIED:20251229T175558Z
UID:10001601-1874345400-1874349000@www.vancouversaicentre.org
SUMMARY:Thursday Bhajan
DESCRIPTION:
URL:https://www.vancouversaicentre.org/event/thursday-bhajan-2-2/2029-05-24/
LOCATION:BC
END:VEVENT
BEGIN:VEVENT
DTSTART;TZID=America/Vancouver:20290526T110000
DTEND;TZID=America/Vancouver:20290526T120000
DTSTAMP:20260425T163608
CREATED:20241101T190143Z
LAST-MODIFIED:20241101T193902Z
UID:10000804-1874487600-1874491200@www.vancouversaicentre.org
SUMMARY:Open House
DESCRIPTION:
URL:https://www.vancouversaicentre.org/event/open-house-2/2029-05-26/
LOCATION:Sri Sathya Sai Centre of BC\, 2215\, E Pender St\, Vancouver\, BC\, V5L1X5\, Canada
END:VEVENT
BEGIN:VEVENT
DTSTART;TZID=America/Vancouver:20290527T110000
DTEND;TZID=America/Vancouver:20290527T123000
DTSTAMP:20260425T163608
CREATED:20241101T192102Z
LAST-MODIFIED:20241101T192243Z
UID:10001074-1874574000-1874579400@www.vancouversaicentre.org
SUMMARY:SSE Class
DESCRIPTION:
URL:https://www.vancouversaicentre.org/event/sse-class/2029-05-27/
LOCATION:BC
END:VEVENT
BEGIN:VEVENT
DTSTART;TZID=America/Vancouver:20290529T200000
DTEND;TZID=America/Vancouver:20290529T210000
DTSTAMP:20260425T163608
CREATED:20250103T184334Z
LAST-MODIFIED:20250103T184334Z
UID:10002289-1874779200-1874782800@www.vancouversaicentre.org
SUMMARY:Collective Reading of Spiritual Literature (Zoom)
DESCRIPTION:
URL:https://www.vancouversaicentre.org/event/collective-reading-of-spiritual-literature-zoom-2/2029-05-29/
LOCATION:BC
END:VEVENT
BEGIN:VEVENT
DTSTART;TZID=America/Vancouver:20290530T190000
DTEND;TZID=America/Vancouver:20290530T200000
DTSTAMP:20260425T163608
CREATED:20241101T193346Z
LAST-MODIFIED:20241101T193346Z
UID:10001341-1874862000-1874865600@www.vancouversaicentre.org
SUMMARY:Self Study Hub (Zoom)
DESCRIPTION:
URL:https://www.vancouversaicentre.org/event/self-study-hub-zoom/2029-05-30/
LOCATION:BC
END:VEVENT
BEGIN:VEVENT
DTSTART;TZID=America/Vancouver:20290531T193000
DTEND;TZID=America/Vancouver:20290531T203000
DTSTAMP:20260425T163608
CREATED:20251224T050706Z
LAST-MODIFIED:20251229T175558Z
UID:10001602-1874950200-1874953800@www.vancouversaicentre.org
SUMMARY:Thursday Bhajan
DESCRIPTION:
URL:https://www.vancouversaicentre.org/event/thursday-bhajan-2-2/2029-05-31/
LOCATION:BC
END:VEVENT
END:VCALENDAR