BEGIN:VCALENDAR
VERSION:2.0
PRODID:-//Sri Sathya Sai Community Centre of British Columbia - ECPv6.15.20//NONSGML v1.0//EN
CALSCALE:GREGORIAN
METHOD:PUBLISH
X-WR-CALNAME:Sri Sathya Sai Community Centre of British Columbia
X-ORIGINAL-URL:https://www.vancouversaicentre.org
X-WR-CALDESC:Events for Sri Sathya Sai Community Centre of British Columbia
REFRESH-INTERVAL;VALUE=DURATION:PT1H
X-Robots-Tag:noindex
X-PUBLISHED-TTL:PT1H
BEGIN:VTIMEZONE
TZID:America/Vancouver
BEGIN:DAYLIGHT
TZOFFSETFROM:-0800
TZOFFSETTO:-0700
TZNAME:PDT
DTSTART:20280312T100000
END:DAYLIGHT
BEGIN:STANDARD
TZOFFSETFROM:-0700
TZOFFSETTO:-0800
TZNAME:PST
DTSTART:20281105T090000
END:STANDARD
BEGIN:DAYLIGHT
TZOFFSETFROM:-0800
TZOFFSETTO:-0700
TZNAME:PDT
DTSTART:20290311T100000
END:DAYLIGHT
BEGIN:STANDARD
TZOFFSETFROM:-0700
TZOFFSETTO:-0800
TZNAME:PST
DTSTART:20291104T090000
END:STANDARD
BEGIN:DAYLIGHT
TZOFFSETFROM:-0800
TZOFFSETTO:-0700
TZNAME:PDT
DTSTART:20300310T100000
END:DAYLIGHT
BEGIN:STANDARD
TZOFFSETFROM:-0700
TZOFFSETTO:-0800
TZNAME:PST
DTSTART:20301103T090000
END:STANDARD
END:VTIMEZONE
BEGIN:VEVENT
DTSTART;TZID=America/Vancouver:20290701T110000
DTEND;TZID=America/Vancouver:20290701T123000
DTSTAMP:20260425T203540
CREATED:20241101T192102Z
LAST-MODIFIED:20241101T192243Z
UID:10001079-1877598000-1877603400@www.vancouversaicentre.org
SUMMARY:SSE Class
DESCRIPTION:
URL:https://www.vancouversaicentre.org/event/sse-class/2029-07-01/
LOCATION:BC
END:VEVENT
BEGIN:VEVENT
DTSTART;TZID=America/Vancouver:20290703T200000
DTEND;TZID=America/Vancouver:20290703T210000
DTSTAMP:20260425T203540
CREATED:20250103T184334Z
LAST-MODIFIED:20250103T184334Z
UID:10002294-1877803200-1877806800@www.vancouversaicentre.org
SUMMARY:Collective Reading of Spiritual Literature (Zoom)
DESCRIPTION:
URL:https://www.vancouversaicentre.org/event/collective-reading-of-spiritual-literature-zoom-2/2029-07-03/
LOCATION:BC
END:VEVENT
BEGIN:VEVENT
DTSTART;TZID=America/Vancouver:20290704T190000
DTEND;TZID=America/Vancouver:20290704T200000
DTSTAMP:20260425T203540
CREATED:20241101T193346Z
LAST-MODIFIED:20241101T193346Z
UID:10001346-1877886000-1877889600@www.vancouversaicentre.org
SUMMARY:Self Study Hub (Zoom)
DESCRIPTION:
URL:https://www.vancouversaicentre.org/event/self-study-hub-zoom/2029-07-04/
LOCATION:BC
END:VEVENT
BEGIN:VEVENT
DTSTART;TZID=America/Vancouver:20290705T193000
DTEND;TZID=America/Vancouver:20290705T203000
DTSTAMP:20260425T203540
CREATED:20251224T050706Z
LAST-MODIFIED:20251229T175558Z
UID:10001607-1877974200-1877977800@www.vancouversaicentre.org
SUMMARY:Thursday Bhajan
DESCRIPTION:
URL:https://www.vancouversaicentre.org/event/thursday-bhajan-2-2/2029-07-05/
LOCATION:BC
END:VEVENT
BEGIN:VEVENT
DTSTART;TZID=America/Vancouver:20290707T110000
DTEND;TZID=America/Vancouver:20290707T120000
DTSTAMP:20260425T203540
CREATED:20241101T190143Z
LAST-MODIFIED:20241101T193902Z
UID:10000810-1878116400-1878120000@www.vancouversaicentre.org
SUMMARY:Open House
DESCRIPTION:
URL:https://www.vancouversaicentre.org/event/open-house-2/2029-07-07/
LOCATION:Sri Sathya Sai Centre of BC\, 2215\, E Pender St\, Vancouver\, BC\, V5L1X5\, Canada
END:VEVENT
BEGIN:VEVENT
DTSTART;TZID=America/Vancouver:20290708T110000
DTEND;TZID=America/Vancouver:20290708T123000
DTSTAMP:20260425T203540
CREATED:20241101T192102Z
LAST-MODIFIED:20241101T192243Z
UID:10001080-1878202800-1878208200@www.vancouversaicentre.org
SUMMARY:SSE Class
DESCRIPTION:
URL:https://www.vancouversaicentre.org/event/sse-class/2029-07-08/
LOCATION:BC
END:VEVENT
BEGIN:VEVENT
DTSTART;TZID=America/Vancouver:20290710T200000
DTEND;TZID=America/Vancouver:20290710T210000
DTSTAMP:20260425T203540
CREATED:20250103T184334Z
LAST-MODIFIED:20250103T184334Z
UID:10002295-1878408000-1878411600@www.vancouversaicentre.org
SUMMARY:Collective Reading of Spiritual Literature (Zoom)
DESCRIPTION:
URL:https://www.vancouversaicentre.org/event/collective-reading-of-spiritual-literature-zoom-2/2029-07-10/
LOCATION:BC
END:VEVENT
BEGIN:VEVENT
DTSTART;TZID=America/Vancouver:20290711T190000
DTEND;TZID=America/Vancouver:20290711T200000
DTSTAMP:20260425T203540
CREATED:20241101T193346Z
LAST-MODIFIED:20241101T193346Z
UID:10001347-1878490800-1878494400@www.vancouversaicentre.org
SUMMARY:Self Study Hub (Zoom)
DESCRIPTION:
URL:https://www.vancouversaicentre.org/event/self-study-hub-zoom/2029-07-11/
LOCATION:BC
END:VEVENT
BEGIN:VEVENT
DTSTART;TZID=America/Vancouver:20290712T193000
DTEND;TZID=America/Vancouver:20290712T203000
DTSTAMP:20260425T203540
CREATED:20251224T050706Z
LAST-MODIFIED:20251229T175558Z
UID:10001608-1878579000-1878582600@www.vancouversaicentre.org
SUMMARY:Thursday Bhajan
DESCRIPTION:
URL:https://www.vancouversaicentre.org/event/thursday-bhajan-2-2/2029-07-12/
LOCATION:BC
END:VEVENT
BEGIN:VEVENT
DTSTART;TZID=America/Vancouver:20290714T110000
DTEND;TZID=America/Vancouver:20290714T120000
DTSTAMP:20260425T203540
CREATED:20241101T190143Z
LAST-MODIFIED:20241101T193902Z
UID:10000811-1878721200-1878724800@www.vancouversaicentre.org
SUMMARY:Open House
DESCRIPTION:
URL:https://www.vancouversaicentre.org/event/open-house-2/2029-07-14/
LOCATION:Sri Sathya Sai Centre of BC\, 2215\, E Pender St\, Vancouver\, BC\, V5L1X5\, Canada
END:VEVENT
BEGIN:VEVENT
DTSTART;TZID=America/Vancouver:20290715T110000
DTEND;TZID=America/Vancouver:20290715T123000
DTSTAMP:20260425T203540
CREATED:20241101T192102Z
LAST-MODIFIED:20241101T192243Z
UID:10001081-1878807600-1878813000@www.vancouversaicentre.org
SUMMARY:SSE Class
DESCRIPTION:
URL:https://www.vancouversaicentre.org/event/sse-class/2029-07-15/
LOCATION:BC
END:VEVENT
BEGIN:VEVENT
DTSTART;TZID=America/Vancouver:20290717T200000
DTEND;TZID=America/Vancouver:20290717T210000
DTSTAMP:20260425T203540
CREATED:20250103T184334Z
LAST-MODIFIED:20250103T184334Z
UID:10002296-1879012800-1879016400@www.vancouversaicentre.org
SUMMARY:Collective Reading of Spiritual Literature (Zoom)
DESCRIPTION:
URL:https://www.vancouversaicentre.org/event/collective-reading-of-spiritual-literature-zoom-2/2029-07-17/
LOCATION:BC
END:VEVENT
BEGIN:VEVENT
DTSTART;TZID=America/Vancouver:20290718T190000
DTEND;TZID=America/Vancouver:20290718T200000
DTSTAMP:20260425T203540
CREATED:20241101T193346Z
LAST-MODIFIED:20241101T193346Z
UID:10001348-1879095600-1879099200@www.vancouversaicentre.org
SUMMARY:Self Study Hub (Zoom)
DESCRIPTION:
URL:https://www.vancouversaicentre.org/event/self-study-hub-zoom/2029-07-18/
LOCATION:BC
END:VEVENT
BEGIN:VEVENT
DTSTART;TZID=America/Vancouver:20290719T193000
DTEND;TZID=America/Vancouver:20290719T203000
DTSTAMP:20260425T203540
CREATED:20251224T050706Z
LAST-MODIFIED:20251229T175558Z
UID:10001609-1879183800-1879187400@www.vancouversaicentre.org
SUMMARY:Thursday Bhajan
DESCRIPTION:
URL:https://www.vancouversaicentre.org/event/thursday-bhajan-2-2/2029-07-19/
LOCATION:BC
END:VEVENT
BEGIN:VEVENT
DTSTART;TZID=America/Vancouver:20290721T110000
DTEND;TZID=America/Vancouver:20290721T120000
DTSTAMP:20260425T203540
CREATED:20241101T190143Z
LAST-MODIFIED:20241101T193902Z
UID:10000812-1879326000-1879329600@www.vancouversaicentre.org
SUMMARY:Open House
DESCRIPTION:
URL:https://www.vancouversaicentre.org/event/open-house-2/2029-07-21/
LOCATION:Sri Sathya Sai Centre of BC\, 2215\, E Pender St\, Vancouver\, BC\, V5L1X5\, Canada
END:VEVENT
BEGIN:VEVENT
DTSTART;TZID=America/Vancouver:20290722T110000
DTEND;TZID=America/Vancouver:20290722T123000
DTSTAMP:20260425T203540
CREATED:20241101T192102Z
LAST-MODIFIED:20241101T192243Z
UID:10001082-1879412400-1879417800@www.vancouversaicentre.org
SUMMARY:SSE Class
DESCRIPTION:
URL:https://www.vancouversaicentre.org/event/sse-class/2029-07-22/
LOCATION:BC
END:VEVENT
BEGIN:VEVENT
DTSTART;TZID=America/Vancouver:20290724T200000
DTEND;TZID=America/Vancouver:20290724T210000
DTSTAMP:20260425T203540
CREATED:20250103T184334Z
LAST-MODIFIED:20250103T184334Z
UID:10002297-1879617600-1879621200@www.vancouversaicentre.org
SUMMARY:Collective Reading of Spiritual Literature (Zoom)
DESCRIPTION:
URL:https://www.vancouversaicentre.org/event/collective-reading-of-spiritual-literature-zoom-2/2029-07-24/
LOCATION:BC
END:VEVENT
BEGIN:VEVENT
DTSTART;TZID=America/Vancouver:20290725T190000
DTEND;TZID=America/Vancouver:20290725T200000
DTSTAMP:20260425T203540
CREATED:20241101T193346Z
LAST-MODIFIED:20241101T193346Z
UID:10001349-1879700400-1879704000@www.vancouversaicentre.org
SUMMARY:Self Study Hub (Zoom)
DESCRIPTION:
URL:https://www.vancouversaicentre.org/event/self-study-hub-zoom/2029-07-25/
LOCATION:BC
END:VEVENT
BEGIN:VEVENT
DTSTART;TZID=America/Vancouver:20290726T193000
DTEND;TZID=America/Vancouver:20290726T203000
DTSTAMP:20260425T203540
CREATED:20251224T050706Z
LAST-MODIFIED:20251229T175558Z
UID:10001610-1879788600-1879792200@www.vancouversaicentre.org
SUMMARY:Thursday Bhajan
DESCRIPTION:
URL:https://www.vancouversaicentre.org/event/thursday-bhajan-2-2/2029-07-26/
LOCATION:BC
END:VEVENT
BEGIN:VEVENT
DTSTART;TZID=America/Vancouver:20290728T110000
DTEND;TZID=America/Vancouver:20290728T120000
DTSTAMP:20260425T203540
CREATED:20241101T190143Z
LAST-MODIFIED:20241101T193902Z
UID:10000813-1879930800-1879934400@www.vancouversaicentre.org
SUMMARY:Open House
DESCRIPTION:
URL:https://www.vancouversaicentre.org/event/open-house-2/2029-07-28/
LOCATION:Sri Sathya Sai Centre of BC\, 2215\, E Pender St\, Vancouver\, BC\, V5L1X5\, Canada
END:VEVENT
BEGIN:VEVENT
DTSTART;TZID=America/Vancouver:20290729T110000
DTEND;TZID=America/Vancouver:20290729T123000
DTSTAMP:20260425T203540
CREATED:20241101T192102Z
LAST-MODIFIED:20241101T192243Z
UID:10001083-1880017200-1880022600@www.vancouversaicentre.org
SUMMARY:SSE Class
DESCRIPTION:
URL:https://www.vancouversaicentre.org/event/sse-class/2029-07-29/
LOCATION:BC
END:VEVENT
BEGIN:VEVENT
DTSTART;TZID=America/Vancouver:20290731T200000
DTEND;TZID=America/Vancouver:20290731T210000
DTSTAMP:20260425T203540
CREATED:20250103T184334Z
LAST-MODIFIED:20250103T184334Z
UID:10002298-1880222400-1880226000@www.vancouversaicentre.org
SUMMARY:Collective Reading of Spiritual Literature (Zoom)
DESCRIPTION:
URL:https://www.vancouversaicentre.org/event/collective-reading-of-spiritual-literature-zoom-2/2029-07-31/
LOCATION:BC
END:VEVENT
END:VCALENDAR