BEGIN:VCALENDAR
VERSION:2.0
PRODID:-//Sri Sathya Sai Community Centre of British Columbia - ECPv6.15.20//NONSGML v1.0//EN
CALSCALE:GREGORIAN
METHOD:PUBLISH
X-WR-CALNAME:Sri Sathya Sai Community Centre of British Columbia
X-ORIGINAL-URL:https://www.vancouversaicentre.org
X-WR-CALDESC:Events for Sri Sathya Sai Community Centre of British Columbia
REFRESH-INTERVAL;VALUE=DURATION:PT1H
X-Robots-Tag:noindex
X-PUBLISHED-TTL:PT1H
BEGIN:VTIMEZONE
TZID:America/Vancouver
BEGIN:DAYLIGHT
TZOFFSETFROM:-0800
TZOFFSETTO:-0700
TZNAME:PDT
DTSTART:20250309T100000
END:DAYLIGHT
BEGIN:STANDARD
TZOFFSETFROM:-0700
TZOFFSETTO:-0800
TZNAME:PST
DTSTART:20251102T090000
END:STANDARD
BEGIN:DAYLIGHT
TZOFFSETFROM:-0800
TZOFFSETTO:-0700
TZNAME:PDT
DTSTART:20260308T100000
END:DAYLIGHT
BEGIN:STANDARD
TZOFFSETFROM:-0700
TZOFFSETTO:-0800
TZNAME:PST
DTSTART:20261101T090000
END:STANDARD
BEGIN:DAYLIGHT
TZOFFSETFROM:-0800
TZOFFSETTO:-0700
TZNAME:PDT
DTSTART:20270314T100000
END:DAYLIGHT
BEGIN:STANDARD
TZOFFSETFROM:-0700
TZOFFSETTO:-0800
TZNAME:PST
DTSTART:20271107T090000
END:STANDARD
END:VTIMEZONE
BEGIN:VEVENT
DTSTART;TZID=America/Vancouver:20260426T110000
DTEND;TZID=America/Vancouver:20260426T123000
DTSTAMP:20260423T084814
CREATED:20241101T192102Z
LAST-MODIFIED:20241101T192243Z
UID:10000913-1777201200-1777206600@www.vancouversaicentre.org
SUMMARY:SSE Class
DESCRIPTION:
URL:https://www.vancouversaicentre.org/event/sse-class/2026-04-26/
END:VEVENT
BEGIN:VEVENT
DTSTART;TZID=America/Vancouver:20260503T110000
DTEND;TZID=America/Vancouver:20260503T123000
DTSTAMP:20260423T084814
CREATED:20241101T192102Z
LAST-MODIFIED:20241101T192243Z
UID:10000914-1777806000-1777811400@www.vancouversaicentre.org
SUMMARY:SSE Class
DESCRIPTION:
URL:https://www.vancouversaicentre.org/event/sse-class/2026-05-03/
END:VEVENT
BEGIN:VEVENT
DTSTART;TZID=America/Vancouver:20260510T110000
DTEND;TZID=America/Vancouver:20260510T123000
DTSTAMP:20260423T084814
CREATED:20241101T192102Z
LAST-MODIFIED:20241101T192243Z
UID:10000915-1778410800-1778416200@www.vancouversaicentre.org
SUMMARY:SSE Class
DESCRIPTION:
URL:https://www.vancouversaicentre.org/event/sse-class/2026-05-10/
END:VEVENT
BEGIN:VEVENT
DTSTART;TZID=America/Vancouver:20260517T110000
DTEND;TZID=America/Vancouver:20260517T123000
DTSTAMP:20260423T084814
CREATED:20241101T192102Z
LAST-MODIFIED:20241101T192243Z
UID:10000916-1779015600-1779021000@www.vancouversaicentre.org
SUMMARY:SSE Class
DESCRIPTION:
URL:https://www.vancouversaicentre.org/event/sse-class/2026-05-17/
END:VEVENT
BEGIN:VEVENT
DTSTART;TZID=America/Vancouver:20260524T110000
DTEND;TZID=America/Vancouver:20260524T123000
DTSTAMP:20260423T084814
CREATED:20241101T192102Z
LAST-MODIFIED:20241101T192243Z
UID:10000917-1779620400-1779625800@www.vancouversaicentre.org
SUMMARY:SSE Class
DESCRIPTION:
URL:https://www.vancouversaicentre.org/event/sse-class/2026-05-24/
END:VEVENT
BEGIN:VEVENT
DTSTART;TZID=America/Vancouver:20260531T110000
DTEND;TZID=America/Vancouver:20260531T123000
DTSTAMP:20260423T084814
CREATED:20241101T192102Z
LAST-MODIFIED:20241101T192243Z
UID:10000918-1780225200-1780230600@www.vancouversaicentre.org
SUMMARY:SSE Class
DESCRIPTION:
URL:https://www.vancouversaicentre.org/event/sse-class/2026-05-31/
END:VEVENT
BEGIN:VEVENT
DTSTART;TZID=America/Vancouver:20260607T110000
DTEND;TZID=America/Vancouver:20260607T123000
DTSTAMP:20260423T084814
CREATED:20241101T192102Z
LAST-MODIFIED:20241101T192243Z
UID:10000919-1780830000-1780835400@www.vancouversaicentre.org
SUMMARY:SSE Class
DESCRIPTION:
URL:https://www.vancouversaicentre.org/event/sse-class/2026-06-07/
END:VEVENT
BEGIN:VEVENT
DTSTART;TZID=America/Vancouver:20260614T110000
DTEND;TZID=America/Vancouver:20260614T123000
DTSTAMP:20260423T084814
CREATED:20241101T192102Z
LAST-MODIFIED:20241101T192243Z
UID:10000920-1781434800-1781440200@www.vancouversaicentre.org
SUMMARY:SSE Class
DESCRIPTION:
URL:https://www.vancouversaicentre.org/event/sse-class/2026-06-14/
END:VEVENT
BEGIN:VEVENT
DTSTART;TZID=America/Vancouver:20260621T110000
DTEND;TZID=America/Vancouver:20260621T123000
DTSTAMP:20260423T084814
CREATED:20241101T192102Z
LAST-MODIFIED:20241101T192243Z
UID:10000921-1782039600-1782045000@www.vancouversaicentre.org
SUMMARY:SSE Class
DESCRIPTION:
URL:https://www.vancouversaicentre.org/event/sse-class/2026-06-21/
END:VEVENT
BEGIN:VEVENT
DTSTART;TZID=America/Vancouver:20260628T110000
DTEND;TZID=America/Vancouver:20260628T123000
DTSTAMP:20260423T084814
CREATED:20241101T192102Z
LAST-MODIFIED:20241101T192243Z
UID:10000922-1782644400-1782649800@www.vancouversaicentre.org
SUMMARY:SSE Class
DESCRIPTION:
URL:https://www.vancouversaicentre.org/event/sse-class/2026-06-28/
END:VEVENT
BEGIN:VEVENT
DTSTART;TZID=America/Vancouver:20260705T110000
DTEND;TZID=America/Vancouver:20260705T123000
DTSTAMP:20260423T084814
CREATED:20241101T192102Z
LAST-MODIFIED:20241101T192243Z
UID:10000923-1783249200-1783254600@www.vancouversaicentre.org
SUMMARY:SSE Class
DESCRIPTION:
URL:https://www.vancouversaicentre.org/event/sse-class/2026-07-05/
END:VEVENT
BEGIN:VEVENT
DTSTART;TZID=America/Vancouver:20260712T110000
DTEND;TZID=America/Vancouver:20260712T123000
DTSTAMP:20260423T084814
CREATED:20241101T192102Z
LAST-MODIFIED:20241101T192243Z
UID:10000924-1783854000-1783859400@www.vancouversaicentre.org
SUMMARY:SSE Class
DESCRIPTION:
URL:https://www.vancouversaicentre.org/event/sse-class/2026-07-12/
END:VEVENT
BEGIN:VEVENT
DTSTART;TZID=America/Vancouver:20260719T110000
DTEND;TZID=America/Vancouver:20260719T123000
DTSTAMP:20260423T084814
CREATED:20241101T192102Z
LAST-MODIFIED:20241101T192243Z
UID:10000925-1784458800-1784464200@www.vancouversaicentre.org
SUMMARY:SSE Class
DESCRIPTION:
URL:https://www.vancouversaicentre.org/event/sse-class/2026-07-19/
END:VEVENT
BEGIN:VEVENT
DTSTART;TZID=America/Vancouver:20260726T110000
DTEND;TZID=America/Vancouver:20260726T123000
DTSTAMP:20260423T084814
CREATED:20241101T192102Z
LAST-MODIFIED:20241101T192243Z
UID:10000926-1785063600-1785069000@www.vancouversaicentre.org
SUMMARY:SSE Class
DESCRIPTION:
URL:https://www.vancouversaicentre.org/event/sse-class/2026-07-26/
END:VEVENT
BEGIN:VEVENT
DTSTART;TZID=America/Vancouver:20260802T110000
DTEND;TZID=America/Vancouver:20260802T123000
DTSTAMP:20260423T084814
CREATED:20241101T192102Z
LAST-MODIFIED:20241101T192243Z
UID:10000927-1785668400-1785673800@www.vancouversaicentre.org
SUMMARY:SSE Class
DESCRIPTION:
URL:https://www.vancouversaicentre.org/event/sse-class/2026-08-02/
END:VEVENT
BEGIN:VEVENT
DTSTART;TZID=America/Vancouver:20260809T110000
DTEND;TZID=America/Vancouver:20260809T123000
DTSTAMP:20260423T084814
CREATED:20241101T192102Z
LAST-MODIFIED:20241101T192243Z
UID:10000928-1786273200-1786278600@www.vancouversaicentre.org
SUMMARY:SSE Class
DESCRIPTION:
URL:https://www.vancouversaicentre.org/event/sse-class/2026-08-09/
END:VEVENT
BEGIN:VEVENT
DTSTART;TZID=America/Vancouver:20260816T110000
DTEND;TZID=America/Vancouver:20260816T123000
DTSTAMP:20260423T084814
CREATED:20241101T192102Z
LAST-MODIFIED:20241101T192243Z
UID:10000929-1786878000-1786883400@www.vancouversaicentre.org
SUMMARY:SSE Class
DESCRIPTION:
URL:https://www.vancouversaicentre.org/event/sse-class/2026-08-16/
END:VEVENT
BEGIN:VEVENT
DTSTART;TZID=America/Vancouver:20260823T110000
DTEND;TZID=America/Vancouver:20260823T123000
DTSTAMP:20260423T084814
CREATED:20241101T192102Z
LAST-MODIFIED:20241101T192243Z
UID:10000930-1787482800-1787488200@www.vancouversaicentre.org
SUMMARY:SSE Class
DESCRIPTION:
URL:https://www.vancouversaicentre.org/event/sse-class/2026-08-23/
END:VEVENT
BEGIN:VEVENT
DTSTART;TZID=America/Vancouver:20260830T110000
DTEND;TZID=America/Vancouver:20260830T123000
DTSTAMP:20260423T084814
CREATED:20241101T192102Z
LAST-MODIFIED:20241101T192243Z
UID:10000931-1788087600-1788093000@www.vancouversaicentre.org
SUMMARY:SSE Class
DESCRIPTION:
URL:https://www.vancouversaicentre.org/event/sse-class/2026-08-30/
END:VEVENT
BEGIN:VEVENT
DTSTART;TZID=America/Vancouver:20260906T110000
DTEND;TZID=America/Vancouver:20260906T123000
DTSTAMP:20260423T084814
CREATED:20241101T192102Z
LAST-MODIFIED:20241101T192243Z
UID:10000932-1788692400-1788697800@www.vancouversaicentre.org
SUMMARY:SSE Class
DESCRIPTION:
URL:https://www.vancouversaicentre.org/event/sse-class/2026-09-06/
END:VEVENT
BEGIN:VEVENT
DTSTART;TZID=America/Vancouver:20260913T110000
DTEND;TZID=America/Vancouver:20260913T123000
DTSTAMP:20260423T084814
CREATED:20241101T192102Z
LAST-MODIFIED:20241101T192243Z
UID:10000933-1789297200-1789302600@www.vancouversaicentre.org
SUMMARY:SSE Class
DESCRIPTION:
URL:https://www.vancouversaicentre.org/event/sse-class/2026-09-13/
END:VEVENT
BEGIN:VEVENT
DTSTART;TZID=America/Vancouver:20260920T110000
DTEND;TZID=America/Vancouver:20260920T123000
DTSTAMP:20260423T084814
CREATED:20241101T192102Z
LAST-MODIFIED:20241101T192243Z
UID:10000934-1789902000-1789907400@www.vancouversaicentre.org
SUMMARY:SSE Class
DESCRIPTION:
URL:https://www.vancouversaicentre.org/event/sse-class/2026-09-20/
END:VEVENT
BEGIN:VEVENT
DTSTART;TZID=America/Vancouver:20260927T110000
DTEND;TZID=America/Vancouver:20260927T123000
DTSTAMP:20260423T084814
CREATED:20241101T192102Z
LAST-MODIFIED:20241101T192243Z
UID:10000935-1790506800-1790512200@www.vancouversaicentre.org
SUMMARY:SSE Class
DESCRIPTION:
URL:https://www.vancouversaicentre.org/event/sse-class/2026-09-27/
END:VEVENT
BEGIN:VEVENT
DTSTART;TZID=America/Vancouver:20261004T110000
DTEND;TZID=America/Vancouver:20261004T123000
DTSTAMP:20260423T084814
CREATED:20241101T192102Z
LAST-MODIFIED:20241101T192243Z
UID:10000936-1791111600-1791117000@www.vancouversaicentre.org
SUMMARY:SSE Class
DESCRIPTION:
URL:https://www.vancouversaicentre.org/event/sse-class/2026-10-04/
END:VEVENT
BEGIN:VEVENT
DTSTART;TZID=America/Vancouver:20261011T110000
DTEND;TZID=America/Vancouver:20261011T123000
DTSTAMP:20260423T084814
CREATED:20241101T192102Z
LAST-MODIFIED:20241101T192243Z
UID:10000937-1791716400-1791721800@www.vancouversaicentre.org
SUMMARY:SSE Class
DESCRIPTION:
URL:https://www.vancouversaicentre.org/event/sse-class/2026-10-11/
END:VEVENT
BEGIN:VEVENT
DTSTART;TZID=America/Vancouver:20261018T110000
DTEND;TZID=America/Vancouver:20261018T123000
DTSTAMP:20260423T084814
CREATED:20241101T192102Z
LAST-MODIFIED:20241101T192243Z
UID:10000938-1792321200-1792326600@www.vancouversaicentre.org
SUMMARY:SSE Class
DESCRIPTION:
URL:https://www.vancouversaicentre.org/event/sse-class/2026-10-18/
END:VEVENT
BEGIN:VEVENT
DTSTART;TZID=America/Vancouver:20261025T110000
DTEND;TZID=America/Vancouver:20261025T123000
DTSTAMP:20260423T084814
CREATED:20241101T192102Z
LAST-MODIFIED:20241101T192243Z
UID:10000939-1792926000-1792931400@www.vancouversaicentre.org
SUMMARY:SSE Class
DESCRIPTION:
URL:https://www.vancouversaicentre.org/event/sse-class/2026-10-25/
END:VEVENT
BEGIN:VEVENT
DTSTART;TZID=America/Vancouver:20261101T110000
DTEND;TZID=America/Vancouver:20261101T123000
DTSTAMP:20260423T084814
CREATED:20241101T192102Z
LAST-MODIFIED:20241101T192243Z
UID:10000940-1793530800-1793536200@www.vancouversaicentre.org
SUMMARY:SSE Class
DESCRIPTION:
URL:https://www.vancouversaicentre.org/event/sse-class/2026-11-01/
END:VEVENT
BEGIN:VEVENT
DTSTART;TZID=America/Vancouver:20261108T110000
DTEND;TZID=America/Vancouver:20261108T123000
DTSTAMP:20260423T084814
CREATED:20241101T192102Z
LAST-MODIFIED:20241101T192243Z
UID:10000941-1794135600-1794141000@www.vancouversaicentre.org
SUMMARY:SSE Class
DESCRIPTION:
URL:https://www.vancouversaicentre.org/event/sse-class/2026-11-08/
END:VEVENT
BEGIN:VEVENT
DTSTART;TZID=America/Vancouver:20261115T110000
DTEND;TZID=America/Vancouver:20261115T123000
DTSTAMP:20260423T084814
CREATED:20241101T192102Z
LAST-MODIFIED:20241101T192243Z
UID:10000942-1794740400-1794745800@www.vancouversaicentre.org
SUMMARY:SSE Class
DESCRIPTION:
URL:https://www.vancouversaicentre.org/event/sse-class/2026-11-15/
END:VEVENT
END:VCALENDAR