BEGIN:VCALENDAR
VERSION:2.0
PRODID:-//Sri Sathya Sai Community Centre of British Columbia - ECPv6.15.20//NONSGML v1.0//EN
CALSCALE:GREGORIAN
METHOD:PUBLISH
X-WR-CALNAME:Sri Sathya Sai Community Centre of British Columbia
X-ORIGINAL-URL:https://www.vancouversaicentre.org
X-WR-CALDESC:Events for Sri Sathya Sai Community Centre of British Columbia
REFRESH-INTERVAL;VALUE=DURATION:PT1H
X-Robots-Tag:noindex
X-PUBLISHED-TTL:PT1H
BEGIN:VTIMEZONE
TZID:America/Vancouver
BEGIN:DAYLIGHT
TZOFFSETFROM:-0800
TZOFFSETTO:-0700
TZNAME:PDT
DTSTART:20250309T100000
END:DAYLIGHT
BEGIN:STANDARD
TZOFFSETFROM:-0700
TZOFFSETTO:-0800
TZNAME:PST
DTSTART:20251102T090000
END:STANDARD
BEGIN:DAYLIGHT
TZOFFSETFROM:-0800
TZOFFSETTO:-0700
TZNAME:PDT
DTSTART:20260308T100000
END:DAYLIGHT
BEGIN:STANDARD
TZOFFSETFROM:-0700
TZOFFSETTO:-0800
TZNAME:PST
DTSTART:20261101T090000
END:STANDARD
BEGIN:DAYLIGHT
TZOFFSETFROM:-0800
TZOFFSETTO:-0700
TZNAME:PDT
DTSTART:20270314T100000
END:DAYLIGHT
BEGIN:STANDARD
TZOFFSETFROM:-0700
TZOFFSETTO:-0800
TZNAME:PST
DTSTART:20271107T090000
END:STANDARD
END:VTIMEZONE
BEGIN:VEVENT
DTSTART;TZID=America/Vancouver:20260429T190000
DTEND;TZID=America/Vancouver:20260429T200000
DTSTAMP:20260423T070731
CREATED:20241101T193346Z
LAST-MODIFIED:20241101T193346Z
UID:10001180-1777489200-1777492800@www.vancouversaicentre.org
SUMMARY:Self Study Hub (Zoom)
DESCRIPTION:
URL:https://www.vancouversaicentre.org/event/self-study-hub-zoom/2026-04-29/
END:VEVENT
BEGIN:VEVENT
DTSTART;TZID=America/Vancouver:20260506T190000
DTEND;TZID=America/Vancouver:20260506T200000
DTSTAMP:20260423T070731
CREATED:20241101T193346Z
LAST-MODIFIED:20241101T193346Z
UID:10001181-1778094000-1778097600@www.vancouversaicentre.org
SUMMARY:Self Study Hub (Zoom)
DESCRIPTION:
URL:https://www.vancouversaicentre.org/event/self-study-hub-zoom/2026-05-06/
END:VEVENT
BEGIN:VEVENT
DTSTART;TZID=America/Vancouver:20260513T190000
DTEND;TZID=America/Vancouver:20260513T200000
DTSTAMP:20260423T070731
CREATED:20241101T193346Z
LAST-MODIFIED:20241101T193346Z
UID:10001182-1778698800-1778702400@www.vancouversaicentre.org
SUMMARY:Self Study Hub (Zoom)
DESCRIPTION:
URL:https://www.vancouversaicentre.org/event/self-study-hub-zoom/2026-05-13/
END:VEVENT
BEGIN:VEVENT
DTSTART;TZID=America/Vancouver:20260520T190000
DTEND;TZID=America/Vancouver:20260520T200000
DTSTAMP:20260423T070731
CREATED:20241101T193346Z
LAST-MODIFIED:20241101T193346Z
UID:10001183-1779303600-1779307200@www.vancouversaicentre.org
SUMMARY:Self Study Hub (Zoom)
DESCRIPTION:
URL:https://www.vancouversaicentre.org/event/self-study-hub-zoom/2026-05-20/
END:VEVENT
BEGIN:VEVENT
DTSTART;TZID=America/Vancouver:20260527T190000
DTEND;TZID=America/Vancouver:20260527T200000
DTSTAMP:20260423T070731
CREATED:20241101T193346Z
LAST-MODIFIED:20241101T193346Z
UID:10001184-1779908400-1779912000@www.vancouversaicentre.org
SUMMARY:Self Study Hub (Zoom)
DESCRIPTION:
URL:https://www.vancouversaicentre.org/event/self-study-hub-zoom/2026-05-27/
END:VEVENT
BEGIN:VEVENT
DTSTART;TZID=America/Vancouver:20260603T190000
DTEND;TZID=America/Vancouver:20260603T200000
DTSTAMP:20260423T070731
CREATED:20241101T193346Z
LAST-MODIFIED:20241101T193346Z
UID:10001185-1780513200-1780516800@www.vancouversaicentre.org
SUMMARY:Self Study Hub (Zoom)
DESCRIPTION:
URL:https://www.vancouversaicentre.org/event/self-study-hub-zoom/2026-06-03/
END:VEVENT
BEGIN:VEVENT
DTSTART;TZID=America/Vancouver:20260610T190000
DTEND;TZID=America/Vancouver:20260610T200000
DTSTAMP:20260423T070731
CREATED:20241101T193346Z
LAST-MODIFIED:20241101T193346Z
UID:10001186-1781118000-1781121600@www.vancouversaicentre.org
SUMMARY:Self Study Hub (Zoom)
DESCRIPTION:
URL:https://www.vancouversaicentre.org/event/self-study-hub-zoom/2026-06-10/
END:VEVENT
BEGIN:VEVENT
DTSTART;TZID=America/Vancouver:20260617T190000
DTEND;TZID=America/Vancouver:20260617T200000
DTSTAMP:20260423T070731
CREATED:20241101T193346Z
LAST-MODIFIED:20241101T193346Z
UID:10001187-1781722800-1781726400@www.vancouversaicentre.org
SUMMARY:Self Study Hub (Zoom)
DESCRIPTION:
URL:https://www.vancouversaicentre.org/event/self-study-hub-zoom/2026-06-17/
END:VEVENT
BEGIN:VEVENT
DTSTART;TZID=America/Vancouver:20260624T190000
DTEND;TZID=America/Vancouver:20260624T200000
DTSTAMP:20260423T070731
CREATED:20241101T193346Z
LAST-MODIFIED:20241101T193346Z
UID:10001188-1782327600-1782331200@www.vancouversaicentre.org
SUMMARY:Self Study Hub (Zoom)
DESCRIPTION:
URL:https://www.vancouversaicentre.org/event/self-study-hub-zoom/2026-06-24/
END:VEVENT
BEGIN:VEVENT
DTSTART;TZID=America/Vancouver:20260701T190000
DTEND;TZID=America/Vancouver:20260701T200000
DTSTAMP:20260423T070731
CREATED:20241101T193346Z
LAST-MODIFIED:20241101T193346Z
UID:10001189-1782932400-1782936000@www.vancouversaicentre.org
SUMMARY:Self Study Hub (Zoom)
DESCRIPTION:
URL:https://www.vancouversaicentre.org/event/self-study-hub-zoom/2026-07-01/
END:VEVENT
BEGIN:VEVENT
DTSTART;TZID=America/Vancouver:20260708T190000
DTEND;TZID=America/Vancouver:20260708T200000
DTSTAMP:20260423T070731
CREATED:20241101T193346Z
LAST-MODIFIED:20241101T193346Z
UID:10001190-1783537200-1783540800@www.vancouversaicentre.org
SUMMARY:Self Study Hub (Zoom)
DESCRIPTION:
URL:https://www.vancouversaicentre.org/event/self-study-hub-zoom/2026-07-08/
END:VEVENT
BEGIN:VEVENT
DTSTART;TZID=America/Vancouver:20260715T190000
DTEND;TZID=America/Vancouver:20260715T200000
DTSTAMP:20260423T070731
CREATED:20241101T193346Z
LAST-MODIFIED:20241101T193346Z
UID:10001191-1784142000-1784145600@www.vancouversaicentre.org
SUMMARY:Self Study Hub (Zoom)
DESCRIPTION:
URL:https://www.vancouversaicentre.org/event/self-study-hub-zoom/2026-07-15/
END:VEVENT
BEGIN:VEVENT
DTSTART;TZID=America/Vancouver:20260722T190000
DTEND;TZID=America/Vancouver:20260722T200000
DTSTAMP:20260423T070731
CREATED:20241101T193346Z
LAST-MODIFIED:20241101T193346Z
UID:10001192-1784746800-1784750400@www.vancouversaicentre.org
SUMMARY:Self Study Hub (Zoom)
DESCRIPTION:
URL:https://www.vancouversaicentre.org/event/self-study-hub-zoom/2026-07-22/
END:VEVENT
BEGIN:VEVENT
DTSTART;TZID=America/Vancouver:20260729T190000
DTEND;TZID=America/Vancouver:20260729T200000
DTSTAMP:20260423T070731
CREATED:20241101T193346Z
LAST-MODIFIED:20241101T193346Z
UID:10001193-1785351600-1785355200@www.vancouversaicentre.org
SUMMARY:Self Study Hub (Zoom)
DESCRIPTION:
URL:https://www.vancouversaicentre.org/event/self-study-hub-zoom/2026-07-29/
END:VEVENT
BEGIN:VEVENT
DTSTART;TZID=America/Vancouver:20260805T190000
DTEND;TZID=America/Vancouver:20260805T200000
DTSTAMP:20260423T070731
CREATED:20241101T193346Z
LAST-MODIFIED:20241101T193346Z
UID:10001194-1785956400-1785960000@www.vancouversaicentre.org
SUMMARY:Self Study Hub (Zoom)
DESCRIPTION:
URL:https://www.vancouversaicentre.org/event/self-study-hub-zoom/2026-08-05/
END:VEVENT
BEGIN:VEVENT
DTSTART;TZID=America/Vancouver:20260812T190000
DTEND;TZID=America/Vancouver:20260812T200000
DTSTAMP:20260423T070731
CREATED:20241101T193346Z
LAST-MODIFIED:20241101T193346Z
UID:10001195-1786561200-1786564800@www.vancouversaicentre.org
SUMMARY:Self Study Hub (Zoom)
DESCRIPTION:
URL:https://www.vancouversaicentre.org/event/self-study-hub-zoom/2026-08-12/
END:VEVENT
BEGIN:VEVENT
DTSTART;TZID=America/Vancouver:20260819T190000
DTEND;TZID=America/Vancouver:20260819T200000
DTSTAMP:20260423T070731
CREATED:20241101T193346Z
LAST-MODIFIED:20241101T193346Z
UID:10001196-1787166000-1787169600@www.vancouversaicentre.org
SUMMARY:Self Study Hub (Zoom)
DESCRIPTION:
URL:https://www.vancouversaicentre.org/event/self-study-hub-zoom/2026-08-19/
END:VEVENT
BEGIN:VEVENT
DTSTART;TZID=America/Vancouver:20260826T190000
DTEND;TZID=America/Vancouver:20260826T200000
DTSTAMP:20260423T070731
CREATED:20241101T193346Z
LAST-MODIFIED:20241101T193346Z
UID:10001197-1787770800-1787774400@www.vancouversaicentre.org
SUMMARY:Self Study Hub (Zoom)
DESCRIPTION:
URL:https://www.vancouversaicentre.org/event/self-study-hub-zoom/2026-08-26/
END:VEVENT
BEGIN:VEVENT
DTSTART;TZID=America/Vancouver:20260902T190000
DTEND;TZID=America/Vancouver:20260902T200000
DTSTAMP:20260423T070731
CREATED:20241101T193346Z
LAST-MODIFIED:20241101T193346Z
UID:10001198-1788375600-1788379200@www.vancouversaicentre.org
SUMMARY:Self Study Hub (Zoom)
DESCRIPTION:
URL:https://www.vancouversaicentre.org/event/self-study-hub-zoom/2026-09-02/
END:VEVENT
BEGIN:VEVENT
DTSTART;TZID=America/Vancouver:20260909T190000
DTEND;TZID=America/Vancouver:20260909T200000
DTSTAMP:20260423T070731
CREATED:20241101T193346Z
LAST-MODIFIED:20241101T193346Z
UID:10001199-1788980400-1788984000@www.vancouversaicentre.org
SUMMARY:Self Study Hub (Zoom)
DESCRIPTION:
URL:https://www.vancouversaicentre.org/event/self-study-hub-zoom/2026-09-09/
END:VEVENT
BEGIN:VEVENT
DTSTART;TZID=America/Vancouver:20260916T190000
DTEND;TZID=America/Vancouver:20260916T200000
DTSTAMP:20260423T070731
CREATED:20241101T193346Z
LAST-MODIFIED:20241101T193346Z
UID:10001200-1789585200-1789588800@www.vancouversaicentre.org
SUMMARY:Self Study Hub (Zoom)
DESCRIPTION:
URL:https://www.vancouversaicentre.org/event/self-study-hub-zoom/2026-09-16/
END:VEVENT
BEGIN:VEVENT
DTSTART;TZID=America/Vancouver:20260923T190000
DTEND;TZID=America/Vancouver:20260923T200000
DTSTAMP:20260423T070731
CREATED:20241101T193346Z
LAST-MODIFIED:20241101T193346Z
UID:10001201-1790190000-1790193600@www.vancouversaicentre.org
SUMMARY:Self Study Hub (Zoom)
DESCRIPTION:
URL:https://www.vancouversaicentre.org/event/self-study-hub-zoom/2026-09-23/
END:VEVENT
BEGIN:VEVENT
DTSTART;TZID=America/Vancouver:20260930T190000
DTEND;TZID=America/Vancouver:20260930T200000
DTSTAMP:20260423T070731
CREATED:20241101T193346Z
LAST-MODIFIED:20241101T193346Z
UID:10001202-1790794800-1790798400@www.vancouversaicentre.org
SUMMARY:Self Study Hub (Zoom)
DESCRIPTION:
URL:https://www.vancouversaicentre.org/event/self-study-hub-zoom/2026-09-30/
END:VEVENT
BEGIN:VEVENT
DTSTART;TZID=America/Vancouver:20261007T190000
DTEND;TZID=America/Vancouver:20261007T200000
DTSTAMP:20260423T070731
CREATED:20241101T193346Z
LAST-MODIFIED:20241101T193346Z
UID:10001203-1791399600-1791403200@www.vancouversaicentre.org
SUMMARY:Self Study Hub (Zoom)
DESCRIPTION:
URL:https://www.vancouversaicentre.org/event/self-study-hub-zoom/2026-10-07/
END:VEVENT
BEGIN:VEVENT
DTSTART;TZID=America/Vancouver:20261014T190000
DTEND;TZID=America/Vancouver:20261014T200000
DTSTAMP:20260423T070731
CREATED:20241101T193346Z
LAST-MODIFIED:20241101T193346Z
UID:10001204-1792004400-1792008000@www.vancouversaicentre.org
SUMMARY:Self Study Hub (Zoom)
DESCRIPTION:
URL:https://www.vancouversaicentre.org/event/self-study-hub-zoom/2026-10-14/
END:VEVENT
BEGIN:VEVENT
DTSTART;TZID=America/Vancouver:20261021T190000
DTEND;TZID=America/Vancouver:20261021T200000
DTSTAMP:20260423T070731
CREATED:20241101T193346Z
LAST-MODIFIED:20241101T193346Z
UID:10001205-1792609200-1792612800@www.vancouversaicentre.org
SUMMARY:Self Study Hub (Zoom)
DESCRIPTION:
URL:https://www.vancouversaicentre.org/event/self-study-hub-zoom/2026-10-21/
END:VEVENT
BEGIN:VEVENT
DTSTART;TZID=America/Vancouver:20261028T190000
DTEND;TZID=America/Vancouver:20261028T200000
DTSTAMP:20260423T070731
CREATED:20241101T193346Z
LAST-MODIFIED:20241101T193346Z
UID:10001206-1793214000-1793217600@www.vancouversaicentre.org
SUMMARY:Self Study Hub (Zoom)
DESCRIPTION:
URL:https://www.vancouversaicentre.org/event/self-study-hub-zoom/2026-10-28/
END:VEVENT
BEGIN:VEVENT
DTSTART;TZID=America/Vancouver:20261104T190000
DTEND;TZID=America/Vancouver:20261104T200000
DTSTAMP:20260423T070731
CREATED:20241101T193346Z
LAST-MODIFIED:20241101T193346Z
UID:10001207-1793818800-1793822400@www.vancouversaicentre.org
SUMMARY:Self Study Hub (Zoom)
DESCRIPTION:
URL:https://www.vancouversaicentre.org/event/self-study-hub-zoom/2026-11-04/
END:VEVENT
BEGIN:VEVENT
DTSTART;TZID=America/Vancouver:20261111T190000
DTEND;TZID=America/Vancouver:20261111T200000
DTSTAMP:20260423T070731
CREATED:20241101T193346Z
LAST-MODIFIED:20241101T193346Z
UID:10001208-1794423600-1794427200@www.vancouversaicentre.org
SUMMARY:Self Study Hub (Zoom)
DESCRIPTION:
URL:https://www.vancouversaicentre.org/event/self-study-hub-zoom/2026-11-11/
END:VEVENT
BEGIN:VEVENT
DTSTART;TZID=America/Vancouver:20261118T190000
DTEND;TZID=America/Vancouver:20261118T200000
DTSTAMP:20260423T070731
CREATED:20241101T193346Z
LAST-MODIFIED:20241101T193346Z
UID:10001209-1795028400-1795032000@www.vancouversaicentre.org
SUMMARY:Self Study Hub (Zoom)
DESCRIPTION:
URL:https://www.vancouversaicentre.org/event/self-study-hub-zoom/2026-11-18/
END:VEVENT
END:VCALENDAR