BEGIN:VCALENDAR
VERSION:2.0
PRODID:-//Sri Sathya Sai Community Centre of British Columbia - ECPv6.15.20//NONSGML v1.0//EN
CALSCALE:GREGORIAN
METHOD:PUBLISH
X-WR-CALNAME:Sri Sathya Sai Community Centre of British Columbia
X-ORIGINAL-URL:https://www.vancouversaicentre.org
X-WR-CALDESC:Events for Sri Sathya Sai Community Centre of British Columbia
REFRESH-INTERVAL;VALUE=DURATION:PT1H
X-Robots-Tag:noindex
X-PUBLISHED-TTL:PT1H
BEGIN:VTIMEZONE
TZID:America/Vancouver
BEGIN:DAYLIGHT
TZOFFSETFROM:-0800
TZOFFSETTO:-0700
TZNAME:PDT
DTSTART:20250309T100000
END:DAYLIGHT
BEGIN:STANDARD
TZOFFSETFROM:-0700
TZOFFSETTO:-0800
TZNAME:PST
DTSTART:20251102T090000
END:STANDARD
BEGIN:DAYLIGHT
TZOFFSETFROM:-0800
TZOFFSETTO:-0700
TZNAME:PDT
DTSTART:20260308T100000
END:DAYLIGHT
BEGIN:STANDARD
TZOFFSETFROM:-0700
TZOFFSETTO:-0800
TZNAME:PST
DTSTART:20261101T090000
END:STANDARD
BEGIN:DAYLIGHT
TZOFFSETFROM:-0800
TZOFFSETTO:-0700
TZNAME:PDT
DTSTART:20270314T100000
END:DAYLIGHT
BEGIN:STANDARD
TZOFFSETFROM:-0700
TZOFFSETTO:-0800
TZNAME:PST
DTSTART:20271107T090000
END:STANDARD
END:VTIMEZONE
BEGIN:VEVENT
DTSTART;TZID=America/Vancouver:20260423T193000
DTEND;TZID=America/Vancouver:20260423T203000
DTSTAMP:20260423T072546
CREATED:20251224T050706Z
LAST-MODIFIED:20251229T175558Z
UID:10001440-1776972600-1776976200@www.vancouversaicentre.org
SUMMARY:Thursday Bhajan
DESCRIPTION:
URL:https://www.vancouversaicentre.org/event/thursday-bhajan-2-2/2026-04-23/
END:VEVENT
BEGIN:VEVENT
DTSTART;TZID=America/Vancouver:20260430T193000
DTEND;TZID=America/Vancouver:20260430T203000
DTSTAMP:20260423T072546
CREATED:20251224T050706Z
LAST-MODIFIED:20251229T175558Z
UID:10001441-1777577400-1777581000@www.vancouversaicentre.org
SUMMARY:Thursday Bhajan
DESCRIPTION:
URL:https://www.vancouversaicentre.org/event/thursday-bhajan-2-2/2026-04-30/
END:VEVENT
BEGIN:VEVENT
DTSTART;TZID=America/Vancouver:20260507T193000
DTEND;TZID=America/Vancouver:20260507T203000
DTSTAMP:20260423T072546
CREATED:20251224T050706Z
LAST-MODIFIED:20251229T175558Z
UID:10001442-1778182200-1778185800@www.vancouversaicentre.org
SUMMARY:Thursday Bhajan
DESCRIPTION:
URL:https://www.vancouversaicentre.org/event/thursday-bhajan-2-2/2026-05-07/
END:VEVENT
BEGIN:VEVENT
DTSTART;TZID=America/Vancouver:20260514T193000
DTEND;TZID=America/Vancouver:20260514T203000
DTSTAMP:20260423T072546
CREATED:20251224T050706Z
LAST-MODIFIED:20251229T175558Z
UID:10001443-1778787000-1778790600@www.vancouversaicentre.org
SUMMARY:Thursday Bhajan
DESCRIPTION:
URL:https://www.vancouversaicentre.org/event/thursday-bhajan-2-2/2026-05-14/
END:VEVENT
BEGIN:VEVENT
DTSTART;TZID=America/Vancouver:20260521T193000
DTEND;TZID=America/Vancouver:20260521T203000
DTSTAMP:20260423T072546
CREATED:20251224T050706Z
LAST-MODIFIED:20251229T175558Z
UID:10001444-1779391800-1779395400@www.vancouversaicentre.org
SUMMARY:Thursday Bhajan
DESCRIPTION:
URL:https://www.vancouversaicentre.org/event/thursday-bhajan-2-2/2026-05-21/
END:VEVENT
BEGIN:VEVENT
DTSTART;TZID=America/Vancouver:20260528T193000
DTEND;TZID=America/Vancouver:20260528T203000
DTSTAMP:20260423T072546
CREATED:20251224T050706Z
LAST-MODIFIED:20251229T175558Z
UID:10001445-1779996600-1780000200@www.vancouversaicentre.org
SUMMARY:Thursday Bhajan
DESCRIPTION:
URL:https://www.vancouversaicentre.org/event/thursday-bhajan-2-2/2026-05-28/
END:VEVENT
BEGIN:VEVENT
DTSTART;TZID=America/Vancouver:20260604T193000
DTEND;TZID=America/Vancouver:20260604T203000
DTSTAMP:20260423T072546
CREATED:20251224T050706Z
LAST-MODIFIED:20251229T175558Z
UID:10001446-1780601400-1780605000@www.vancouversaicentre.org
SUMMARY:Thursday Bhajan
DESCRIPTION:
URL:https://www.vancouversaicentre.org/event/thursday-bhajan-2-2/2026-06-04/
END:VEVENT
BEGIN:VEVENT
DTSTART;TZID=America/Vancouver:20260611T193000
DTEND;TZID=America/Vancouver:20260611T203000
DTSTAMP:20260423T072546
CREATED:20251224T050706Z
LAST-MODIFIED:20251229T175558Z
UID:10001447-1781206200-1781209800@www.vancouversaicentre.org
SUMMARY:Thursday Bhajan
DESCRIPTION:
URL:https://www.vancouversaicentre.org/event/thursday-bhajan-2-2/2026-06-11/
END:VEVENT
BEGIN:VEVENT
DTSTART;TZID=America/Vancouver:20260618T193000
DTEND;TZID=America/Vancouver:20260618T203000
DTSTAMP:20260423T072546
CREATED:20251224T050706Z
LAST-MODIFIED:20251229T175558Z
UID:10001448-1781811000-1781814600@www.vancouversaicentre.org
SUMMARY:Thursday Bhajan
DESCRIPTION:
URL:https://www.vancouversaicentre.org/event/thursday-bhajan-2-2/2026-06-18/
END:VEVENT
BEGIN:VEVENT
DTSTART;TZID=America/Vancouver:20260625T193000
DTEND;TZID=America/Vancouver:20260625T203000
DTSTAMP:20260423T072546
CREATED:20251224T050706Z
LAST-MODIFIED:20251229T175558Z
UID:10001449-1782415800-1782419400@www.vancouversaicentre.org
SUMMARY:Thursday Bhajan
DESCRIPTION:
URL:https://www.vancouversaicentre.org/event/thursday-bhajan-2-2/2026-06-25/
END:VEVENT
BEGIN:VEVENT
DTSTART;TZID=America/Vancouver:20260702T193000
DTEND;TZID=America/Vancouver:20260702T203000
DTSTAMP:20260423T072546
CREATED:20251224T050706Z
LAST-MODIFIED:20251229T175558Z
UID:10001450-1783020600-1783024200@www.vancouversaicentre.org
SUMMARY:Thursday Bhajan
DESCRIPTION:
URL:https://www.vancouversaicentre.org/event/thursday-bhajan-2-2/2026-07-02/
END:VEVENT
BEGIN:VEVENT
DTSTART;TZID=America/Vancouver:20260709T193000
DTEND;TZID=America/Vancouver:20260709T203000
DTSTAMP:20260423T072546
CREATED:20251224T050706Z
LAST-MODIFIED:20251229T175558Z
UID:10001451-1783625400-1783629000@www.vancouversaicentre.org
SUMMARY:Thursday Bhajan
DESCRIPTION:
URL:https://www.vancouversaicentre.org/event/thursday-bhajan-2-2/2026-07-09/
END:VEVENT
BEGIN:VEVENT
DTSTART;TZID=America/Vancouver:20260716T193000
DTEND;TZID=America/Vancouver:20260716T203000
DTSTAMP:20260423T072546
CREATED:20251224T050706Z
LAST-MODIFIED:20251229T175558Z
UID:10001452-1784230200-1784233800@www.vancouversaicentre.org
SUMMARY:Thursday Bhajan
DESCRIPTION:
URL:https://www.vancouversaicentre.org/event/thursday-bhajan-2-2/2026-07-16/
END:VEVENT
BEGIN:VEVENT
DTSTART;TZID=America/Vancouver:20260723T193000
DTEND;TZID=America/Vancouver:20260723T203000
DTSTAMP:20260423T072546
CREATED:20251224T050706Z
LAST-MODIFIED:20251229T175558Z
UID:10001453-1784835000-1784838600@www.vancouversaicentre.org
SUMMARY:Thursday Bhajan
DESCRIPTION:
URL:https://www.vancouversaicentre.org/event/thursday-bhajan-2-2/2026-07-23/
END:VEVENT
BEGIN:VEVENT
DTSTART;TZID=America/Vancouver:20260730T193000
DTEND;TZID=America/Vancouver:20260730T203000
DTSTAMP:20260423T072546
CREATED:20251224T050706Z
LAST-MODIFIED:20251229T175558Z
UID:10001454-1785439800-1785443400@www.vancouversaicentre.org
SUMMARY:Thursday Bhajan
DESCRIPTION:
URL:https://www.vancouversaicentre.org/event/thursday-bhajan-2-2/2026-07-30/
END:VEVENT
BEGIN:VEVENT
DTSTART;TZID=America/Vancouver:20260806T193000
DTEND;TZID=America/Vancouver:20260806T203000
DTSTAMP:20260423T072546
CREATED:20251224T050706Z
LAST-MODIFIED:20251229T175558Z
UID:10001455-1786044600-1786048200@www.vancouversaicentre.org
SUMMARY:Thursday Bhajan
DESCRIPTION:
URL:https://www.vancouversaicentre.org/event/thursday-bhajan-2-2/2026-08-06/
END:VEVENT
BEGIN:VEVENT
DTSTART;TZID=America/Vancouver:20260813T193000
DTEND;TZID=America/Vancouver:20260813T203000
DTSTAMP:20260423T072546
CREATED:20251224T050706Z
LAST-MODIFIED:20251229T175558Z
UID:10001456-1786649400-1786653000@www.vancouversaicentre.org
SUMMARY:Thursday Bhajan
DESCRIPTION:
URL:https://www.vancouversaicentre.org/event/thursday-bhajan-2-2/2026-08-13/
END:VEVENT
BEGIN:VEVENT
DTSTART;TZID=America/Vancouver:20260820T193000
DTEND;TZID=America/Vancouver:20260820T203000
DTSTAMP:20260423T072546
CREATED:20251224T050706Z
LAST-MODIFIED:20251229T175558Z
UID:10001457-1787254200-1787257800@www.vancouversaicentre.org
SUMMARY:Thursday Bhajan
DESCRIPTION:
URL:https://www.vancouversaicentre.org/event/thursday-bhajan-2-2/2026-08-20/
END:VEVENT
BEGIN:VEVENT
DTSTART;TZID=America/Vancouver:20260827T193000
DTEND;TZID=America/Vancouver:20260827T203000
DTSTAMP:20260423T072546
CREATED:20251224T050706Z
LAST-MODIFIED:20251229T175558Z
UID:10001458-1787859000-1787862600@www.vancouversaicentre.org
SUMMARY:Thursday Bhajan
DESCRIPTION:
URL:https://www.vancouversaicentre.org/event/thursday-bhajan-2-2/2026-08-27/
END:VEVENT
BEGIN:VEVENT
DTSTART;TZID=America/Vancouver:20260903T193000
DTEND;TZID=America/Vancouver:20260903T203000
DTSTAMP:20260423T072546
CREATED:20251224T050706Z
LAST-MODIFIED:20251229T175558Z
UID:10001459-1788463800-1788467400@www.vancouversaicentre.org
SUMMARY:Thursday Bhajan
DESCRIPTION:
URL:https://www.vancouversaicentre.org/event/thursday-bhajan-2-2/2026-09-03/
END:VEVENT
BEGIN:VEVENT
DTSTART;TZID=America/Vancouver:20260910T193000
DTEND;TZID=America/Vancouver:20260910T203000
DTSTAMP:20260423T072546
CREATED:20251224T050706Z
LAST-MODIFIED:20251229T175558Z
UID:10001460-1789068600-1789072200@www.vancouversaicentre.org
SUMMARY:Thursday Bhajan
DESCRIPTION:
URL:https://www.vancouversaicentre.org/event/thursday-bhajan-2-2/2026-09-10/
END:VEVENT
BEGIN:VEVENT
DTSTART;TZID=America/Vancouver:20260917T193000
DTEND;TZID=America/Vancouver:20260917T203000
DTSTAMP:20260423T072546
CREATED:20251224T050706Z
LAST-MODIFIED:20251229T175558Z
UID:10001461-1789673400-1789677000@www.vancouversaicentre.org
SUMMARY:Thursday Bhajan
DESCRIPTION:
URL:https://www.vancouversaicentre.org/event/thursday-bhajan-2-2/2026-09-17/
END:VEVENT
BEGIN:VEVENT
DTSTART;TZID=America/Vancouver:20260924T193000
DTEND;TZID=America/Vancouver:20260924T203000
DTSTAMP:20260423T072546
CREATED:20251224T050706Z
LAST-MODIFIED:20251229T175558Z
UID:10001462-1790278200-1790281800@www.vancouversaicentre.org
SUMMARY:Thursday Bhajan
DESCRIPTION:
URL:https://www.vancouversaicentre.org/event/thursday-bhajan-2-2/2026-09-24/
END:VEVENT
BEGIN:VEVENT
DTSTART;TZID=America/Vancouver:20261001T193000
DTEND;TZID=America/Vancouver:20261001T203000
DTSTAMP:20260423T072546
CREATED:20251224T050706Z
LAST-MODIFIED:20251229T175558Z
UID:10001463-1790883000-1790886600@www.vancouversaicentre.org
SUMMARY:Thursday Bhajan
DESCRIPTION:
URL:https://www.vancouversaicentre.org/event/thursday-bhajan-2-2/2026-10-01/
END:VEVENT
BEGIN:VEVENT
DTSTART;TZID=America/Vancouver:20261008T193000
DTEND;TZID=America/Vancouver:20261008T203000
DTSTAMP:20260423T072546
CREATED:20251224T050706Z
LAST-MODIFIED:20251229T175558Z
UID:10001464-1791487800-1791491400@www.vancouversaicentre.org
SUMMARY:Thursday Bhajan
DESCRIPTION:
URL:https://www.vancouversaicentre.org/event/thursday-bhajan-2-2/2026-10-08/
END:VEVENT
BEGIN:VEVENT
DTSTART;TZID=America/Vancouver:20261015T193000
DTEND;TZID=America/Vancouver:20261015T203000
DTSTAMP:20260423T072546
CREATED:20251224T050706Z
LAST-MODIFIED:20251229T175558Z
UID:10001465-1792092600-1792096200@www.vancouversaicentre.org
SUMMARY:Thursday Bhajan
DESCRIPTION:
URL:https://www.vancouversaicentre.org/event/thursday-bhajan-2-2/2026-10-15/
END:VEVENT
BEGIN:VEVENT
DTSTART;TZID=America/Vancouver:20261022T193000
DTEND;TZID=America/Vancouver:20261022T203000
DTSTAMP:20260423T072546
CREATED:20251224T050706Z
LAST-MODIFIED:20251229T175558Z
UID:10001466-1792697400-1792701000@www.vancouversaicentre.org
SUMMARY:Thursday Bhajan
DESCRIPTION:
URL:https://www.vancouversaicentre.org/event/thursday-bhajan-2-2/2026-10-22/
END:VEVENT
BEGIN:VEVENT
DTSTART;TZID=America/Vancouver:20261029T193000
DTEND;TZID=America/Vancouver:20261029T203000
DTSTAMP:20260423T072546
CREATED:20251224T050706Z
LAST-MODIFIED:20251229T175558Z
UID:10001467-1793302200-1793305800@www.vancouversaicentre.org
SUMMARY:Thursday Bhajan
DESCRIPTION:
URL:https://www.vancouversaicentre.org/event/thursday-bhajan-2-2/2026-10-29/
END:VEVENT
BEGIN:VEVENT
DTSTART;TZID=America/Vancouver:20261105T193000
DTEND;TZID=America/Vancouver:20261105T203000
DTSTAMP:20260423T072546
CREATED:20251224T050706Z
LAST-MODIFIED:20251229T175558Z
UID:10001468-1793907000-1793910600@www.vancouversaicentre.org
SUMMARY:Thursday Bhajan
DESCRIPTION:
URL:https://www.vancouversaicentre.org/event/thursday-bhajan-2-2/2026-11-05/
END:VEVENT
BEGIN:VEVENT
DTSTART;TZID=America/Vancouver:20261112T193000
DTEND;TZID=America/Vancouver:20261112T203000
DTSTAMP:20260423T072546
CREATED:20251224T050706Z
LAST-MODIFIED:20251229T175558Z
UID:10001469-1794511800-1794515400@www.vancouversaicentre.org
SUMMARY:Thursday Bhajan
DESCRIPTION:
URL:https://www.vancouversaicentre.org/event/thursday-bhajan-2-2/2026-11-12/
END:VEVENT
END:VCALENDAR