BEGIN:VCALENDAR
VERSION:2.0
PRODID:-//Sri Sathya Sai Community Centre of British Columbia - ECPv6.15.20//NONSGML v1.0//EN
CALSCALE:GREGORIAN
METHOD:PUBLISH
X-WR-CALNAME:Sri Sathya Sai Community Centre of British Columbia
X-ORIGINAL-URL:https://www.vancouversaicentre.org
X-WR-CALDESC:Events for Sri Sathya Sai Community Centre of British Columbia
REFRESH-INTERVAL;VALUE=DURATION:PT1H
X-Robots-Tag:noindex
X-PUBLISHED-TTL:PT1H
BEGIN:VTIMEZONE
TZID:America/Vancouver
BEGIN:DAYLIGHT
TZOFFSETFROM:-0800
TZOFFSETTO:-0700
TZNAME:PDT
DTSTART:20270314T100000
END:DAYLIGHT
BEGIN:STANDARD
TZOFFSETFROM:-0700
TZOFFSETTO:-0800
TZNAME:PST
DTSTART:20271107T090000
END:STANDARD
BEGIN:DAYLIGHT
TZOFFSETFROM:-0800
TZOFFSETTO:-0700
TZNAME:PDT
DTSTART:20280312T100000
END:DAYLIGHT
BEGIN:STANDARD
TZOFFSETFROM:-0700
TZOFFSETTO:-0800
TZNAME:PST
DTSTART:20281105T090000
END:STANDARD
BEGIN:DAYLIGHT
TZOFFSETFROM:-0800
TZOFFSETTO:-0700
TZNAME:PDT
DTSTART:20290311T100000
END:DAYLIGHT
BEGIN:STANDARD
TZOFFSETFROM:-0700
TZOFFSETTO:-0800
TZNAME:PST
DTSTART:20291104T090000
END:STANDARD
END:VTIMEZONE
BEGIN:VEVENT
DTSTART;TZID=America/Vancouver:20280115T110000
DTEND;TZID=America/Vancouver:20280115T120000
DTSTAMP:20260423T221309
CREATED:20241101T190143Z
LAST-MODIFIED:20241101T193902Z
UID:10000733-1831546800-1831550400@www.vancouversaicentre.org
SUMMARY:Open House
DESCRIPTION:
URL:https://www.vancouversaicentre.org/event/open-house-2/2028-01-15/
LOCATION:Sri Sathya Sai Centre of BC\, 2215\, E Pender St\, Vancouver\, BC\, V5L1X5\, Canada
END:VEVENT
BEGIN:VEVENT
DTSTART;TZID=America/Vancouver:20280122T110000
DTEND;TZID=America/Vancouver:20280122T120000
DTSTAMP:20260423T221309
CREATED:20241101T190143Z
LAST-MODIFIED:20241101T193902Z
UID:10000734-1832151600-1832155200@www.vancouversaicentre.org
SUMMARY:Open House
DESCRIPTION:
URL:https://www.vancouversaicentre.org/event/open-house-2/2028-01-22/
LOCATION:Sri Sathya Sai Centre of BC\, 2215\, E Pender St\, Vancouver\, BC\, V5L1X5\, Canada
END:VEVENT
BEGIN:VEVENT
DTSTART;TZID=America/Vancouver:20280129T110000
DTEND;TZID=America/Vancouver:20280129T120000
DTSTAMP:20260423T221309
CREATED:20241101T190143Z
LAST-MODIFIED:20241101T193902Z
UID:10000735-1832756400-1832760000@www.vancouversaicentre.org
SUMMARY:Open House
DESCRIPTION:
URL:https://www.vancouversaicentre.org/event/open-house-2/2028-01-29/
LOCATION:Sri Sathya Sai Centre of BC\, 2215\, E Pender St\, Vancouver\, BC\, V5L1X5\, Canada
END:VEVENT
BEGIN:VEVENT
DTSTART;TZID=America/Vancouver:20280205T110000
DTEND;TZID=America/Vancouver:20280205T120000
DTSTAMP:20260423T221309
CREATED:20241101T190143Z
LAST-MODIFIED:20241101T193902Z
UID:10000736-1833361200-1833364800@www.vancouversaicentre.org
SUMMARY:Open House
DESCRIPTION:
URL:https://www.vancouversaicentre.org/event/open-house-2/2028-02-05/
LOCATION:Sri Sathya Sai Centre of BC\, 2215\, E Pender St\, Vancouver\, BC\, V5L1X5\, Canada
END:VEVENT
BEGIN:VEVENT
DTSTART;TZID=America/Vancouver:20280212T110000
DTEND;TZID=America/Vancouver:20280212T120000
DTSTAMP:20260423T221309
CREATED:20241101T190143Z
LAST-MODIFIED:20241101T193902Z
UID:10000737-1833966000-1833969600@www.vancouversaicentre.org
SUMMARY:Open House
DESCRIPTION:
URL:https://www.vancouversaicentre.org/event/open-house-2/2028-02-12/
LOCATION:Sri Sathya Sai Centre of BC\, 2215\, E Pender St\, Vancouver\, BC\, V5L1X5\, Canada
END:VEVENT
BEGIN:VEVENT
DTSTART;TZID=America/Vancouver:20280219T110000
DTEND;TZID=America/Vancouver:20280219T120000
DTSTAMP:20260423T221309
CREATED:20241101T190143Z
LAST-MODIFIED:20241101T193902Z
UID:10000738-1834570800-1834574400@www.vancouversaicentre.org
SUMMARY:Open House
DESCRIPTION:
URL:https://www.vancouversaicentre.org/event/open-house-2/2028-02-19/
LOCATION:Sri Sathya Sai Centre of BC\, 2215\, E Pender St\, Vancouver\, BC\, V5L1X5\, Canada
END:VEVENT
BEGIN:VEVENT
DTSTART;TZID=America/Vancouver:20280226T110000
DTEND;TZID=America/Vancouver:20280226T120000
DTSTAMP:20260423T221309
CREATED:20241101T190143Z
LAST-MODIFIED:20241101T193902Z
UID:10000739-1835175600-1835179200@www.vancouversaicentre.org
SUMMARY:Open House
DESCRIPTION:
URL:https://www.vancouversaicentre.org/event/open-house-2/2028-02-26/
LOCATION:Sri Sathya Sai Centre of BC\, 2215\, E Pender St\, Vancouver\, BC\, V5L1X5\, Canada
END:VEVENT
BEGIN:VEVENT
DTSTART;TZID=America/Vancouver:20280304T110000
DTEND;TZID=America/Vancouver:20280304T120000
DTSTAMP:20260423T221309
CREATED:20241101T190143Z
LAST-MODIFIED:20241101T193902Z
UID:10000740-1835780400-1835784000@www.vancouversaicentre.org
SUMMARY:Open House
DESCRIPTION:
URL:https://www.vancouversaicentre.org/event/open-house-2/2028-03-04/
LOCATION:Sri Sathya Sai Centre of BC\, 2215\, E Pender St\, Vancouver\, BC\, V5L1X5\, Canada
END:VEVENT
BEGIN:VEVENT
DTSTART;TZID=America/Vancouver:20280311T110000
DTEND;TZID=America/Vancouver:20280311T120000
DTSTAMP:20260423T221309
CREATED:20241101T190143Z
LAST-MODIFIED:20241101T193902Z
UID:10000741-1836385200-1836388800@www.vancouversaicentre.org
SUMMARY:Open House
DESCRIPTION:
URL:https://www.vancouversaicentre.org/event/open-house-2/2028-03-11/
LOCATION:Sri Sathya Sai Centre of BC\, 2215\, E Pender St\, Vancouver\, BC\, V5L1X5\, Canada
END:VEVENT
BEGIN:VEVENT
DTSTART;TZID=America/Vancouver:20280318T110000
DTEND;TZID=America/Vancouver:20280318T120000
DTSTAMP:20260423T221309
CREATED:20241101T190143Z
LAST-MODIFIED:20241101T193902Z
UID:10000742-1836990000-1836993600@www.vancouversaicentre.org
SUMMARY:Open House
DESCRIPTION:
URL:https://www.vancouversaicentre.org/event/open-house-2/2028-03-18/
LOCATION:Sri Sathya Sai Centre of BC\, 2215\, E Pender St\, Vancouver\, BC\, V5L1X5\, Canada
END:VEVENT
BEGIN:VEVENT
DTSTART;TZID=America/Vancouver:20280325T110000
DTEND;TZID=America/Vancouver:20280325T120000
DTSTAMP:20260423T221309
CREATED:20241101T190143Z
LAST-MODIFIED:20241101T193902Z
UID:10000743-1837594800-1837598400@www.vancouversaicentre.org
SUMMARY:Open House
DESCRIPTION:
URL:https://www.vancouversaicentre.org/event/open-house-2/2028-03-25/
LOCATION:Sri Sathya Sai Centre of BC\, 2215\, E Pender St\, Vancouver\, BC\, V5L1X5\, Canada
END:VEVENT
BEGIN:VEVENT
DTSTART;TZID=America/Vancouver:20280401T110000
DTEND;TZID=America/Vancouver:20280401T120000
DTSTAMP:20260423T221309
CREATED:20241101T190143Z
LAST-MODIFIED:20241101T193902Z
UID:10000744-1838199600-1838203200@www.vancouversaicentre.org
SUMMARY:Open House
DESCRIPTION:
URL:https://www.vancouversaicentre.org/event/open-house-2/2028-04-01/
LOCATION:Sri Sathya Sai Centre of BC\, 2215\, E Pender St\, Vancouver\, BC\, V5L1X5\, Canada
END:VEVENT
BEGIN:VEVENT
DTSTART;TZID=America/Vancouver:20280408T110000
DTEND;TZID=America/Vancouver:20280408T120000
DTSTAMP:20260423T221309
CREATED:20241101T190143Z
LAST-MODIFIED:20241101T193902Z
UID:10000745-1838804400-1838808000@www.vancouversaicentre.org
SUMMARY:Open House
DESCRIPTION:
URL:https://www.vancouversaicentre.org/event/open-house-2/2028-04-08/
LOCATION:Sri Sathya Sai Centre of BC\, 2215\, E Pender St\, Vancouver\, BC\, V5L1X5\, Canada
END:VEVENT
BEGIN:VEVENT
DTSTART;TZID=America/Vancouver:20280415T110000
DTEND;TZID=America/Vancouver:20280415T120000
DTSTAMP:20260423T221309
CREATED:20241101T190143Z
LAST-MODIFIED:20241101T193902Z
UID:10000746-1839409200-1839412800@www.vancouversaicentre.org
SUMMARY:Open House
DESCRIPTION:
URL:https://www.vancouversaicentre.org/event/open-house-2/2028-04-15/
LOCATION:Sri Sathya Sai Centre of BC\, 2215\, E Pender St\, Vancouver\, BC\, V5L1X5\, Canada
END:VEVENT
BEGIN:VEVENT
DTSTART;TZID=America/Vancouver:20280422T110000
DTEND;TZID=America/Vancouver:20280422T120000
DTSTAMP:20260423T221309
CREATED:20241101T190143Z
LAST-MODIFIED:20241101T193902Z
UID:10000747-1840014000-1840017600@www.vancouversaicentre.org
SUMMARY:Open House
DESCRIPTION:
URL:https://www.vancouversaicentre.org/event/open-house-2/2028-04-22/
LOCATION:Sri Sathya Sai Centre of BC\, 2215\, E Pender St\, Vancouver\, BC\, V5L1X5\, Canada
END:VEVENT
BEGIN:VEVENT
DTSTART;TZID=America/Vancouver:20280429T110000
DTEND;TZID=America/Vancouver:20280429T120000
DTSTAMP:20260423T221309
CREATED:20241101T190143Z
LAST-MODIFIED:20241101T193902Z
UID:10000748-1840618800-1840622400@www.vancouversaicentre.org
SUMMARY:Open House
DESCRIPTION:
URL:https://www.vancouversaicentre.org/event/open-house-2/2028-04-29/
LOCATION:Sri Sathya Sai Centre of BC\, 2215\, E Pender St\, Vancouver\, BC\, V5L1X5\, Canada
END:VEVENT
BEGIN:VEVENT
DTSTART;TZID=America/Vancouver:20280506T110000
DTEND;TZID=America/Vancouver:20280506T120000
DTSTAMP:20260423T221309
CREATED:20241101T190143Z
LAST-MODIFIED:20241101T193902Z
UID:10000749-1841223600-1841227200@www.vancouversaicentre.org
SUMMARY:Open House
DESCRIPTION:
URL:https://www.vancouversaicentre.org/event/open-house-2/2028-05-06/
LOCATION:Sri Sathya Sai Centre of BC\, 2215\, E Pender St\, Vancouver\, BC\, V5L1X5\, Canada
END:VEVENT
BEGIN:VEVENT
DTSTART;TZID=America/Vancouver:20280513T110000
DTEND;TZID=America/Vancouver:20280513T120000
DTSTAMP:20260423T221309
CREATED:20241101T190143Z
LAST-MODIFIED:20241101T193902Z
UID:10000750-1841828400-1841832000@www.vancouversaicentre.org
SUMMARY:Open House
DESCRIPTION:
URL:https://www.vancouversaicentre.org/event/open-house-2/2028-05-13/
LOCATION:Sri Sathya Sai Centre of BC\, 2215\, E Pender St\, Vancouver\, BC\, V5L1X5\, Canada
END:VEVENT
BEGIN:VEVENT
DTSTART;TZID=America/Vancouver:20280520T110000
DTEND;TZID=America/Vancouver:20280520T120000
DTSTAMP:20260423T221309
CREATED:20241101T190143Z
LAST-MODIFIED:20241101T193902Z
UID:10000751-1842433200-1842436800@www.vancouversaicentre.org
SUMMARY:Open House
DESCRIPTION:
URL:https://www.vancouversaicentre.org/event/open-house-2/2028-05-20/
LOCATION:Sri Sathya Sai Centre of BC\, 2215\, E Pender St\, Vancouver\, BC\, V5L1X5\, Canada
END:VEVENT
BEGIN:VEVENT
DTSTART;TZID=America/Vancouver:20280527T110000
DTEND;TZID=America/Vancouver:20280527T120000
DTSTAMP:20260423T221309
CREATED:20241101T190143Z
LAST-MODIFIED:20241101T193902Z
UID:10000752-1843038000-1843041600@www.vancouversaicentre.org
SUMMARY:Open House
DESCRIPTION:
URL:https://www.vancouversaicentre.org/event/open-house-2/2028-05-27/
LOCATION:Sri Sathya Sai Centre of BC\, 2215\, E Pender St\, Vancouver\, BC\, V5L1X5\, Canada
END:VEVENT
BEGIN:VEVENT
DTSTART;TZID=America/Vancouver:20280603T110000
DTEND;TZID=America/Vancouver:20280603T120000
DTSTAMP:20260423T221309
CREATED:20241101T190143Z
LAST-MODIFIED:20241101T193902Z
UID:10000753-1843642800-1843646400@www.vancouversaicentre.org
SUMMARY:Open House
DESCRIPTION:
URL:https://www.vancouversaicentre.org/event/open-house-2/2028-06-03/
LOCATION:Sri Sathya Sai Centre of BC\, 2215\, E Pender St\, Vancouver\, BC\, V5L1X5\, Canada
END:VEVENT
BEGIN:VEVENT
DTSTART;TZID=America/Vancouver:20280610T110000
DTEND;TZID=America/Vancouver:20280610T120000
DTSTAMP:20260423T221309
CREATED:20241101T190143Z
LAST-MODIFIED:20241101T193902Z
UID:10000754-1844247600-1844251200@www.vancouversaicentre.org
SUMMARY:Open House
DESCRIPTION:
URL:https://www.vancouversaicentre.org/event/open-house-2/2028-06-10/
LOCATION:Sri Sathya Sai Centre of BC\, 2215\, E Pender St\, Vancouver\, BC\, V5L1X5\, Canada
END:VEVENT
BEGIN:VEVENT
DTSTART;TZID=America/Vancouver:20280617T110000
DTEND;TZID=America/Vancouver:20280617T120000
DTSTAMP:20260423T221309
CREATED:20241101T190143Z
LAST-MODIFIED:20241101T193902Z
UID:10000755-1844852400-1844856000@www.vancouversaicentre.org
SUMMARY:Open House
DESCRIPTION:
URL:https://www.vancouversaicentre.org/event/open-house-2/2028-06-17/
LOCATION:Sri Sathya Sai Centre of BC\, 2215\, E Pender St\, Vancouver\, BC\, V5L1X5\, Canada
END:VEVENT
BEGIN:VEVENT
DTSTART;TZID=America/Vancouver:20280624T110000
DTEND;TZID=America/Vancouver:20280624T120000
DTSTAMP:20260423T221309
CREATED:20241101T190143Z
LAST-MODIFIED:20241101T193902Z
UID:10000756-1845457200-1845460800@www.vancouversaicentre.org
SUMMARY:Open House
DESCRIPTION:
URL:https://www.vancouversaicentre.org/event/open-house-2/2028-06-24/
LOCATION:Sri Sathya Sai Centre of BC\, 2215\, E Pender St\, Vancouver\, BC\, V5L1X5\, Canada
END:VEVENT
BEGIN:VEVENT
DTSTART;TZID=America/Vancouver:20280701T110000
DTEND;TZID=America/Vancouver:20280701T120000
DTSTAMP:20260423T221309
CREATED:20241101T190143Z
LAST-MODIFIED:20241101T193902Z
UID:10000757-1846062000-1846065600@www.vancouversaicentre.org
SUMMARY:Open House
DESCRIPTION:
URL:https://www.vancouversaicentre.org/event/open-house-2/2028-07-01/
LOCATION:Sri Sathya Sai Centre of BC\, 2215\, E Pender St\, Vancouver\, BC\, V5L1X5\, Canada
END:VEVENT
BEGIN:VEVENT
DTSTART;TZID=America/Vancouver:20280708T110000
DTEND;TZID=America/Vancouver:20280708T120000
DTSTAMP:20260423T221309
CREATED:20241101T190143Z
LAST-MODIFIED:20241101T193902Z
UID:10000758-1846666800-1846670400@www.vancouversaicentre.org
SUMMARY:Open House
DESCRIPTION:
URL:https://www.vancouversaicentre.org/event/open-house-2/2028-07-08/
LOCATION:Sri Sathya Sai Centre of BC\, 2215\, E Pender St\, Vancouver\, BC\, V5L1X5\, Canada
END:VEVENT
BEGIN:VEVENT
DTSTART;TZID=America/Vancouver:20280715T110000
DTEND;TZID=America/Vancouver:20280715T120000
DTSTAMP:20260423T221309
CREATED:20241101T190143Z
LAST-MODIFIED:20241101T193902Z
UID:10000759-1847271600-1847275200@www.vancouversaicentre.org
SUMMARY:Open House
DESCRIPTION:
URL:https://www.vancouversaicentre.org/event/open-house-2/2028-07-15/
LOCATION:Sri Sathya Sai Centre of BC\, 2215\, E Pender St\, Vancouver\, BC\, V5L1X5\, Canada
END:VEVENT
BEGIN:VEVENT
DTSTART;TZID=America/Vancouver:20280722T110000
DTEND;TZID=America/Vancouver:20280722T120000
DTSTAMP:20260423T221309
CREATED:20241101T190143Z
LAST-MODIFIED:20241101T193902Z
UID:10000760-1847876400-1847880000@www.vancouversaicentre.org
SUMMARY:Open House
DESCRIPTION:
URL:https://www.vancouversaicentre.org/event/open-house-2/2028-07-22/
LOCATION:Sri Sathya Sai Centre of BC\, 2215\, E Pender St\, Vancouver\, BC\, V5L1X5\, Canada
END:VEVENT
BEGIN:VEVENT
DTSTART;TZID=America/Vancouver:20280729T110000
DTEND;TZID=America/Vancouver:20280729T120000
DTSTAMP:20260423T221309
CREATED:20241101T190143Z
LAST-MODIFIED:20241101T193902Z
UID:10000761-1848481200-1848484800@www.vancouversaicentre.org
SUMMARY:Open House
DESCRIPTION:
URL:https://www.vancouversaicentre.org/event/open-house-2/2028-07-29/
LOCATION:Sri Sathya Sai Centre of BC\, 2215\, E Pender St\, Vancouver\, BC\, V5L1X5\, Canada
END:VEVENT
BEGIN:VEVENT
DTSTART;TZID=America/Vancouver:20280805T110000
DTEND;TZID=America/Vancouver:20280805T120000
DTSTAMP:20260423T221309
CREATED:20241101T190143Z
LAST-MODIFIED:20241101T193902Z
UID:10000762-1849086000-1849089600@www.vancouversaicentre.org
SUMMARY:Open House
DESCRIPTION:
URL:https://www.vancouversaicentre.org/event/open-house-2/2028-08-05/
LOCATION:Sri Sathya Sai Centre of BC\, 2215\, E Pender St\, Vancouver\, BC\, V5L1X5\, Canada
END:VEVENT
END:VCALENDAR