BEGIN:VCALENDAR
VERSION:2.0
PRODID:-//Sri Sathya Sai Community Centre of British Columbia - ECPv6.15.20//NONSGML v1.0//EN
CALSCALE:GREGORIAN
METHOD:PUBLISH
X-ORIGINAL-URL:https://www.vancouversaicentre.org
X-WR-CALDESC:Events for Sri Sathya Sai Community Centre of British Columbia
REFRESH-INTERVAL;VALUE=DURATION:PT1H
X-Robots-Tag:noindex
X-PUBLISHED-TTL:PT1H
BEGIN:VTIMEZONE
TZID:America/Vancouver
BEGIN:DAYLIGHT
TZOFFSETFROM:-0800
TZOFFSETTO:-0700
TZNAME:PDT
DTSTART:20270314T100000
END:DAYLIGHT
BEGIN:STANDARD
TZOFFSETFROM:-0700
TZOFFSETTO:-0800
TZNAME:PST
DTSTART:20271107T090000
END:STANDARD
BEGIN:DAYLIGHT
TZOFFSETFROM:-0800
TZOFFSETTO:-0700
TZNAME:PDT
DTSTART:20280312T100000
END:DAYLIGHT
BEGIN:STANDARD
TZOFFSETFROM:-0700
TZOFFSETTO:-0800
TZNAME:PST
DTSTART:20281105T090000
END:STANDARD
BEGIN:DAYLIGHT
TZOFFSETFROM:-0800
TZOFFSETTO:-0700
TZNAME:PDT
DTSTART:20290311T100000
END:DAYLIGHT
BEGIN:STANDARD
TZOFFSETFROM:-0700
TZOFFSETTO:-0800
TZNAME:PST
DTSTART:20291104T090000
END:STANDARD
BEGIN:DAYLIGHT
TZOFFSETFROM:-0800
TZOFFSETTO:-0700
TZNAME:PDT
DTSTART:20300310T100000
END:DAYLIGHT
BEGIN:STANDARD
TZOFFSETFROM:-0700
TZOFFSETTO:-0800
TZNAME:PST
DTSTART:20301103T090000
END:STANDARD
END:VTIMEZONE
BEGIN:VEVENT
DTSTART;TZID=America/Vancouver:20281021T110000
DTEND;TZID=America/Vancouver:20281021T120000
DTSTAMP:20260424T042623
CREATED:20241101T190143Z
LAST-MODIFIED:20241101T193902Z
UID:10000773-1855738800-1855742400@www.vancouversaicentre.org
SUMMARY:Open House
DESCRIPTION:
URL:https://www.vancouversaicentre.org/event/open-house-2/2028-10-21/
LOCATION:Sri Sathya Sai Centre of BC\, 2215\, E Pender St\, Vancouver\, BC\, V5L1X5\, Canada
END:VEVENT
BEGIN:VEVENT
DTSTART;TZID=America/Vancouver:20281028T110000
DTEND;TZID=America/Vancouver:20281028T120000
DTSTAMP:20260424T042623
CREATED:20241101T190143Z
LAST-MODIFIED:20241101T193902Z
UID:10000774-1856343600-1856347200@www.vancouversaicentre.org
SUMMARY:Open House
DESCRIPTION:
URL:https://www.vancouversaicentre.org/event/open-house-2/2028-10-28/
LOCATION:Sri Sathya Sai Centre of BC\, 2215\, E Pender St\, Vancouver\, BC\, V5L1X5\, Canada
END:VEVENT
BEGIN:VEVENT
DTSTART;TZID=America/Vancouver:20281104T110000
DTEND;TZID=America/Vancouver:20281104T120000
DTSTAMP:20260424T042623
CREATED:20241101T190143Z
LAST-MODIFIED:20241101T193902Z
UID:10000775-1856948400-1856952000@www.vancouversaicentre.org
SUMMARY:Open House
DESCRIPTION:
URL:https://www.vancouversaicentre.org/event/open-house-2/2028-11-04/
LOCATION:Sri Sathya Sai Centre of BC\, 2215\, E Pender St\, Vancouver\, BC\, V5L1X5\, Canada
END:VEVENT
BEGIN:VEVENT
DTSTART;TZID=America/Vancouver:20281111T110000
DTEND;TZID=America/Vancouver:20281111T120000
DTSTAMP:20260424T042623
CREATED:20241101T190143Z
LAST-MODIFIED:20241101T193902Z
UID:10000776-1857553200-1857556800@www.vancouversaicentre.org
SUMMARY:Open House
DESCRIPTION:
URL:https://www.vancouversaicentre.org/event/open-house-2/2028-11-11/
LOCATION:Sri Sathya Sai Centre of BC\, 2215\, E Pender St\, Vancouver\, BC\, V5L1X5\, Canada
END:VEVENT
BEGIN:VEVENT
DTSTART;TZID=America/Vancouver:20281118T110000
DTEND;TZID=America/Vancouver:20281118T120000
DTSTAMP:20260424T042623
CREATED:20241101T190143Z
LAST-MODIFIED:20241101T193902Z
UID:10000777-1858158000-1858161600@www.vancouversaicentre.org
SUMMARY:Open House
DESCRIPTION:
URL:https://www.vancouversaicentre.org/event/open-house-2/2028-11-18/
LOCATION:Sri Sathya Sai Centre of BC\, 2215\, E Pender St\, Vancouver\, BC\, V5L1X5\, Canada
END:VEVENT
BEGIN:VEVENT
DTSTART;TZID=America/Vancouver:20281125T110000
DTEND;TZID=America/Vancouver:20281125T120000
DTSTAMP:20260424T042623
CREATED:20241101T190143Z
LAST-MODIFIED:20241101T193902Z
UID:10000778-1858762800-1858766400@www.vancouversaicentre.org
SUMMARY:Open House
DESCRIPTION:
URL:https://www.vancouversaicentre.org/event/open-house-2/2028-11-25/
LOCATION:Sri Sathya Sai Centre of BC\, 2215\, E Pender St\, Vancouver\, BC\, V5L1X5\, Canada
END:VEVENT
BEGIN:VEVENT
DTSTART;TZID=America/Vancouver:20281202T110000
DTEND;TZID=America/Vancouver:20281202T120000
DTSTAMP:20260424T042623
CREATED:20241101T190143Z
LAST-MODIFIED:20241101T193902Z
UID:10000779-1859367600-1859371200@www.vancouversaicentre.org
SUMMARY:Open House
DESCRIPTION:
URL:https://www.vancouversaicentre.org/event/open-house-2/2028-12-02/
LOCATION:Sri Sathya Sai Centre of BC\, 2215\, E Pender St\, Vancouver\, BC\, V5L1X5\, Canada
END:VEVENT
BEGIN:VEVENT
DTSTART;TZID=America/Vancouver:20281209T110000
DTEND;TZID=America/Vancouver:20281209T120000
DTSTAMP:20260424T042623
CREATED:20241101T190143Z
LAST-MODIFIED:20241101T193902Z
UID:10000780-1859972400-1859976000@www.vancouversaicentre.org
SUMMARY:Open House
DESCRIPTION:
URL:https://www.vancouversaicentre.org/event/open-house-2/2028-12-09/
LOCATION:Sri Sathya Sai Centre of BC\, 2215\, E Pender St\, Vancouver\, BC\, V5L1X5\, Canada
END:VEVENT
BEGIN:VEVENT
DTSTART;TZID=America/Vancouver:20281216T110000
DTEND;TZID=America/Vancouver:20281216T120000
DTSTAMP:20260424T042623
CREATED:20241101T190143Z
LAST-MODIFIED:20241101T193902Z
UID:10000781-1860577200-1860580800@www.vancouversaicentre.org
SUMMARY:Open House
DESCRIPTION:
URL:https://www.vancouversaicentre.org/event/open-house-2/2028-12-16/
LOCATION:Sri Sathya Sai Centre of BC\, 2215\, E Pender St\, Vancouver\, BC\, V5L1X5\, Canada
END:VEVENT
BEGIN:VEVENT
DTSTART;TZID=America/Vancouver:20281223T110000
DTEND;TZID=America/Vancouver:20281223T120000
DTSTAMP:20260424T042623
CREATED:20241101T190143Z
LAST-MODIFIED:20241101T193902Z
UID:10000782-1861182000-1861185600@www.vancouversaicentre.org
SUMMARY:Open House
DESCRIPTION:
URL:https://www.vancouversaicentre.org/event/open-house-2/2028-12-23/
LOCATION:Sri Sathya Sai Centre of BC\, 2215\, E Pender St\, Vancouver\, BC\, V5L1X5\, Canada
END:VEVENT
BEGIN:VEVENT
DTSTART;TZID=America/Vancouver:20281230T110000
DTEND;TZID=America/Vancouver:20281230T120000
DTSTAMP:20260424T042623
CREATED:20241101T190143Z
LAST-MODIFIED:20241101T193902Z
UID:10000783-1861786800-1861790400@www.vancouversaicentre.org
SUMMARY:Open House
DESCRIPTION:
URL:https://www.vancouversaicentre.org/event/open-house-2/2028-12-30/
LOCATION:Sri Sathya Sai Centre of BC\, 2215\, E Pender St\, Vancouver\, BC\, V5L1X5\, Canada
END:VEVENT
BEGIN:VEVENT
DTSTART;TZID=America/Vancouver:20290106T110000
DTEND;TZID=America/Vancouver:20290106T120000
DTSTAMP:20260424T042623
CREATED:20241101T190143Z
LAST-MODIFIED:20241101T193902Z
UID:10000784-1862391600-1862395200@www.vancouversaicentre.org
SUMMARY:Open House
DESCRIPTION:
URL:https://www.vancouversaicentre.org/event/open-house-2/2029-01-06/
LOCATION:Sri Sathya Sai Centre of BC\, 2215\, E Pender St\, Vancouver\, BC\, V5L1X5\, Canada
END:VEVENT
BEGIN:VEVENT
DTSTART;TZID=America/Vancouver:20290113T110000
DTEND;TZID=America/Vancouver:20290113T120000
DTSTAMP:20260424T042623
CREATED:20241101T190143Z
LAST-MODIFIED:20241101T193902Z
UID:10000785-1862996400-1863000000@www.vancouversaicentre.org
SUMMARY:Open House
DESCRIPTION:
URL:https://www.vancouversaicentre.org/event/open-house-2/2029-01-13/
LOCATION:Sri Sathya Sai Centre of BC\, 2215\, E Pender St\, Vancouver\, BC\, V5L1X5\, Canada
END:VEVENT
BEGIN:VEVENT
DTSTART;TZID=America/Vancouver:20290120T110000
DTEND;TZID=America/Vancouver:20290120T120000
DTSTAMP:20260424T042623
CREATED:20241101T190143Z
LAST-MODIFIED:20241101T193902Z
UID:10000786-1863601200-1863604800@www.vancouversaicentre.org
SUMMARY:Open House
DESCRIPTION:
URL:https://www.vancouversaicentre.org/event/open-house-2/2029-01-20/
LOCATION:Sri Sathya Sai Centre of BC\, 2215\, E Pender St\, Vancouver\, BC\, V5L1X5\, Canada
END:VEVENT
BEGIN:VEVENT
DTSTART;TZID=America/Vancouver:20290127T110000
DTEND;TZID=America/Vancouver:20290127T120000
DTSTAMP:20260424T042623
CREATED:20241101T190143Z
LAST-MODIFIED:20241101T193902Z
UID:10000787-1864206000-1864209600@www.vancouversaicentre.org
SUMMARY:Open House
DESCRIPTION:
URL:https://www.vancouversaicentre.org/event/open-house-2/2029-01-27/
LOCATION:Sri Sathya Sai Centre of BC\, 2215\, E Pender St\, Vancouver\, BC\, V5L1X5\, Canada
END:VEVENT
BEGIN:VEVENT
DTSTART;TZID=America/Vancouver:20290203T110000
DTEND;TZID=America/Vancouver:20290203T120000
DTSTAMP:20260424T042623
CREATED:20241101T190143Z
LAST-MODIFIED:20241101T193902Z
UID:10000788-1864810800-1864814400@www.vancouversaicentre.org
SUMMARY:Open House
DESCRIPTION:
URL:https://www.vancouversaicentre.org/event/open-house-2/2029-02-03/
LOCATION:Sri Sathya Sai Centre of BC\, 2215\, E Pender St\, Vancouver\, BC\, V5L1X5\, Canada
END:VEVENT
BEGIN:VEVENT
DTSTART;TZID=America/Vancouver:20290210T110000
DTEND;TZID=America/Vancouver:20290210T120000
DTSTAMP:20260424T042623
CREATED:20241101T190143Z
LAST-MODIFIED:20241101T193902Z
UID:10000789-1865415600-1865419200@www.vancouversaicentre.org
SUMMARY:Open House
DESCRIPTION:
URL:https://www.vancouversaicentre.org/event/open-house-2/2029-02-10/
LOCATION:Sri Sathya Sai Centre of BC\, 2215\, E Pender St\, Vancouver\, BC\, V5L1X5\, Canada
END:VEVENT
BEGIN:VEVENT
DTSTART;TZID=America/Vancouver:20290217T110000
DTEND;TZID=America/Vancouver:20290217T120000
DTSTAMP:20260424T042623
CREATED:20241101T190143Z
LAST-MODIFIED:20241101T193902Z
UID:10000790-1866020400-1866024000@www.vancouversaicentre.org
SUMMARY:Open House
DESCRIPTION:
URL:https://www.vancouversaicentre.org/event/open-house-2/2029-02-17/
LOCATION:Sri Sathya Sai Centre of BC\, 2215\, E Pender St\, Vancouver\, BC\, V5L1X5\, Canada
END:VEVENT
BEGIN:VEVENT
DTSTART;TZID=America/Vancouver:20290224T110000
DTEND;TZID=America/Vancouver:20290224T120000
DTSTAMP:20260424T042623
CREATED:20241101T190143Z
LAST-MODIFIED:20241101T193902Z
UID:10000791-1866625200-1866628800@www.vancouversaicentre.org
SUMMARY:Open House
DESCRIPTION:
URL:https://www.vancouversaicentre.org/event/open-house-2/2029-02-24/
LOCATION:Sri Sathya Sai Centre of BC\, 2215\, E Pender St\, Vancouver\, BC\, V5L1X5\, Canada
END:VEVENT
BEGIN:VEVENT
DTSTART;TZID=America/Vancouver:20290303T110000
DTEND;TZID=America/Vancouver:20290303T120000
DTSTAMP:20260424T042623
CREATED:20241101T190143Z
LAST-MODIFIED:20241101T193902Z
UID:10000792-1867230000-1867233600@www.vancouversaicentre.org
SUMMARY:Open House
DESCRIPTION:
URL:https://www.vancouversaicentre.org/event/open-house-2/2029-03-03/
LOCATION:Sri Sathya Sai Centre of BC\, 2215\, E Pender St\, Vancouver\, BC\, V5L1X5\, Canada
END:VEVENT
BEGIN:VEVENT
DTSTART;TZID=America/Vancouver:20290310T110000
DTEND;TZID=America/Vancouver:20290310T120000
DTSTAMP:20260424T042623
CREATED:20241101T190143Z
LAST-MODIFIED:20241101T193902Z
UID:10000793-1867834800-1867838400@www.vancouversaicentre.org
SUMMARY:Open House
DESCRIPTION:
URL:https://www.vancouversaicentre.org/event/open-house-2/2029-03-10/
LOCATION:Sri Sathya Sai Centre of BC\, 2215\, E Pender St\, Vancouver\, BC\, V5L1X5\, Canada
END:VEVENT
BEGIN:VEVENT
DTSTART;TZID=America/Vancouver:20290317T110000
DTEND;TZID=America/Vancouver:20290317T120000
DTSTAMP:20260424T042623
CREATED:20241101T190143Z
LAST-MODIFIED:20241101T193902Z
UID:10000794-1868439600-1868443200@www.vancouversaicentre.org
SUMMARY:Open House
DESCRIPTION:
URL:https://www.vancouversaicentre.org/event/open-house-2/2029-03-17/
LOCATION:Sri Sathya Sai Centre of BC\, 2215\, E Pender St\, Vancouver\, BC\, V5L1X5\, Canada
END:VEVENT
BEGIN:VEVENT
DTSTART;TZID=America/Vancouver:20290324T110000
DTEND;TZID=America/Vancouver:20290324T120000
DTSTAMP:20260424T042623
CREATED:20241101T190143Z
LAST-MODIFIED:20241101T193902Z
UID:10000795-1869044400-1869048000@www.vancouversaicentre.org
SUMMARY:Open House
DESCRIPTION:
URL:https://www.vancouversaicentre.org/event/open-house-2/2029-03-24/
LOCATION:Sri Sathya Sai Centre of BC\, 2215\, E Pender St\, Vancouver\, BC\, V5L1X5\, Canada
END:VEVENT
BEGIN:VEVENT
DTSTART;TZID=America/Vancouver:20290331T110000
DTEND;TZID=America/Vancouver:20290331T120000
DTSTAMP:20260424T042623
CREATED:20241101T190143Z
LAST-MODIFIED:20241101T193902Z
UID:10000796-1869649200-1869652800@www.vancouversaicentre.org
SUMMARY:Open House
DESCRIPTION:
URL:https://www.vancouversaicentre.org/event/open-house-2/2029-03-31/
LOCATION:Sri Sathya Sai Centre of BC\, 2215\, E Pender St\, Vancouver\, BC\, V5L1X5\, Canada
END:VEVENT
BEGIN:VEVENT
DTSTART;TZID=America/Vancouver:20290407T110000
DTEND;TZID=America/Vancouver:20290407T120000
DTSTAMP:20260424T042623
CREATED:20241101T190143Z
LAST-MODIFIED:20241101T193902Z
UID:10000797-1870254000-1870257600@www.vancouversaicentre.org
SUMMARY:Open House
DESCRIPTION:
URL:https://www.vancouversaicentre.org/event/open-house-2/2029-04-07/
LOCATION:Sri Sathya Sai Centre of BC\, 2215\, E Pender St\, Vancouver\, BC\, V5L1X5\, Canada
END:VEVENT
BEGIN:VEVENT
DTSTART;TZID=America/Vancouver:20290414T110000
DTEND;TZID=America/Vancouver:20290414T120000
DTSTAMP:20260424T042623
CREATED:20241101T190143Z
LAST-MODIFIED:20241101T193902Z
UID:10000798-1870858800-1870862400@www.vancouversaicentre.org
SUMMARY:Open House
DESCRIPTION:
URL:https://www.vancouversaicentre.org/event/open-house-2/2029-04-14/
LOCATION:Sri Sathya Sai Centre of BC\, 2215\, E Pender St\, Vancouver\, BC\, V5L1X5\, Canada
END:VEVENT
BEGIN:VEVENT
DTSTART;TZID=America/Vancouver:20290421T110000
DTEND;TZID=America/Vancouver:20290421T120000
DTSTAMP:20260424T042623
CREATED:20241101T190143Z
LAST-MODIFIED:20241101T193902Z
UID:10000799-1871463600-1871467200@www.vancouversaicentre.org
SUMMARY:Open House
DESCRIPTION:
URL:https://www.vancouversaicentre.org/event/open-house-2/2029-04-21/
LOCATION:Sri Sathya Sai Centre of BC\, 2215\, E Pender St\, Vancouver\, BC\, V5L1X5\, Canada
END:VEVENT
BEGIN:VEVENT
DTSTART;TZID=America/Vancouver:20290428T110000
DTEND;TZID=America/Vancouver:20290428T120000
DTSTAMP:20260424T042623
CREATED:20241101T190143Z
LAST-MODIFIED:20241101T193902Z
UID:10000800-1872068400-1872072000@www.vancouversaicentre.org
SUMMARY:Open House
DESCRIPTION:
URL:https://www.vancouversaicentre.org/event/open-house-2/2029-04-28/
LOCATION:Sri Sathya Sai Centre of BC\, 2215\, E Pender St\, Vancouver\, BC\, V5L1X5\, Canada
END:VEVENT
BEGIN:VEVENT
DTSTART;TZID=America/Vancouver:20290505T110000
DTEND;TZID=America/Vancouver:20290505T120000
DTSTAMP:20260424T042623
CREATED:20241101T190143Z
LAST-MODIFIED:20241101T193902Z
UID:10000801-1872673200-1872676800@www.vancouversaicentre.org
SUMMARY:Open House
DESCRIPTION:
URL:https://www.vancouversaicentre.org/event/open-house-2/2029-05-05/
LOCATION:Sri Sathya Sai Centre of BC\, 2215\, E Pender St\, Vancouver\, BC\, V5L1X5\, Canada
END:VEVENT
BEGIN:VEVENT
DTSTART;TZID=America/Vancouver:20290512T110000
DTEND;TZID=America/Vancouver:20290512T120000
DTSTAMP:20260424T042623
CREATED:20241101T190143Z
LAST-MODIFIED:20241101T193902Z
UID:10000802-1873278000-1873281600@www.vancouversaicentre.org
SUMMARY:Open House
DESCRIPTION:
URL:https://www.vancouversaicentre.org/event/open-house-2/2029-05-12/
LOCATION:Sri Sathya Sai Centre of BC\, 2215\, E Pender St\, Vancouver\, BC\, V5L1X5\, Canada
END:VEVENT
END:VCALENDAR