BEGIN:VCALENDAR
VERSION:2.0
PRODID:-//Sri Sathya Sai Community Centre of British Columbia - ECPv6.15.20//NONSGML v1.0//EN
CALSCALE:GREGORIAN
METHOD:PUBLISH
X-WR-CALNAME:Sri Sathya Sai Community Centre of British Columbia
X-ORIGINAL-URL:https://www.vancouversaicentre.org
X-WR-CALDESC:Events for Sri Sathya Sai Community Centre of British Columbia
REFRESH-INTERVAL;VALUE=DURATION:PT1H
X-Robots-Tag:noindex
X-PUBLISHED-TTL:PT1H
BEGIN:VTIMEZONE
TZID:America/Vancouver
BEGIN:DAYLIGHT
TZOFFSETFROM:-0800
TZOFFSETTO:-0700
TZNAME:PDT
DTSTART:20240310T100000
END:DAYLIGHT
BEGIN:STANDARD
TZOFFSETFROM:-0700
TZOFFSETTO:-0800
TZNAME:PST
DTSTART:20241103T090000
END:STANDARD
BEGIN:DAYLIGHT
TZOFFSETFROM:-0800
TZOFFSETTO:-0700
TZNAME:PDT
DTSTART:20250309T100000
END:DAYLIGHT
BEGIN:STANDARD
TZOFFSETFROM:-0700
TZOFFSETTO:-0800
TZNAME:PST
DTSTART:20251102T090000
END:STANDARD
BEGIN:DAYLIGHT
TZOFFSETFROM:-0800
TZOFFSETTO:-0700
TZNAME:PDT
DTSTART:20260308T100000
END:DAYLIGHT
BEGIN:STANDARD
TZOFFSETFROM:-0700
TZOFFSETTO:-0800
TZNAME:PST
DTSTART:20261101T090000
END:STANDARD
BEGIN:DAYLIGHT
TZOFFSETFROM:-0800
TZOFFSETTO:-0700
TZNAME:PDT
DTSTART:20270314T100000
END:DAYLIGHT
BEGIN:STANDARD
TZOFFSETFROM:-0700
TZOFFSETTO:-0800
TZNAME:PST
DTSTART:20271107T090000
END:STANDARD
END:VTIMEZONE
BEGIN:VEVENT
DTSTART;TZID=America/Vancouver:20260207T110000
DTEND;TZID=America/Vancouver:20260207T120000
DTSTAMP:20260423T113402
CREATED:20241101T190143Z
LAST-MODIFIED:20241101T193902Z
UID:10000632-1770462000-1770465600@www.vancouversaicentre.org
SUMMARY:Open House
DESCRIPTION:
URL:https://www.vancouversaicentre.org/event/open-house-2/2026-02-07/
LOCATION:Sri Sathya Sai Centre of BC\, 2215\, E Pender St\, Vancouver\, BC\, V5L1X5\, Canada
END:VEVENT
BEGIN:VEVENT
DTSTART;TZID=America/Vancouver:20260131T110000
DTEND;TZID=America/Vancouver:20260131T120000
DTSTAMP:20260423T113402
CREATED:20241101T190143Z
LAST-MODIFIED:20241101T193902Z
UID:10000631-1769857200-1769860800@www.vancouversaicentre.org
SUMMARY:Open House
DESCRIPTION:
URL:https://www.vancouversaicentre.org/event/open-house-2/2026-01-31/
LOCATION:Sri Sathya Sai Centre of BC\, 2215\, E Pender St\, Vancouver\, BC\, V5L1X5\, Canada
END:VEVENT
BEGIN:VEVENT
DTSTART;TZID=America/Vancouver:20260124T110000
DTEND;TZID=America/Vancouver:20260124T120000
DTSTAMP:20260423T113402
CREATED:20241101T190143Z
LAST-MODIFIED:20241101T193902Z
UID:10000630-1769252400-1769256000@www.vancouversaicentre.org
SUMMARY:Open House
DESCRIPTION:
URL:https://www.vancouversaicentre.org/event/open-house-2/2026-01-24/
LOCATION:Sri Sathya Sai Centre of BC\, 2215\, E Pender St\, Vancouver\, BC\, V5L1X5\, Canada
END:VEVENT
BEGIN:VEVENT
DTSTART;TZID=America/Vancouver:20260117T110000
DTEND;TZID=America/Vancouver:20260117T120000
DTSTAMP:20260423T113402
CREATED:20241101T190143Z
LAST-MODIFIED:20241101T193902Z
UID:10000629-1768647600-1768651200@www.vancouversaicentre.org
SUMMARY:Open House
DESCRIPTION:
URL:https://www.vancouversaicentre.org/event/open-house-2/2026-01-17/
LOCATION:Sri Sathya Sai Centre of BC\, 2215\, E Pender St\, Vancouver\, BC\, V5L1X5\, Canada
END:VEVENT
BEGIN:VEVENT
DTSTART;TZID=America/Vancouver:20260110T110000
DTEND;TZID=America/Vancouver:20260110T120000
DTSTAMP:20260423T113402
CREATED:20241101T190143Z
LAST-MODIFIED:20241101T193902Z
UID:10000628-1768042800-1768046400@www.vancouversaicentre.org
SUMMARY:Open House
DESCRIPTION:
URL:https://www.vancouversaicentre.org/event/open-house-2/2026-01-10/
LOCATION:Sri Sathya Sai Centre of BC\, 2215\, E Pender St\, Vancouver\, BC\, V5L1X5\, Canada
END:VEVENT
BEGIN:VEVENT
DTSTART;TZID=America/Vancouver:20260103T110000
DTEND;TZID=America/Vancouver:20260103T120000
DTSTAMP:20260423T113402
CREATED:20241101T190143Z
LAST-MODIFIED:20241101T193902Z
UID:10000627-1767438000-1767441600@www.vancouversaicentre.org
SUMMARY:Open House
DESCRIPTION:
URL:https://www.vancouversaicentre.org/event/open-house-2/2026-01-03/
LOCATION:Sri Sathya Sai Centre of BC\, 2215\, E Pender St\, Vancouver\, BC\, V5L1X5\, Canada
END:VEVENT
BEGIN:VEVENT
DTSTART;TZID=America/Vancouver:20251227T110000
DTEND;TZID=America/Vancouver:20251227T120000
DTSTAMP:20260423T113402
CREATED:20241101T190143Z
LAST-MODIFIED:20241101T193902Z
UID:10000626-1766833200-1766836800@www.vancouversaicentre.org
SUMMARY:Open House
DESCRIPTION:
URL:https://www.vancouversaicentre.org/event/open-house-2/2025-12-27/
LOCATION:Sri Sathya Sai Centre of BC\, 2215\, E Pender St\, Vancouver\, BC\, V5L1X5\, Canada
END:VEVENT
BEGIN:VEVENT
DTSTART;TZID=America/Vancouver:20251220T110000
DTEND;TZID=America/Vancouver:20251220T120000
DTSTAMP:20260423T113402
CREATED:20241101T190143Z
LAST-MODIFIED:20241101T193902Z
UID:10000625-1766228400-1766232000@www.vancouversaicentre.org
SUMMARY:Open House
DESCRIPTION:
URL:https://www.vancouversaicentre.org/event/open-house-2/2025-12-20/
LOCATION:Sri Sathya Sai Centre of BC\, 2215\, E Pender St\, Vancouver\, BC\, V5L1X5\, Canada
END:VEVENT
BEGIN:VEVENT
DTSTART;TZID=America/Vancouver:20251213T110000
DTEND;TZID=America/Vancouver:20251213T120000
DTSTAMP:20260423T113402
CREATED:20241101T190143Z
LAST-MODIFIED:20241101T193902Z
UID:10000624-1765623600-1765627200@www.vancouversaicentre.org
SUMMARY:Open House
DESCRIPTION:
URL:https://www.vancouversaicentre.org/event/open-house-2/2025-12-13/
LOCATION:Sri Sathya Sai Centre of BC\, 2215\, E Pender St\, Vancouver\, BC\, V5L1X5\, Canada
END:VEVENT
BEGIN:VEVENT
DTSTART;TZID=America/Vancouver:20251206T110000
DTEND;TZID=America/Vancouver:20251206T120000
DTSTAMP:20260423T113402
CREATED:20241101T190143Z
LAST-MODIFIED:20241101T193902Z
UID:10000623-1765018800-1765022400@www.vancouversaicentre.org
SUMMARY:Open House
DESCRIPTION:
URL:https://www.vancouversaicentre.org/event/open-house-2/2025-12-06/
LOCATION:Sri Sathya Sai Centre of BC\, 2215\, E Pender St\, Vancouver\, BC\, V5L1X5\, Canada
END:VEVENT
BEGIN:VEVENT
DTSTART;TZID=America/Vancouver:20251129T110000
DTEND;TZID=America/Vancouver:20251129T120000
DTSTAMP:20260423T113402
CREATED:20241101T190143Z
LAST-MODIFIED:20241101T193902Z
UID:10000622-1764414000-1764417600@www.vancouversaicentre.org
SUMMARY:Open House
DESCRIPTION:
URL:https://www.vancouversaicentre.org/event/open-house-2/2025-11-29/
LOCATION:Sri Sathya Sai Centre of BC\, 2215\, E Pender St\, Vancouver\, BC\, V5L1X5\, Canada
END:VEVENT
BEGIN:VEVENT
DTSTART;TZID=America/Vancouver:20251122T110000
DTEND;TZID=America/Vancouver:20251122T120000
DTSTAMP:20260423T113402
CREATED:20241101T190143Z
LAST-MODIFIED:20241101T193902Z
UID:10000621-1763809200-1763812800@www.vancouversaicentre.org
SUMMARY:Open House
DESCRIPTION:
URL:https://www.vancouversaicentre.org/event/open-house-2/2025-11-22/
LOCATION:Sri Sathya Sai Centre of BC\, 2215\, E Pender St\, Vancouver\, BC\, V5L1X5\, Canada
END:VEVENT
BEGIN:VEVENT
DTSTART;TZID=America/Vancouver:20251115T110000
DTEND;TZID=America/Vancouver:20251115T120000
DTSTAMP:20260423T113402
CREATED:20241101T190143Z
LAST-MODIFIED:20241101T193902Z
UID:10000620-1763204400-1763208000@www.vancouversaicentre.org
SUMMARY:Open House
DESCRIPTION:
URL:https://www.vancouversaicentre.org/event/open-house-2/2025-11-15/
LOCATION:Sri Sathya Sai Centre of BC\, 2215\, E Pender St\, Vancouver\, BC\, V5L1X5\, Canada
END:VEVENT
BEGIN:VEVENT
DTSTART;TZID=America/Vancouver:20251108T110000
DTEND;TZID=America/Vancouver:20251108T120000
DTSTAMP:20260423T113402
CREATED:20241101T190143Z
LAST-MODIFIED:20241101T193902Z
UID:10000619-1762599600-1762603200@www.vancouversaicentre.org
SUMMARY:Open House
DESCRIPTION:
URL:https://www.vancouversaicentre.org/event/open-house-2/2025-11-08/
LOCATION:Sri Sathya Sai Centre of BC\, 2215\, E Pender St\, Vancouver\, BC\, V5L1X5\, Canada
END:VEVENT
BEGIN:VEVENT
DTSTART;TZID=America/Vancouver:20251101T110000
DTEND;TZID=America/Vancouver:20251101T120000
DTSTAMP:20260423T113402
CREATED:20241101T190143Z
LAST-MODIFIED:20241101T193902Z
UID:10000618-1761994800-1761998400@www.vancouversaicentre.org
SUMMARY:Open House
DESCRIPTION:
URL:https://www.vancouversaicentre.org/event/open-house-2/2025-11-01/
LOCATION:Sri Sathya Sai Centre of BC\, 2215\, E Pender St\, Vancouver\, BC\, V5L1X5\, Canada
END:VEVENT
BEGIN:VEVENT
DTSTART;TZID=America/Vancouver:20251025T110000
DTEND;TZID=America/Vancouver:20251025T120000
DTSTAMP:20260423T113402
CREATED:20241101T190143Z
LAST-MODIFIED:20241101T193902Z
UID:10000617-1761390000-1761393600@www.vancouversaicentre.org
SUMMARY:Open House
DESCRIPTION:
URL:https://www.vancouversaicentre.org/event/open-house-2/2025-10-25/
LOCATION:Sri Sathya Sai Centre of BC\, 2215\, E Pender St\, Vancouver\, BC\, V5L1X5\, Canada
END:VEVENT
BEGIN:VEVENT
DTSTART;TZID=America/Vancouver:20251018T110000
DTEND;TZID=America/Vancouver:20251018T120000
DTSTAMP:20260423T113402
CREATED:20241101T190143Z
LAST-MODIFIED:20241101T193902Z
UID:10000616-1760785200-1760788800@www.vancouversaicentre.org
SUMMARY:Open House
DESCRIPTION:
URL:https://www.vancouversaicentre.org/event/open-house-2/2025-10-18/
LOCATION:Sri Sathya Sai Centre of BC\, 2215\, E Pender St\, Vancouver\, BC\, V5L1X5\, Canada
END:VEVENT
BEGIN:VEVENT
DTSTART;TZID=America/Vancouver:20251011T110000
DTEND;TZID=America/Vancouver:20251011T120000
DTSTAMP:20260423T113402
CREATED:20241101T190143Z
LAST-MODIFIED:20241101T193902Z
UID:10000615-1760180400-1760184000@www.vancouversaicentre.org
SUMMARY:Open House
DESCRIPTION:
URL:https://www.vancouversaicentre.org/event/open-house-2/2025-10-11/
LOCATION:Sri Sathya Sai Centre of BC\, 2215\, E Pender St\, Vancouver\, BC\, V5L1X5\, Canada
END:VEVENT
BEGIN:VEVENT
DTSTART;TZID=America/Vancouver:20251004T110000
DTEND;TZID=America/Vancouver:20251004T120000
DTSTAMP:20260423T113402
CREATED:20241101T190143Z
LAST-MODIFIED:20241101T193902Z
UID:10000614-1759575600-1759579200@www.vancouversaicentre.org
SUMMARY:Open House
DESCRIPTION:
URL:https://www.vancouversaicentre.org/event/open-house-2/2025-10-04/
LOCATION:Sri Sathya Sai Centre of BC\, 2215\, E Pender St\, Vancouver\, BC\, V5L1X5\, Canada
END:VEVENT
BEGIN:VEVENT
DTSTART;TZID=America/Vancouver:20250927T110000
DTEND;TZID=America/Vancouver:20250927T120000
DTSTAMP:20260423T113402
CREATED:20241101T190143Z
LAST-MODIFIED:20241101T193902Z
UID:10000613-1758970800-1758974400@www.vancouversaicentre.org
SUMMARY:Open House
DESCRIPTION:
URL:https://www.vancouversaicentre.org/event/open-house-2/2025-09-27/
LOCATION:Sri Sathya Sai Centre of BC\, 2215\, E Pender St\, Vancouver\, BC\, V5L1X5\, Canada
END:VEVENT
BEGIN:VEVENT
DTSTART;TZID=America/Vancouver:20250920T110000
DTEND;TZID=America/Vancouver:20250920T120000
DTSTAMP:20260423T113402
CREATED:20241101T190143Z
LAST-MODIFIED:20241101T193902Z
UID:10000612-1758366000-1758369600@www.vancouversaicentre.org
SUMMARY:Open House
DESCRIPTION:
URL:https://www.vancouversaicentre.org/event/open-house-2/2025-09-20/
LOCATION:Sri Sathya Sai Centre of BC\, 2215\, E Pender St\, Vancouver\, BC\, V5L1X5\, Canada
END:VEVENT
BEGIN:VEVENT
DTSTART;TZID=America/Vancouver:20250913T110000
DTEND;TZID=America/Vancouver:20250913T120000
DTSTAMP:20260423T113402
CREATED:20241101T190143Z
LAST-MODIFIED:20241101T193902Z
UID:10000611-1757761200-1757764800@www.vancouversaicentre.org
SUMMARY:Open House
DESCRIPTION:
URL:https://www.vancouversaicentre.org/event/open-house-2/2025-09-13/
LOCATION:Sri Sathya Sai Centre of BC\, 2215\, E Pender St\, Vancouver\, BC\, V5L1X5\, Canada
END:VEVENT
BEGIN:VEVENT
DTSTART;TZID=America/Vancouver:20250906T110000
DTEND;TZID=America/Vancouver:20250906T120000
DTSTAMP:20260423T113402
CREATED:20241101T190143Z
LAST-MODIFIED:20241101T193902Z
UID:10000610-1757156400-1757160000@www.vancouversaicentre.org
SUMMARY:Open House
DESCRIPTION:
URL:https://www.vancouversaicentre.org/event/open-house-2/2025-09-06/
LOCATION:Sri Sathya Sai Centre of BC\, 2215\, E Pender St\, Vancouver\, BC\, V5L1X5\, Canada
END:VEVENT
BEGIN:VEVENT
DTSTART;TZID=America/Vancouver:20250830T110000
DTEND;TZID=America/Vancouver:20250830T120000
DTSTAMP:20260423T113402
CREATED:20241101T190143Z
LAST-MODIFIED:20241101T193902Z
UID:10000609-1756551600-1756555200@www.vancouversaicentre.org
SUMMARY:Open House
DESCRIPTION:
URL:https://www.vancouversaicentre.org/event/open-house-2/2025-08-30/
LOCATION:Sri Sathya Sai Centre of BC\, 2215\, E Pender St\, Vancouver\, BC\, V5L1X5\, Canada
END:VEVENT
BEGIN:VEVENT
DTSTART;TZID=America/Vancouver:20250823T110000
DTEND;TZID=America/Vancouver:20250823T120000
DTSTAMP:20260423T113402
CREATED:20241101T190143Z
LAST-MODIFIED:20241101T193902Z
UID:10000608-1755946800-1755950400@www.vancouversaicentre.org
SUMMARY:Open House
DESCRIPTION:
URL:https://www.vancouversaicentre.org/event/open-house-2/2025-08-23/
LOCATION:Sri Sathya Sai Centre of BC\, 2215\, E Pender St\, Vancouver\, BC\, V5L1X5\, Canada
END:VEVENT
BEGIN:VEVENT
DTSTART;TZID=America/Vancouver:20250816T110000
DTEND;TZID=America/Vancouver:20250816T120000
DTSTAMP:20260423T113402
CREATED:20241101T190143Z
LAST-MODIFIED:20241101T193902Z
UID:10000607-1755342000-1755345600@www.vancouversaicentre.org
SUMMARY:Open House
DESCRIPTION:
URL:https://www.vancouversaicentre.org/event/open-house-2/2025-08-16/
LOCATION:Sri Sathya Sai Centre of BC\, 2215\, E Pender St\, Vancouver\, BC\, V5L1X5\, Canada
END:VEVENT
BEGIN:VEVENT
DTSTART;TZID=America/Vancouver:20250809T110000
DTEND;TZID=America/Vancouver:20250809T120000
DTSTAMP:20260423T113402
CREATED:20241101T190143Z
LAST-MODIFIED:20241101T193902Z
UID:10000606-1754737200-1754740800@www.vancouversaicentre.org
SUMMARY:Open House
DESCRIPTION:
URL:https://www.vancouversaicentre.org/event/open-house-2/2025-08-09/
LOCATION:Sri Sathya Sai Centre of BC\, 2215\, E Pender St\, Vancouver\, BC\, V5L1X5\, Canada
END:VEVENT
BEGIN:VEVENT
DTSTART;TZID=America/Vancouver:20250802T110000
DTEND;TZID=America/Vancouver:20250802T120000
DTSTAMP:20260423T113402
CREATED:20241101T190143Z
LAST-MODIFIED:20241101T193902Z
UID:10000605-1754132400-1754136000@www.vancouversaicentre.org
SUMMARY:Open House
DESCRIPTION:
URL:https://www.vancouversaicentre.org/event/open-house-2/2025-08-02/
LOCATION:Sri Sathya Sai Centre of BC\, 2215\, E Pender St\, Vancouver\, BC\, V5L1X5\, Canada
END:VEVENT
BEGIN:VEVENT
DTSTART;TZID=America/Vancouver:20250726T110000
DTEND;TZID=America/Vancouver:20250726T120000
DTSTAMP:20260423T113402
CREATED:20241101T190143Z
LAST-MODIFIED:20241101T193902Z
UID:10000604-1753527600-1753531200@www.vancouversaicentre.org
SUMMARY:Open House
DESCRIPTION:
URL:https://www.vancouversaicentre.org/event/open-house-2/2025-07-26/
LOCATION:Sri Sathya Sai Centre of BC\, 2215\, E Pender St\, Vancouver\, BC\, V5L1X5\, Canada
END:VEVENT
BEGIN:VEVENT
DTSTART;TZID=America/Vancouver:20250719T110000
DTEND;TZID=America/Vancouver:20250719T120000
DTSTAMP:20260423T113402
CREATED:20241101T190143Z
LAST-MODIFIED:20241101T193902Z
UID:10000603-1752922800-1752926400@www.vancouversaicentre.org
SUMMARY:Open House
DESCRIPTION:
URL:https://www.vancouversaicentre.org/event/open-house-2/2025-07-19/
LOCATION:Sri Sathya Sai Centre of BC\, 2215\, E Pender St\, Vancouver\, BC\, V5L1X5\, Canada
END:VEVENT
END:VCALENDAR