BEGIN:VCALENDAR
VERSION:2.0
PRODID:-//Sri Sathya Sai Community Centre of British Columbia - ECPv6.15.20//NONSGML v1.0//EN
CALSCALE:GREGORIAN
METHOD:PUBLISH
X-WR-CALNAME:Sri Sathya Sai Community Centre of British Columbia
X-ORIGINAL-URL:https://www.vancouversaicentre.org
X-WR-CALDESC:Events for Sri Sathya Sai Community Centre of British Columbia
REFRESH-INTERVAL;VALUE=DURATION:PT1H
X-Robots-Tag:noindex
X-PUBLISHED-TTL:PT1H
BEGIN:VTIMEZONE
TZID:America/Vancouver
BEGIN:DAYLIGHT
TZOFFSETFROM:-0800
TZOFFSETTO:-0700
TZNAME:PDT
DTSTART:20250309T100000
END:DAYLIGHT
BEGIN:STANDARD
TZOFFSETFROM:-0700
TZOFFSETTO:-0800
TZNAME:PST
DTSTART:20251102T090000
END:STANDARD
BEGIN:DAYLIGHT
TZOFFSETFROM:-0800
TZOFFSETTO:-0700
TZNAME:PDT
DTSTART:20260308T100000
END:DAYLIGHT
BEGIN:STANDARD
TZOFFSETFROM:-0700
TZOFFSETTO:-0800
TZNAME:PST
DTSTART:20261101T090000
END:STANDARD
BEGIN:DAYLIGHT
TZOFFSETFROM:-0800
TZOFFSETTO:-0700
TZNAME:PDT
DTSTART:20270314T100000
END:DAYLIGHT
BEGIN:STANDARD
TZOFFSETFROM:-0700
TZOFFSETTO:-0800
TZNAME:PST
DTSTART:20271107T090000
END:STANDARD
BEGIN:DAYLIGHT
TZOFFSETFROM:-0800
TZOFFSETTO:-0700
TZNAME:PDT
DTSTART:20280312T100000
END:DAYLIGHT
BEGIN:STANDARD
TZOFFSETFROM:-0700
TZOFFSETTO:-0800
TZNAME:PST
DTSTART:20281105T090000
END:STANDARD
END:VTIMEZONE
BEGIN:VEVENT
DTSTART;TZID=America/Vancouver:20260704T110000
DTEND;TZID=America/Vancouver:20260704T120000
DTSTAMP:20260423T094447
CREATED:20241101T190143Z
LAST-MODIFIED:20241101T193902Z
UID:10000653-1783162800-1783166400@www.vancouversaicentre.org
SUMMARY:Open House
DESCRIPTION:
URL:https://www.vancouversaicentre.org/event/open-house-2/2026-07-04/
LOCATION:Sri Sathya Sai Centre of BC\, 2215\, E Pender St\, Vancouver\, BC\, V5L1X5\, Canada
END:VEVENT
BEGIN:VEVENT
DTSTART;TZID=America/Vancouver:20260711T110000
DTEND;TZID=America/Vancouver:20260711T120000
DTSTAMP:20260423T094447
CREATED:20241101T190143Z
LAST-MODIFIED:20241101T193902Z
UID:10000654-1783767600-1783771200@www.vancouversaicentre.org
SUMMARY:Open House
DESCRIPTION:
URL:https://www.vancouversaicentre.org/event/open-house-2/2026-07-11/
LOCATION:Sri Sathya Sai Centre of BC\, 2215\, E Pender St\, Vancouver\, BC\, V5L1X5\, Canada
END:VEVENT
BEGIN:VEVENT
DTSTART;TZID=America/Vancouver:20260718T110000
DTEND;TZID=America/Vancouver:20260718T120000
DTSTAMP:20260423T094447
CREATED:20241101T190143Z
LAST-MODIFIED:20241101T193902Z
UID:10000655-1784372400-1784376000@www.vancouversaicentre.org
SUMMARY:Open House
DESCRIPTION:
URL:https://www.vancouversaicentre.org/event/open-house-2/2026-07-18/
LOCATION:Sri Sathya Sai Centre of BC\, 2215\, E Pender St\, Vancouver\, BC\, V5L1X5\, Canada
END:VEVENT
BEGIN:VEVENT
DTSTART;TZID=America/Vancouver:20260725T110000
DTEND;TZID=America/Vancouver:20260725T120000
DTSTAMP:20260423T094447
CREATED:20241101T190143Z
LAST-MODIFIED:20241101T193902Z
UID:10000656-1784977200-1784980800@www.vancouversaicentre.org
SUMMARY:Open House
DESCRIPTION:
URL:https://www.vancouversaicentre.org/event/open-house-2/2026-07-25/
LOCATION:Sri Sathya Sai Centre of BC\, 2215\, E Pender St\, Vancouver\, BC\, V5L1X5\, Canada
END:VEVENT
BEGIN:VEVENT
DTSTART;TZID=America/Vancouver:20260801T110000
DTEND;TZID=America/Vancouver:20260801T120000
DTSTAMP:20260423T094447
CREATED:20241101T190143Z
LAST-MODIFIED:20241101T193902Z
UID:10000657-1785582000-1785585600@www.vancouversaicentre.org
SUMMARY:Open House
DESCRIPTION:
URL:https://www.vancouversaicentre.org/event/open-house-2/2026-08-01/
LOCATION:Sri Sathya Sai Centre of BC\, 2215\, E Pender St\, Vancouver\, BC\, V5L1X5\, Canada
END:VEVENT
BEGIN:VEVENT
DTSTART;TZID=America/Vancouver:20260808T110000
DTEND;TZID=America/Vancouver:20260808T120000
DTSTAMP:20260423T094447
CREATED:20241101T190143Z
LAST-MODIFIED:20241101T193902Z
UID:10000658-1786186800-1786190400@www.vancouversaicentre.org
SUMMARY:Open House
DESCRIPTION:
URL:https://www.vancouversaicentre.org/event/open-house-2/2026-08-08/
LOCATION:Sri Sathya Sai Centre of BC\, 2215\, E Pender St\, Vancouver\, BC\, V5L1X5\, Canada
END:VEVENT
BEGIN:VEVENT
DTSTART;TZID=America/Vancouver:20260815T110000
DTEND;TZID=America/Vancouver:20260815T120000
DTSTAMP:20260423T094447
CREATED:20241101T190143Z
LAST-MODIFIED:20241101T193902Z
UID:10000659-1786791600-1786795200@www.vancouversaicentre.org
SUMMARY:Open House
DESCRIPTION:
URL:https://www.vancouversaicentre.org/event/open-house-2/2026-08-15/
LOCATION:Sri Sathya Sai Centre of BC\, 2215\, E Pender St\, Vancouver\, BC\, V5L1X5\, Canada
END:VEVENT
BEGIN:VEVENT
DTSTART;TZID=America/Vancouver:20260822T110000
DTEND;TZID=America/Vancouver:20260822T120000
DTSTAMP:20260423T094447
CREATED:20241101T190143Z
LAST-MODIFIED:20241101T193902Z
UID:10000660-1787396400-1787400000@www.vancouversaicentre.org
SUMMARY:Open House
DESCRIPTION:
URL:https://www.vancouversaicentre.org/event/open-house-2/2026-08-22/
LOCATION:Sri Sathya Sai Centre of BC\, 2215\, E Pender St\, Vancouver\, BC\, V5L1X5\, Canada
END:VEVENT
BEGIN:VEVENT
DTSTART;TZID=America/Vancouver:20260829T110000
DTEND;TZID=America/Vancouver:20260829T120000
DTSTAMP:20260423T094447
CREATED:20241101T190143Z
LAST-MODIFIED:20241101T193902Z
UID:10000661-1788001200-1788004800@www.vancouversaicentre.org
SUMMARY:Open House
DESCRIPTION:
URL:https://www.vancouversaicentre.org/event/open-house-2/2026-08-29/
LOCATION:Sri Sathya Sai Centre of BC\, 2215\, E Pender St\, Vancouver\, BC\, V5L1X5\, Canada
END:VEVENT
BEGIN:VEVENT
DTSTART;TZID=America/Vancouver:20260905T110000
DTEND;TZID=America/Vancouver:20260905T120000
DTSTAMP:20260423T094447
CREATED:20241101T190143Z
LAST-MODIFIED:20241101T193902Z
UID:10000662-1788606000-1788609600@www.vancouversaicentre.org
SUMMARY:Open House
DESCRIPTION:
URL:https://www.vancouversaicentre.org/event/open-house-2/2026-09-05/
LOCATION:Sri Sathya Sai Centre of BC\, 2215\, E Pender St\, Vancouver\, BC\, V5L1X5\, Canada
END:VEVENT
BEGIN:VEVENT
DTSTART;TZID=America/Vancouver:20260912T110000
DTEND;TZID=America/Vancouver:20260912T120000
DTSTAMP:20260423T094447
CREATED:20241101T190143Z
LAST-MODIFIED:20241101T193902Z
UID:10000663-1789210800-1789214400@www.vancouversaicentre.org
SUMMARY:Open House
DESCRIPTION:
URL:https://www.vancouversaicentre.org/event/open-house-2/2026-09-12/
LOCATION:Sri Sathya Sai Centre of BC\, 2215\, E Pender St\, Vancouver\, BC\, V5L1X5\, Canada
END:VEVENT
BEGIN:VEVENT
DTSTART;TZID=America/Vancouver:20260919T110000
DTEND;TZID=America/Vancouver:20260919T120000
DTSTAMP:20260423T094447
CREATED:20241101T190143Z
LAST-MODIFIED:20241101T193902Z
UID:10000664-1789815600-1789819200@www.vancouversaicentre.org
SUMMARY:Open House
DESCRIPTION:
URL:https://www.vancouversaicentre.org/event/open-house-2/2026-09-19/
LOCATION:Sri Sathya Sai Centre of BC\, 2215\, E Pender St\, Vancouver\, BC\, V5L1X5\, Canada
END:VEVENT
BEGIN:VEVENT
DTSTART;TZID=America/Vancouver:20260926T110000
DTEND;TZID=America/Vancouver:20260926T120000
DTSTAMP:20260423T094447
CREATED:20241101T190143Z
LAST-MODIFIED:20241101T193902Z
UID:10000665-1790420400-1790424000@www.vancouversaicentre.org
SUMMARY:Open House
DESCRIPTION:
URL:https://www.vancouversaicentre.org/event/open-house-2/2026-09-26/
LOCATION:Sri Sathya Sai Centre of BC\, 2215\, E Pender St\, Vancouver\, BC\, V5L1X5\, Canada
END:VEVENT
BEGIN:VEVENT
DTSTART;TZID=America/Vancouver:20261003T110000
DTEND;TZID=America/Vancouver:20261003T120000
DTSTAMP:20260423T094447
CREATED:20241101T190143Z
LAST-MODIFIED:20241101T193902Z
UID:10000666-1791025200-1791028800@www.vancouversaicentre.org
SUMMARY:Open House
DESCRIPTION:
URL:https://www.vancouversaicentre.org/event/open-house-2/2026-10-03/
LOCATION:Sri Sathya Sai Centre of BC\, 2215\, E Pender St\, Vancouver\, BC\, V5L1X5\, Canada
END:VEVENT
BEGIN:VEVENT
DTSTART;TZID=America/Vancouver:20261010T110000
DTEND;TZID=America/Vancouver:20261010T120000
DTSTAMP:20260423T094447
CREATED:20241101T190143Z
LAST-MODIFIED:20241101T193902Z
UID:10000667-1791630000-1791633600@www.vancouversaicentre.org
SUMMARY:Open House
DESCRIPTION:
URL:https://www.vancouversaicentre.org/event/open-house-2/2026-10-10/
LOCATION:Sri Sathya Sai Centre of BC\, 2215\, E Pender St\, Vancouver\, BC\, V5L1X5\, Canada
END:VEVENT
BEGIN:VEVENT
DTSTART;TZID=America/Vancouver:20261017T110000
DTEND;TZID=America/Vancouver:20261017T120000
DTSTAMP:20260423T094447
CREATED:20241101T190143Z
LAST-MODIFIED:20241101T193902Z
UID:10000668-1792234800-1792238400@www.vancouversaicentre.org
SUMMARY:Open House
DESCRIPTION:
URL:https://www.vancouversaicentre.org/event/open-house-2/2026-10-17/
LOCATION:Sri Sathya Sai Centre of BC\, 2215\, E Pender St\, Vancouver\, BC\, V5L1X5\, Canada
END:VEVENT
BEGIN:VEVENT
DTSTART;TZID=America/Vancouver:20261024T110000
DTEND;TZID=America/Vancouver:20261024T120000
DTSTAMP:20260423T094447
CREATED:20241101T190143Z
LAST-MODIFIED:20241101T193902Z
UID:10000669-1792839600-1792843200@www.vancouversaicentre.org
SUMMARY:Open House
DESCRIPTION:
URL:https://www.vancouversaicentre.org/event/open-house-2/2026-10-24/
LOCATION:Sri Sathya Sai Centre of BC\, 2215\, E Pender St\, Vancouver\, BC\, V5L1X5\, Canada
END:VEVENT
BEGIN:VEVENT
DTSTART;TZID=America/Vancouver:20261031T110000
DTEND;TZID=America/Vancouver:20261031T120000
DTSTAMP:20260423T094447
CREATED:20241101T190143Z
LAST-MODIFIED:20241101T193902Z
UID:10000670-1793444400-1793448000@www.vancouversaicentre.org
SUMMARY:Open House
DESCRIPTION:
URL:https://www.vancouversaicentre.org/event/open-house-2/2026-10-31/
LOCATION:Sri Sathya Sai Centre of BC\, 2215\, E Pender St\, Vancouver\, BC\, V5L1X5\, Canada
END:VEVENT
BEGIN:VEVENT
DTSTART;TZID=America/Vancouver:20261107T110000
DTEND;TZID=America/Vancouver:20261107T120000
DTSTAMP:20260423T094447
CREATED:20241101T190143Z
LAST-MODIFIED:20241101T193902Z
UID:10000671-1794049200-1794052800@www.vancouversaicentre.org
SUMMARY:Open House
DESCRIPTION:
URL:https://www.vancouversaicentre.org/event/open-house-2/2026-11-07/
LOCATION:Sri Sathya Sai Centre of BC\, 2215\, E Pender St\, Vancouver\, BC\, V5L1X5\, Canada
END:VEVENT
BEGIN:VEVENT
DTSTART;TZID=America/Vancouver:20261114T110000
DTEND;TZID=America/Vancouver:20261114T120000
DTSTAMP:20260423T094447
CREATED:20241101T190143Z
LAST-MODIFIED:20241101T193902Z
UID:10000672-1794654000-1794657600@www.vancouversaicentre.org
SUMMARY:Open House
DESCRIPTION:
URL:https://www.vancouversaicentre.org/event/open-house-2/2026-11-14/
LOCATION:Sri Sathya Sai Centre of BC\, 2215\, E Pender St\, Vancouver\, BC\, V5L1X5\, Canada
END:VEVENT
BEGIN:VEVENT
DTSTART;TZID=America/Vancouver:20261121T110000
DTEND;TZID=America/Vancouver:20261121T120000
DTSTAMP:20260423T094447
CREATED:20241101T190143Z
LAST-MODIFIED:20241101T193902Z
UID:10000673-1795258800-1795262400@www.vancouversaicentre.org
SUMMARY:Open House
DESCRIPTION:
URL:https://www.vancouversaicentre.org/event/open-house-2/2026-11-21/
LOCATION:Sri Sathya Sai Centre of BC\, 2215\, E Pender St\, Vancouver\, BC\, V5L1X5\, Canada
END:VEVENT
BEGIN:VEVENT
DTSTART;TZID=America/Vancouver:20261128T110000
DTEND;TZID=America/Vancouver:20261128T120000
DTSTAMP:20260423T094447
CREATED:20241101T190143Z
LAST-MODIFIED:20241101T193902Z
UID:10000674-1795863600-1795867200@www.vancouversaicentre.org
SUMMARY:Open House
DESCRIPTION:
URL:https://www.vancouversaicentre.org/event/open-house-2/2026-11-28/
LOCATION:Sri Sathya Sai Centre of BC\, 2215\, E Pender St\, Vancouver\, BC\, V5L1X5\, Canada
END:VEVENT
BEGIN:VEVENT
DTSTART;TZID=America/Vancouver:20261205T110000
DTEND;TZID=America/Vancouver:20261205T120000
DTSTAMP:20260423T094447
CREATED:20241101T190143Z
LAST-MODIFIED:20241101T193902Z
UID:10000675-1796468400-1796472000@www.vancouversaicentre.org
SUMMARY:Open House
DESCRIPTION:
URL:https://www.vancouversaicentre.org/event/open-house-2/2026-12-05/
LOCATION:Sri Sathya Sai Centre of BC\, 2215\, E Pender St\, Vancouver\, BC\, V5L1X5\, Canada
END:VEVENT
BEGIN:VEVENT
DTSTART;TZID=America/Vancouver:20261212T110000
DTEND;TZID=America/Vancouver:20261212T120000
DTSTAMP:20260423T094447
CREATED:20241101T190143Z
LAST-MODIFIED:20241101T193902Z
UID:10000676-1797073200-1797076800@www.vancouversaicentre.org
SUMMARY:Open House
DESCRIPTION:
URL:https://www.vancouversaicentre.org/event/open-house-2/2026-12-12/
LOCATION:Sri Sathya Sai Centre of BC\, 2215\, E Pender St\, Vancouver\, BC\, V5L1X5\, Canada
END:VEVENT
BEGIN:VEVENT
DTSTART;TZID=America/Vancouver:20261219T110000
DTEND;TZID=America/Vancouver:20261219T120000
DTSTAMP:20260423T094447
CREATED:20241101T190143Z
LAST-MODIFIED:20241101T193902Z
UID:10000677-1797678000-1797681600@www.vancouversaicentre.org
SUMMARY:Open House
DESCRIPTION:
URL:https://www.vancouversaicentre.org/event/open-house-2/2026-12-19/
LOCATION:Sri Sathya Sai Centre of BC\, 2215\, E Pender St\, Vancouver\, BC\, V5L1X5\, Canada
END:VEVENT
BEGIN:VEVENT
DTSTART;TZID=America/Vancouver:20261226T110000
DTEND;TZID=America/Vancouver:20261226T120000
DTSTAMP:20260423T094447
CREATED:20241101T190143Z
LAST-MODIFIED:20241101T193902Z
UID:10000678-1798282800-1798286400@www.vancouversaicentre.org
SUMMARY:Open House
DESCRIPTION:
URL:https://www.vancouversaicentre.org/event/open-house-2/2026-12-26/
LOCATION:Sri Sathya Sai Centre of BC\, 2215\, E Pender St\, Vancouver\, BC\, V5L1X5\, Canada
END:VEVENT
BEGIN:VEVENT
DTSTART;TZID=America/Vancouver:20270102T110000
DTEND;TZID=America/Vancouver:20270102T120000
DTSTAMP:20260423T094447
CREATED:20241101T190143Z
LAST-MODIFIED:20241101T193902Z
UID:10000679-1798887600-1798891200@www.vancouversaicentre.org
SUMMARY:Open House
DESCRIPTION:
URL:https://www.vancouversaicentre.org/event/open-house-2/2027-01-02/
LOCATION:Sri Sathya Sai Centre of BC\, 2215\, E Pender St\, Vancouver\, BC\, V5L1X5\, Canada
END:VEVENT
BEGIN:VEVENT
DTSTART;TZID=America/Vancouver:20270109T110000
DTEND;TZID=America/Vancouver:20270109T120000
DTSTAMP:20260423T094447
CREATED:20241101T190143Z
LAST-MODIFIED:20241101T193902Z
UID:10000680-1799492400-1799496000@www.vancouversaicentre.org
SUMMARY:Open House
DESCRIPTION:
URL:https://www.vancouversaicentre.org/event/open-house-2/2027-01-09/
LOCATION:Sri Sathya Sai Centre of BC\, 2215\, E Pender St\, Vancouver\, BC\, V5L1X5\, Canada
END:VEVENT
BEGIN:VEVENT
DTSTART;TZID=America/Vancouver:20270116T110000
DTEND;TZID=America/Vancouver:20270116T120000
DTSTAMP:20260423T094447
CREATED:20241101T190143Z
LAST-MODIFIED:20241101T193902Z
UID:10000681-1800097200-1800100800@www.vancouversaicentre.org
SUMMARY:Open House
DESCRIPTION:
URL:https://www.vancouversaicentre.org/event/open-house-2/2027-01-16/
LOCATION:Sri Sathya Sai Centre of BC\, 2215\, E Pender St\, Vancouver\, BC\, V5L1X5\, Canada
END:VEVENT
BEGIN:VEVENT
DTSTART;TZID=America/Vancouver:20270123T110000
DTEND;TZID=America/Vancouver:20270123T120000
DTSTAMP:20260423T094447
CREATED:20241101T190143Z
LAST-MODIFIED:20241101T193902Z
UID:10000682-1800702000-1800705600@www.vancouversaicentre.org
SUMMARY:Open House
DESCRIPTION:
URL:https://www.vancouversaicentre.org/event/open-house-2/2027-01-23/
LOCATION:Sri Sathya Sai Centre of BC\, 2215\, E Pender St\, Vancouver\, BC\, V5L1X5\, Canada
END:VEVENT
END:VCALENDAR