BEGIN:VCALENDAR
VERSION:2.0
PRODID:-//Sri Sathya Sai Community Centre of British Columbia - ECPv6.15.20//NONSGML v1.0//EN
CALSCALE:GREGORIAN
METHOD:PUBLISH
X-ORIGINAL-URL:https://www.vancouversaicentre.org
X-WR-CALDESC:Events for Sri Sathya Sai Community Centre of British Columbia
REFRESH-INTERVAL;VALUE=DURATION:PT1H
X-Robots-Tag:noindex
X-PUBLISHED-TTL:PT1H
BEGIN:VTIMEZONE
TZID:America/Vancouver
BEGIN:DAYLIGHT
TZOFFSETFROM:-0800
TZOFFSETTO:-0700
TZNAME:PDT
DTSTART:20230312T100000
END:DAYLIGHT
BEGIN:STANDARD
TZOFFSETFROM:-0700
TZOFFSETTO:-0800
TZNAME:PST
DTSTART:20231105T090000
END:STANDARD
BEGIN:DAYLIGHT
TZOFFSETFROM:-0800
TZOFFSETTO:-0700
TZNAME:PDT
DTSTART:20240310T100000
END:DAYLIGHT
BEGIN:STANDARD
TZOFFSETFROM:-0700
TZOFFSETTO:-0800
TZNAME:PST
DTSTART:20241103T090000
END:STANDARD
BEGIN:DAYLIGHT
TZOFFSETFROM:-0800
TZOFFSETTO:-0700
TZNAME:PDT
DTSTART:20250309T100000
END:DAYLIGHT
BEGIN:STANDARD
TZOFFSETFROM:-0700
TZOFFSETTO:-0800
TZNAME:PST
DTSTART:20251102T090000
END:STANDARD
BEGIN:DAYLIGHT
TZOFFSETFROM:-0800
TZOFFSETTO:-0700
TZNAME:PDT
DTSTART:20260308T100000
END:DAYLIGHT
BEGIN:STANDARD
TZOFFSETFROM:-0700
TZOFFSETTO:-0800
TZNAME:PST
DTSTART:20261101T090000
END:STANDARD
END:VTIMEZONE
BEGIN:VEVENT
DTSTART;TZID=America/Vancouver:20250712T110000
DTEND;TZID=America/Vancouver:20250712T120000
DTSTAMP:20260425T044742
CREATED:20241101T190143Z
LAST-MODIFIED:20241101T193902Z
UID:10000602-1752318000-1752321600@www.vancouversaicentre.org
SUMMARY:Open House
DESCRIPTION:
URL:https://www.vancouversaicentre.org/event/open-house-2/2025-07-12/
LOCATION:Sri Sathya Sai Centre of BC\, 2215\, E Pender St\, Vancouver\, BC\, V5L1X5\, Canada
END:VEVENT
BEGIN:VEVENT
DTSTART;TZID=America/Vancouver:20250628T110000
DTEND;TZID=America/Vancouver:20250628T120000
DTSTAMP:20260425T044742
CREATED:20241101T190143Z
LAST-MODIFIED:20241101T193902Z
UID:10000600-1751108400-1751112000@www.vancouversaicentre.org
SUMMARY:Open House
DESCRIPTION:
URL:https://www.vancouversaicentre.org/event/open-house-2/2025-06-28/
LOCATION:Sri Sathya Sai Centre of BC\, 2215\, E Pender St\, Vancouver\, BC\, V5L1X5\, Canada
END:VEVENT
BEGIN:VEVENT
DTSTART;TZID=America/Vancouver:20250621T110000
DTEND;TZID=America/Vancouver:20250621T120000
DTSTAMP:20260425T044742
CREATED:20241101T190143Z
LAST-MODIFIED:20241101T193902Z
UID:10000599-1750503600-1750507200@www.vancouversaicentre.org
SUMMARY:Open House
DESCRIPTION:
URL:https://www.vancouversaicentre.org/event/open-house-2/2025-06-21/
LOCATION:Sri Sathya Sai Centre of BC\, 2215\, E Pender St\, Vancouver\, BC\, V5L1X5\, Canada
END:VEVENT
BEGIN:VEVENT
DTSTART;TZID=America/Vancouver:20250614T110000
DTEND;TZID=America/Vancouver:20250614T120000
DTSTAMP:20260425T044742
CREATED:20241101T190143Z
LAST-MODIFIED:20241101T193902Z
UID:10000598-1749898800-1749902400@www.vancouversaicentre.org
SUMMARY:Open House
DESCRIPTION:
URL:https://www.vancouversaicentre.org/event/open-house-2/2025-06-14/
LOCATION:Sri Sathya Sai Centre of BC\, 2215\, E Pender St\, Vancouver\, BC\, V5L1X5\, Canada
END:VEVENT
BEGIN:VEVENT
DTSTART;TZID=America/Vancouver:20250607T110000
DTEND;TZID=America/Vancouver:20250607T120000
DTSTAMP:20260425T044742
CREATED:20241101T190143Z
LAST-MODIFIED:20241101T193902Z
UID:10000597-1749294000-1749297600@www.vancouversaicentre.org
SUMMARY:Open House
DESCRIPTION:
URL:https://www.vancouversaicentre.org/event/open-house-2/2025-06-07/
LOCATION:Sri Sathya Sai Centre of BC\, 2215\, E Pender St\, Vancouver\, BC\, V5L1X5\, Canada
END:VEVENT
BEGIN:VEVENT
DTSTART;TZID=America/Vancouver:20250531T110000
DTEND;TZID=America/Vancouver:20250531T120000
DTSTAMP:20260425T044742
CREATED:20241101T190143Z
LAST-MODIFIED:20241101T193902Z
UID:10000596-1748689200-1748692800@www.vancouversaicentre.org
SUMMARY:Open House
DESCRIPTION:
URL:https://www.vancouversaicentre.org/event/open-house-2/2025-05-31/
LOCATION:Sri Sathya Sai Centre of BC\, 2215\, E Pender St\, Vancouver\, BC\, V5L1X5\, Canada
END:VEVENT
BEGIN:VEVENT
DTSTART;TZID=America/Vancouver:20250524T110000
DTEND;TZID=America/Vancouver:20250524T120000
DTSTAMP:20260425T044742
CREATED:20241101T190143Z
LAST-MODIFIED:20241101T193902Z
UID:10000595-1748084400-1748088000@www.vancouversaicentre.org
SUMMARY:Open House
DESCRIPTION:
URL:https://www.vancouversaicentre.org/event/open-house-2/2025-05-24/
LOCATION:Sri Sathya Sai Centre of BC\, 2215\, E Pender St\, Vancouver\, BC\, V5L1X5\, Canada
END:VEVENT
BEGIN:VEVENT
DTSTART;TZID=America/Vancouver:20250517T110000
DTEND;TZID=America/Vancouver:20250517T120000
DTSTAMP:20260425T044742
CREATED:20241101T190143Z
LAST-MODIFIED:20241101T193902Z
UID:10000594-1747479600-1747483200@www.vancouversaicentre.org
SUMMARY:Open House
DESCRIPTION:
URL:https://www.vancouversaicentre.org/event/open-house-2/2025-05-17/
LOCATION:Sri Sathya Sai Centre of BC\, 2215\, E Pender St\, Vancouver\, BC\, V5L1X5\, Canada
END:VEVENT
BEGIN:VEVENT
DTSTART;TZID=America/Vancouver:20250510T110000
DTEND;TZID=America/Vancouver:20250510T120000
DTSTAMP:20260425T044742
CREATED:20241101T190143Z
LAST-MODIFIED:20241101T193902Z
UID:10000593-1746874800-1746878400@www.vancouversaicentre.org
SUMMARY:Open House
DESCRIPTION:
URL:https://www.vancouversaicentre.org/event/open-house-2/2025-05-10/
LOCATION:Sri Sathya Sai Centre of BC\, 2215\, E Pender St\, Vancouver\, BC\, V5L1X5\, Canada
END:VEVENT
BEGIN:VEVENT
DTSTART;TZID=America/Vancouver:20250503T110000
DTEND;TZID=America/Vancouver:20250503T120000
DTSTAMP:20260425T044742
CREATED:20241101T190143Z
LAST-MODIFIED:20241101T193902Z
UID:10000592-1746270000-1746273600@www.vancouversaicentre.org
SUMMARY:Open House
DESCRIPTION:
URL:https://www.vancouversaicentre.org/event/open-house-2/2025-05-03/
LOCATION:Sri Sathya Sai Centre of BC\, 2215\, E Pender St\, Vancouver\, BC\, V5L1X5\, Canada
END:VEVENT
BEGIN:VEVENT
DTSTART;TZID=America/Vancouver:20250426T110000
DTEND;TZID=America/Vancouver:20250426T120000
DTSTAMP:20260425T044742
CREATED:20241101T190143Z
LAST-MODIFIED:20241101T193902Z
UID:10000591-1745665200-1745668800@www.vancouversaicentre.org
SUMMARY:Open House
DESCRIPTION:
URL:https://www.vancouversaicentre.org/event/open-house-2/2025-04-26/
LOCATION:Sri Sathya Sai Centre of BC\, 2215\, E Pender St\, Vancouver\, BC\, V5L1X5\, Canada
END:VEVENT
BEGIN:VEVENT
DTSTART;TZID=America/Vancouver:20250419T110000
DTEND;TZID=America/Vancouver:20250419T120000
DTSTAMP:20260425T044742
CREATED:20241101T190143Z
LAST-MODIFIED:20241101T193902Z
UID:10000590-1745060400-1745064000@www.vancouversaicentre.org
SUMMARY:Open House
DESCRIPTION:
URL:https://www.vancouversaicentre.org/event/open-house-2/2025-04-19/
LOCATION:Sri Sathya Sai Centre of BC\, 2215\, E Pender St\, Vancouver\, BC\, V5L1X5\, Canada
END:VEVENT
BEGIN:VEVENT
DTSTART;TZID=America/Vancouver:20250412T110000
DTEND;TZID=America/Vancouver:20250412T120000
DTSTAMP:20260425T044742
CREATED:20241101T190143Z
LAST-MODIFIED:20241101T193902Z
UID:10000589-1744455600-1744459200@www.vancouversaicentre.org
SUMMARY:Open House
DESCRIPTION:
URL:https://www.vancouversaicentre.org/event/open-house-2/2025-04-12/
LOCATION:Sri Sathya Sai Centre of BC\, 2215\, E Pender St\, Vancouver\, BC\, V5L1X5\, Canada
END:VEVENT
BEGIN:VEVENT
DTSTART;TZID=America/Vancouver:20250405T110000
DTEND;TZID=America/Vancouver:20250405T120000
DTSTAMP:20260425T044742
CREATED:20241101T190143Z
LAST-MODIFIED:20241101T193902Z
UID:10000588-1743850800-1743854400@www.vancouversaicentre.org
SUMMARY:Open House
DESCRIPTION:
URL:https://www.vancouversaicentre.org/event/open-house-2/2025-04-05/
LOCATION:Sri Sathya Sai Centre of BC\, 2215\, E Pender St\, Vancouver\, BC\, V5L1X5\, Canada
END:VEVENT
BEGIN:VEVENT
DTSTART;TZID=America/Vancouver:20250329T110000
DTEND;TZID=America/Vancouver:20250329T120000
DTSTAMP:20260425T044742
CREATED:20241101T190143Z
LAST-MODIFIED:20241101T193902Z
UID:10000587-1743246000-1743249600@www.vancouversaicentre.org
SUMMARY:Open House
DESCRIPTION:
URL:https://www.vancouversaicentre.org/event/open-house-2/2025-03-29/
LOCATION:Sri Sathya Sai Centre of BC\, 2215\, E Pender St\, Vancouver\, BC\, V5L1X5\, Canada
END:VEVENT
BEGIN:VEVENT
DTSTART;TZID=America/Vancouver:20250322T110000
DTEND;TZID=America/Vancouver:20250322T120000
DTSTAMP:20260425T044742
CREATED:20241101T190143Z
LAST-MODIFIED:20241101T193902Z
UID:10000586-1742641200-1742644800@www.vancouversaicentre.org
SUMMARY:Open House
DESCRIPTION:
URL:https://www.vancouversaicentre.org/event/open-house-2/2025-03-22/
LOCATION:Sri Sathya Sai Centre of BC\, 2215\, E Pender St\, Vancouver\, BC\, V5L1X5\, Canada
END:VEVENT
BEGIN:VEVENT
DTSTART;TZID=America/Vancouver:20250315T110000
DTEND;TZID=America/Vancouver:20250315T120000
DTSTAMP:20260425T044742
CREATED:20241101T190143Z
LAST-MODIFIED:20241101T193902Z
UID:10000585-1742036400-1742040000@www.vancouversaicentre.org
SUMMARY:Open House
DESCRIPTION:
URL:https://www.vancouversaicentre.org/event/open-house-2/2025-03-15/
LOCATION:Sri Sathya Sai Centre of BC\, 2215\, E Pender St\, Vancouver\, BC\, V5L1X5\, Canada
END:VEVENT
BEGIN:VEVENT
DTSTART;TZID=America/Vancouver:20250308T110000
DTEND;TZID=America/Vancouver:20250308T120000
DTSTAMP:20260425T044742
CREATED:20241101T190143Z
LAST-MODIFIED:20241101T193902Z
UID:10000584-1741431600-1741435200@www.vancouversaicentre.org
SUMMARY:Open House
DESCRIPTION:
URL:https://www.vancouversaicentre.org/event/open-house-2/2025-03-08/
LOCATION:Sri Sathya Sai Centre of BC\, 2215\, E Pender St\, Vancouver\, BC\, V5L1X5\, Canada
END:VEVENT
BEGIN:VEVENT
DTSTART;TZID=America/Vancouver:20250301T110000
DTEND;TZID=America/Vancouver:20250301T120000
DTSTAMP:20260425T044742
CREATED:20241101T190143Z
LAST-MODIFIED:20241101T193902Z
UID:10000583-1740826800-1740830400@www.vancouversaicentre.org
SUMMARY:Open House
DESCRIPTION:
URL:https://www.vancouversaicentre.org/event/open-house-2/2025-03-01/
LOCATION:Sri Sathya Sai Centre of BC\, 2215\, E Pender St\, Vancouver\, BC\, V5L1X5\, Canada
END:VEVENT
BEGIN:VEVENT
DTSTART;TZID=America/Vancouver:20250222T110000
DTEND;TZID=America/Vancouver:20250222T120000
DTSTAMP:20260425T044742
CREATED:20241101T190143Z
LAST-MODIFIED:20241101T193902Z
UID:10000582-1740222000-1740225600@www.vancouversaicentre.org
SUMMARY:Open House
DESCRIPTION:
URL:https://www.vancouversaicentre.org/event/open-house-2/2025-02-22/
LOCATION:Sri Sathya Sai Centre of BC\, 2215\, E Pender St\, Vancouver\, BC\, V5L1X5\, Canada
END:VEVENT
BEGIN:VEVENT
DTSTART;TZID=America/Vancouver:20250215T110000
DTEND;TZID=America/Vancouver:20250215T120000
DTSTAMP:20260425T044742
CREATED:20241101T190143Z
LAST-MODIFIED:20241101T193902Z
UID:10000581-1739617200-1739620800@www.vancouversaicentre.org
SUMMARY:Open House
DESCRIPTION:
URL:https://www.vancouversaicentre.org/event/open-house-2/2025-02-15/
LOCATION:Sri Sathya Sai Centre of BC\, 2215\, E Pender St\, Vancouver\, BC\, V5L1X5\, Canada
END:VEVENT
BEGIN:VEVENT
DTSTART;TZID=America/Vancouver:20250208T110000
DTEND;TZID=America/Vancouver:20250208T120000
DTSTAMP:20260425T044742
CREATED:20241101T190143Z
LAST-MODIFIED:20241101T193902Z
UID:10000580-1739012400-1739016000@www.vancouversaicentre.org
SUMMARY:Open House
DESCRIPTION:
URL:https://www.vancouversaicentre.org/event/open-house-2/2025-02-08/
LOCATION:Sri Sathya Sai Centre of BC\, 2215\, E Pender St\, Vancouver\, BC\, V5L1X5\, Canada
END:VEVENT
BEGIN:VEVENT
DTSTART;TZID=America/Vancouver:20250201T110000
DTEND;TZID=America/Vancouver:20250201T120000
DTSTAMP:20260425T044742
CREATED:20241101T190143Z
LAST-MODIFIED:20241101T193902Z
UID:10000579-1738407600-1738411200@www.vancouversaicentre.org
SUMMARY:Open House
DESCRIPTION:
URL:https://www.vancouversaicentre.org/event/open-house-2/2025-02-01/
LOCATION:Sri Sathya Sai Centre of BC\, 2215\, E Pender St\, Vancouver\, BC\, V5L1X5\, Canada
END:VEVENT
BEGIN:VEVENT
DTSTART;TZID=America/Vancouver:20250125T110000
DTEND;TZID=America/Vancouver:20250125T120000
DTSTAMP:20260425T044742
CREATED:20241101T190143Z
LAST-MODIFIED:20241101T193902Z
UID:10000578-1737802800-1737806400@www.vancouversaicentre.org
SUMMARY:Open House
DESCRIPTION:
URL:https://www.vancouversaicentre.org/event/open-house-2/2025-01-25/
LOCATION:Sri Sathya Sai Centre of BC\, 2215\, E Pender St\, Vancouver\, BC\, V5L1X5\, Canada
END:VEVENT
BEGIN:VEVENT
DTSTART;TZID=America/Vancouver:20250118T110000
DTEND;TZID=America/Vancouver:20250118T120000
DTSTAMP:20260425T044742
CREATED:20241101T190143Z
LAST-MODIFIED:20241101T193902Z
UID:10000577-1737198000-1737201600@www.vancouversaicentre.org
SUMMARY:Open House
DESCRIPTION:
URL:https://www.vancouversaicentre.org/event/open-house-2/2025-01-18/
LOCATION:Sri Sathya Sai Centre of BC\, 2215\, E Pender St\, Vancouver\, BC\, V5L1X5\, Canada
END:VEVENT
BEGIN:VEVENT
DTSTART;TZID=America/Vancouver:20250111T110000
DTEND;TZID=America/Vancouver:20250111T120000
DTSTAMP:20260425T044742
CREATED:20241101T190143Z
LAST-MODIFIED:20241101T193902Z
UID:10000576-1736593200-1736596800@www.vancouversaicentre.org
SUMMARY:Open House
DESCRIPTION:
URL:https://www.vancouversaicentre.org/event/open-house-2/2025-01-11/
LOCATION:Sri Sathya Sai Centre of BC\, 2215\, E Pender St\, Vancouver\, BC\, V5L1X5\, Canada
END:VEVENT
BEGIN:VEVENT
DTSTART;TZID=America/Vancouver:20241228T110000
DTEND;TZID=America/Vancouver:20241228T120000
DTSTAMP:20260425T044742
CREATED:20241101T190143Z
LAST-MODIFIED:20241101T193902Z
UID:10000574-1735383600-1735387200@www.vancouversaicentre.org
SUMMARY:Open House
DESCRIPTION:
URL:https://www.vancouversaicentre.org/event/open-house-2/2024-12-28/
LOCATION:Sri Sathya Sai Centre of BC\, 2215\, E Pender St\, Vancouver\, BC\, V5L1X5\, Canada
END:VEVENT
BEGIN:VEVENT
DTSTART;TZID=America/Vancouver:20241221T110000
DTEND;TZID=America/Vancouver:20241221T120000
DTSTAMP:20260425T044742
CREATED:20241101T190143Z
LAST-MODIFIED:20241101T193902Z
UID:10000573-1734778800-1734782400@www.vancouversaicentre.org
SUMMARY:Open House
DESCRIPTION:
URL:https://www.vancouversaicentre.org/event/open-house-2/2024-12-21/
LOCATION:Sri Sathya Sai Centre of BC\, 2215\, E Pender St\, Vancouver\, BC\, V5L1X5\, Canada
END:VEVENT
BEGIN:VEVENT
DTSTART;TZID=America/Vancouver:20241214T110000
DTEND;TZID=America/Vancouver:20241214T120000
DTSTAMP:20260425T044742
CREATED:20241101T190143Z
LAST-MODIFIED:20241101T193902Z
UID:10000572-1734174000-1734177600@www.vancouversaicentre.org
SUMMARY:Open House
DESCRIPTION:
URL:https://www.vancouversaicentre.org/event/open-house-2/2024-12-14/
LOCATION:Sri Sathya Sai Centre of BC\, 2215\, E Pender St\, Vancouver\, BC\, V5L1X5\, Canada
END:VEVENT
BEGIN:VEVENT
DTSTART;TZID=America/Vancouver:20241207T110000
DTEND;TZID=America/Vancouver:20241207T120000
DTSTAMP:20260425T044742
CREATED:20241101T190143Z
LAST-MODIFIED:20241101T193902Z
UID:10000571-1733569200-1733572800@www.vancouversaicentre.org
SUMMARY:Open House
DESCRIPTION:
URL:https://www.vancouversaicentre.org/event/open-house-2/2024-12-07/
LOCATION:Sri Sathya Sai Centre of BC\, 2215\, E Pender St\, Vancouver\, BC\, V5L1X5\, Canada
END:VEVENT
END:VCALENDAR