BEGIN:VCALENDAR
VERSION:2.0
PRODID:-//Sri Sathya Sai Community Centre of British Columbia - ECPv6.15.20//NONSGML v1.0//EN
CALSCALE:GREGORIAN
METHOD:PUBLISH
X-WR-CALNAME:Sri Sathya Sai Community Centre of British Columbia
X-ORIGINAL-URL:https://www.vancouversaicentre.org
X-WR-CALDESC:Events for Sri Sathya Sai Community Centre of British Columbia
REFRESH-INTERVAL;VALUE=DURATION:PT1H
X-Robots-Tag:noindex
X-PUBLISHED-TTL:PT1H
BEGIN:VTIMEZONE
TZID:America/Vancouver
BEGIN:DAYLIGHT
TZOFFSETFROM:-0800
TZOFFSETTO:-0700
TZNAME:PDT
DTSTART:20260308T100000
END:DAYLIGHT
BEGIN:STANDARD
TZOFFSETFROM:-0700
TZOFFSETTO:-0800
TZNAME:PST
DTSTART:20261101T090000
END:STANDARD
BEGIN:DAYLIGHT
TZOFFSETFROM:-0800
TZOFFSETTO:-0700
TZNAME:PDT
DTSTART:20270314T100000
END:DAYLIGHT
BEGIN:STANDARD
TZOFFSETFROM:-0700
TZOFFSETTO:-0800
TZNAME:PST
DTSTART:20271107T090000
END:STANDARD
BEGIN:DAYLIGHT
TZOFFSETFROM:-0800
TZOFFSETTO:-0700
TZNAME:PDT
DTSTART:20280312T100000
END:DAYLIGHT
BEGIN:STANDARD
TZOFFSETFROM:-0700
TZOFFSETTO:-0800
TZNAME:PST
DTSTART:20281105T090000
END:STANDARD
END:VTIMEZONE
BEGIN:VEVENT
DTSTART;TZID=America/Vancouver:20270410T110000
DTEND;TZID=America/Vancouver:20270410T120000
DTSTAMP:20260423T160129
CREATED:20241101T190143Z
LAST-MODIFIED:20241101T193902Z
UID:10000693-1807354800-1807358400@www.vancouversaicentre.org
SUMMARY:Open House
DESCRIPTION:
URL:https://www.vancouversaicentre.org/event/open-house-2/2027-04-10/
LOCATION:Sri Sathya Sai Centre of BC\, 2215\, E Pender St\, Vancouver\, BC\, V5L1X5\, Canada
END:VEVENT
BEGIN:VEVENT
DTSTART;TZID=America/Vancouver:20270417T110000
DTEND;TZID=America/Vancouver:20270417T120000
DTSTAMP:20260423T160129
CREATED:20241101T190143Z
LAST-MODIFIED:20241101T193902Z
UID:10000694-1807959600-1807963200@www.vancouversaicentre.org
SUMMARY:Open House
DESCRIPTION:
URL:https://www.vancouversaicentre.org/event/open-house-2/2027-04-17/
LOCATION:Sri Sathya Sai Centre of BC\, 2215\, E Pender St\, Vancouver\, BC\, V5L1X5\, Canada
END:VEVENT
BEGIN:VEVENT
DTSTART;TZID=America/Vancouver:20270424T110000
DTEND;TZID=America/Vancouver:20270424T120000
DTSTAMP:20260423T160129
CREATED:20241101T190143Z
LAST-MODIFIED:20241101T193902Z
UID:10000695-1808564400-1808568000@www.vancouversaicentre.org
SUMMARY:Open House
DESCRIPTION:
URL:https://www.vancouversaicentre.org/event/open-house-2/2027-04-24/
LOCATION:Sri Sathya Sai Centre of BC\, 2215\, E Pender St\, Vancouver\, BC\, V5L1X5\, Canada
END:VEVENT
BEGIN:VEVENT
DTSTART;TZID=America/Vancouver:20270501T110000
DTEND;TZID=America/Vancouver:20270501T120000
DTSTAMP:20260423T160129
CREATED:20241101T190143Z
LAST-MODIFIED:20241101T193902Z
UID:10000696-1809169200-1809172800@www.vancouversaicentre.org
SUMMARY:Open House
DESCRIPTION:
URL:https://www.vancouversaicentre.org/event/open-house-2/2027-05-01/
LOCATION:Sri Sathya Sai Centre of BC\, 2215\, E Pender St\, Vancouver\, BC\, V5L1X5\, Canada
END:VEVENT
BEGIN:VEVENT
DTSTART;TZID=America/Vancouver:20270508T110000
DTEND;TZID=America/Vancouver:20270508T120000
DTSTAMP:20260423T160129
CREATED:20241101T190143Z
LAST-MODIFIED:20241101T193902Z
UID:10000697-1809774000-1809777600@www.vancouversaicentre.org
SUMMARY:Open House
DESCRIPTION:
URL:https://www.vancouversaicentre.org/event/open-house-2/2027-05-08/
LOCATION:Sri Sathya Sai Centre of BC\, 2215\, E Pender St\, Vancouver\, BC\, V5L1X5\, Canada
END:VEVENT
BEGIN:VEVENT
DTSTART;TZID=America/Vancouver:20270515T110000
DTEND;TZID=America/Vancouver:20270515T120000
DTSTAMP:20260423T160129
CREATED:20241101T190143Z
LAST-MODIFIED:20241101T193902Z
UID:10000698-1810378800-1810382400@www.vancouversaicentre.org
SUMMARY:Open House
DESCRIPTION:
URL:https://www.vancouversaicentre.org/event/open-house-2/2027-05-15/
LOCATION:Sri Sathya Sai Centre of BC\, 2215\, E Pender St\, Vancouver\, BC\, V5L1X5\, Canada
END:VEVENT
BEGIN:VEVENT
DTSTART;TZID=America/Vancouver:20270522T110000
DTEND;TZID=America/Vancouver:20270522T120000
DTSTAMP:20260423T160129
CREATED:20241101T190143Z
LAST-MODIFIED:20241101T193902Z
UID:10000699-1810983600-1810987200@www.vancouversaicentre.org
SUMMARY:Open House
DESCRIPTION:
URL:https://www.vancouversaicentre.org/event/open-house-2/2027-05-22/
LOCATION:Sri Sathya Sai Centre of BC\, 2215\, E Pender St\, Vancouver\, BC\, V5L1X5\, Canada
END:VEVENT
BEGIN:VEVENT
DTSTART;TZID=America/Vancouver:20270529T110000
DTEND;TZID=America/Vancouver:20270529T120000
DTSTAMP:20260423T160129
CREATED:20241101T190143Z
LAST-MODIFIED:20241101T193902Z
UID:10000700-1811588400-1811592000@www.vancouversaicentre.org
SUMMARY:Open House
DESCRIPTION:
URL:https://www.vancouversaicentre.org/event/open-house-2/2027-05-29/
LOCATION:Sri Sathya Sai Centre of BC\, 2215\, E Pender St\, Vancouver\, BC\, V5L1X5\, Canada
END:VEVENT
BEGIN:VEVENT
DTSTART;TZID=America/Vancouver:20270605T110000
DTEND;TZID=America/Vancouver:20270605T120000
DTSTAMP:20260423T160129
CREATED:20241101T190143Z
LAST-MODIFIED:20241101T193902Z
UID:10000701-1812193200-1812196800@www.vancouversaicentre.org
SUMMARY:Open House
DESCRIPTION:
URL:https://www.vancouversaicentre.org/event/open-house-2/2027-06-05/
LOCATION:Sri Sathya Sai Centre of BC\, 2215\, E Pender St\, Vancouver\, BC\, V5L1X5\, Canada
END:VEVENT
BEGIN:VEVENT
DTSTART;TZID=America/Vancouver:20270612T110000
DTEND;TZID=America/Vancouver:20270612T120000
DTSTAMP:20260423T160129
CREATED:20241101T190143Z
LAST-MODIFIED:20241101T193902Z
UID:10000702-1812798000-1812801600@www.vancouversaicentre.org
SUMMARY:Open House
DESCRIPTION:
URL:https://www.vancouversaicentre.org/event/open-house-2/2027-06-12/
LOCATION:Sri Sathya Sai Centre of BC\, 2215\, E Pender St\, Vancouver\, BC\, V5L1X5\, Canada
END:VEVENT
BEGIN:VEVENT
DTSTART;TZID=America/Vancouver:20270619T110000
DTEND;TZID=America/Vancouver:20270619T120000
DTSTAMP:20260423T160129
CREATED:20241101T190143Z
LAST-MODIFIED:20241101T193902Z
UID:10000703-1813402800-1813406400@www.vancouversaicentre.org
SUMMARY:Open House
DESCRIPTION:
URL:https://www.vancouversaicentre.org/event/open-house-2/2027-06-19/
LOCATION:Sri Sathya Sai Centre of BC\, 2215\, E Pender St\, Vancouver\, BC\, V5L1X5\, Canada
END:VEVENT
BEGIN:VEVENT
DTSTART;TZID=America/Vancouver:20270626T110000
DTEND;TZID=America/Vancouver:20270626T120000
DTSTAMP:20260423T160129
CREATED:20241101T190143Z
LAST-MODIFIED:20241101T193902Z
UID:10000704-1814007600-1814011200@www.vancouversaicentre.org
SUMMARY:Open House
DESCRIPTION:
URL:https://www.vancouversaicentre.org/event/open-house-2/2027-06-26/
LOCATION:Sri Sathya Sai Centre of BC\, 2215\, E Pender St\, Vancouver\, BC\, V5L1X5\, Canada
END:VEVENT
BEGIN:VEVENT
DTSTART;TZID=America/Vancouver:20270703T110000
DTEND;TZID=America/Vancouver:20270703T120000
DTSTAMP:20260423T160129
CREATED:20241101T190143Z
LAST-MODIFIED:20241101T193902Z
UID:10000705-1814612400-1814616000@www.vancouversaicentre.org
SUMMARY:Open House
DESCRIPTION:
URL:https://www.vancouversaicentre.org/event/open-house-2/2027-07-03/
LOCATION:Sri Sathya Sai Centre of BC\, 2215\, E Pender St\, Vancouver\, BC\, V5L1X5\, Canada
END:VEVENT
BEGIN:VEVENT
DTSTART;TZID=America/Vancouver:20270710T110000
DTEND;TZID=America/Vancouver:20270710T120000
DTSTAMP:20260423T160129
CREATED:20241101T190143Z
LAST-MODIFIED:20241101T193902Z
UID:10000706-1815217200-1815220800@www.vancouversaicentre.org
SUMMARY:Open House
DESCRIPTION:
URL:https://www.vancouversaicentre.org/event/open-house-2/2027-07-10/
LOCATION:Sri Sathya Sai Centre of BC\, 2215\, E Pender St\, Vancouver\, BC\, V5L1X5\, Canada
END:VEVENT
BEGIN:VEVENT
DTSTART;TZID=America/Vancouver:20270717T110000
DTEND;TZID=America/Vancouver:20270717T120000
DTSTAMP:20260423T160129
CREATED:20241101T190143Z
LAST-MODIFIED:20241101T193902Z
UID:10000707-1815822000-1815825600@www.vancouversaicentre.org
SUMMARY:Open House
DESCRIPTION:
URL:https://www.vancouversaicentre.org/event/open-house-2/2027-07-17/
LOCATION:Sri Sathya Sai Centre of BC\, 2215\, E Pender St\, Vancouver\, BC\, V5L1X5\, Canada
END:VEVENT
BEGIN:VEVENT
DTSTART;TZID=America/Vancouver:20270724T110000
DTEND;TZID=America/Vancouver:20270724T120000
DTSTAMP:20260423T160129
CREATED:20241101T190143Z
LAST-MODIFIED:20241101T193902Z
UID:10000708-1816426800-1816430400@www.vancouversaicentre.org
SUMMARY:Open House
DESCRIPTION:
URL:https://www.vancouversaicentre.org/event/open-house-2/2027-07-24/
LOCATION:Sri Sathya Sai Centre of BC\, 2215\, E Pender St\, Vancouver\, BC\, V5L1X5\, Canada
END:VEVENT
BEGIN:VEVENT
DTSTART;TZID=America/Vancouver:20270731T110000
DTEND;TZID=America/Vancouver:20270731T120000
DTSTAMP:20260423T160129
CREATED:20241101T190143Z
LAST-MODIFIED:20241101T193902Z
UID:10000709-1817031600-1817035200@www.vancouversaicentre.org
SUMMARY:Open House
DESCRIPTION:
URL:https://www.vancouversaicentre.org/event/open-house-2/2027-07-31/
LOCATION:Sri Sathya Sai Centre of BC\, 2215\, E Pender St\, Vancouver\, BC\, V5L1X5\, Canada
END:VEVENT
BEGIN:VEVENT
DTSTART;TZID=America/Vancouver:20270807T110000
DTEND;TZID=America/Vancouver:20270807T120000
DTSTAMP:20260423T160129
CREATED:20241101T190143Z
LAST-MODIFIED:20241101T193902Z
UID:10000710-1817636400-1817640000@www.vancouversaicentre.org
SUMMARY:Open House
DESCRIPTION:
URL:https://www.vancouversaicentre.org/event/open-house-2/2027-08-07/
LOCATION:Sri Sathya Sai Centre of BC\, 2215\, E Pender St\, Vancouver\, BC\, V5L1X5\, Canada
END:VEVENT
BEGIN:VEVENT
DTSTART;TZID=America/Vancouver:20270814T110000
DTEND;TZID=America/Vancouver:20270814T120000
DTSTAMP:20260423T160129
CREATED:20241101T190143Z
LAST-MODIFIED:20241101T193902Z
UID:10000711-1818241200-1818244800@www.vancouversaicentre.org
SUMMARY:Open House
DESCRIPTION:
URL:https://www.vancouversaicentre.org/event/open-house-2/2027-08-14/
LOCATION:Sri Sathya Sai Centre of BC\, 2215\, E Pender St\, Vancouver\, BC\, V5L1X5\, Canada
END:VEVENT
BEGIN:VEVENT
DTSTART;TZID=America/Vancouver:20270821T110000
DTEND;TZID=America/Vancouver:20270821T120000
DTSTAMP:20260423T160129
CREATED:20241101T190143Z
LAST-MODIFIED:20241101T193902Z
UID:10000712-1818846000-1818849600@www.vancouversaicentre.org
SUMMARY:Open House
DESCRIPTION:
URL:https://www.vancouversaicentre.org/event/open-house-2/2027-08-21/
LOCATION:Sri Sathya Sai Centre of BC\, 2215\, E Pender St\, Vancouver\, BC\, V5L1X5\, Canada
END:VEVENT
BEGIN:VEVENT
DTSTART;TZID=America/Vancouver:20270828T110000
DTEND;TZID=America/Vancouver:20270828T120000
DTSTAMP:20260423T160129
CREATED:20241101T190143Z
LAST-MODIFIED:20241101T193902Z
UID:10000713-1819450800-1819454400@www.vancouversaicentre.org
SUMMARY:Open House
DESCRIPTION:
URL:https://www.vancouversaicentre.org/event/open-house-2/2027-08-28/
LOCATION:Sri Sathya Sai Centre of BC\, 2215\, E Pender St\, Vancouver\, BC\, V5L1X5\, Canada
END:VEVENT
BEGIN:VEVENT
DTSTART;TZID=America/Vancouver:20270904T110000
DTEND;TZID=America/Vancouver:20270904T120000
DTSTAMP:20260423T160129
CREATED:20241101T190143Z
LAST-MODIFIED:20241101T193902Z
UID:10000714-1820055600-1820059200@www.vancouversaicentre.org
SUMMARY:Open House
DESCRIPTION:
URL:https://www.vancouversaicentre.org/event/open-house-2/2027-09-04/
LOCATION:Sri Sathya Sai Centre of BC\, 2215\, E Pender St\, Vancouver\, BC\, V5L1X5\, Canada
END:VEVENT
BEGIN:VEVENT
DTSTART;TZID=America/Vancouver:20270911T110000
DTEND;TZID=America/Vancouver:20270911T120000
DTSTAMP:20260423T160129
CREATED:20241101T190143Z
LAST-MODIFIED:20241101T193902Z
UID:10000715-1820660400-1820664000@www.vancouversaicentre.org
SUMMARY:Open House
DESCRIPTION:
URL:https://www.vancouversaicentre.org/event/open-house-2/2027-09-11/
LOCATION:Sri Sathya Sai Centre of BC\, 2215\, E Pender St\, Vancouver\, BC\, V5L1X5\, Canada
END:VEVENT
BEGIN:VEVENT
DTSTART;TZID=America/Vancouver:20270918T110000
DTEND;TZID=America/Vancouver:20270918T120000
DTSTAMP:20260423T160129
CREATED:20241101T190143Z
LAST-MODIFIED:20241101T193902Z
UID:10000716-1821265200-1821268800@www.vancouversaicentre.org
SUMMARY:Open House
DESCRIPTION:
URL:https://www.vancouversaicentre.org/event/open-house-2/2027-09-18/
LOCATION:Sri Sathya Sai Centre of BC\, 2215\, E Pender St\, Vancouver\, BC\, V5L1X5\, Canada
END:VEVENT
BEGIN:VEVENT
DTSTART;TZID=America/Vancouver:20270925T110000
DTEND;TZID=America/Vancouver:20270925T120000
DTSTAMP:20260423T160129
CREATED:20241101T190143Z
LAST-MODIFIED:20241101T193902Z
UID:10000717-1821870000-1821873600@www.vancouversaicentre.org
SUMMARY:Open House
DESCRIPTION:
URL:https://www.vancouversaicentre.org/event/open-house-2/2027-09-25/
LOCATION:Sri Sathya Sai Centre of BC\, 2215\, E Pender St\, Vancouver\, BC\, V5L1X5\, Canada
END:VEVENT
BEGIN:VEVENT
DTSTART;TZID=America/Vancouver:20271002T110000
DTEND;TZID=America/Vancouver:20271002T120000
DTSTAMP:20260423T160129
CREATED:20241101T190143Z
LAST-MODIFIED:20241101T193902Z
UID:10000718-1822474800-1822478400@www.vancouversaicentre.org
SUMMARY:Open House
DESCRIPTION:
URL:https://www.vancouversaicentre.org/event/open-house-2/2027-10-02/
LOCATION:Sri Sathya Sai Centre of BC\, 2215\, E Pender St\, Vancouver\, BC\, V5L1X5\, Canada
END:VEVENT
BEGIN:VEVENT
DTSTART;TZID=America/Vancouver:20271009T110000
DTEND;TZID=America/Vancouver:20271009T120000
DTSTAMP:20260423T160129
CREATED:20241101T190143Z
LAST-MODIFIED:20241101T193902Z
UID:10000719-1823079600-1823083200@www.vancouversaicentre.org
SUMMARY:Open House
DESCRIPTION:
URL:https://www.vancouversaicentre.org/event/open-house-2/2027-10-09/
LOCATION:Sri Sathya Sai Centre of BC\, 2215\, E Pender St\, Vancouver\, BC\, V5L1X5\, Canada
END:VEVENT
BEGIN:VEVENT
DTSTART;TZID=America/Vancouver:20271016T110000
DTEND;TZID=America/Vancouver:20271016T120000
DTSTAMP:20260423T160129
CREATED:20241101T190143Z
LAST-MODIFIED:20241101T193902Z
UID:10000720-1823684400-1823688000@www.vancouversaicentre.org
SUMMARY:Open House
DESCRIPTION:
URL:https://www.vancouversaicentre.org/event/open-house-2/2027-10-16/
LOCATION:Sri Sathya Sai Centre of BC\, 2215\, E Pender St\, Vancouver\, BC\, V5L1X5\, Canada
END:VEVENT
BEGIN:VEVENT
DTSTART;TZID=America/Vancouver:20271023T110000
DTEND;TZID=America/Vancouver:20271023T120000
DTSTAMP:20260423T160129
CREATED:20241101T190143Z
LAST-MODIFIED:20241101T193902Z
UID:10000721-1824289200-1824292800@www.vancouversaicentre.org
SUMMARY:Open House
DESCRIPTION:
URL:https://www.vancouversaicentre.org/event/open-house-2/2027-10-23/
LOCATION:Sri Sathya Sai Centre of BC\, 2215\, E Pender St\, Vancouver\, BC\, V5L1X5\, Canada
END:VEVENT
BEGIN:VEVENT
DTSTART;TZID=America/Vancouver:20271030T110000
DTEND;TZID=America/Vancouver:20271030T120000
DTSTAMP:20260423T160129
CREATED:20241101T190143Z
LAST-MODIFIED:20241101T193902Z
UID:10000722-1824894000-1824897600@www.vancouversaicentre.org
SUMMARY:Open House
DESCRIPTION:
URL:https://www.vancouversaicentre.org/event/open-house-2/2027-10-30/
LOCATION:Sri Sathya Sai Centre of BC\, 2215\, E Pender St\, Vancouver\, BC\, V5L1X5\, Canada
END:VEVENT
END:VCALENDAR